BEGIN:VCALENDAR
VERSION:2.0
PRODID:-//SRDA-Rec2 - ECPv6.15.20//NONSGML v1.0//EN
CALSCALE:GREGORIAN
METHOD:PUBLISH
X-ORIGINAL-URL:https://srda-rec.org
X-WR-CALDESC:Events for SRDA-Rec2
REFRESH-INTERVAL;VALUE=DURATION:PT1H
X-Robots-Tag:noindex
X-PUBLISHED-TTL:PT1H
BEGIN:VTIMEZONE
TZID:UTC
BEGIN:STANDARD
TZOFFSETFROM:+0000
TZOFFSETTO:+0000
TZNAME:UTC
DTSTART:20250101T000000
END:STANDARD
END:VTIMEZONE
BEGIN:VEVENT
DTSTART;TZID=UTC:20260526T090000
DTEND;TZID=UTC:20260526T100000
DTSTAMP:20260421T092333
CREATED:20260407T232221Z
LAST-MODIFIED:20260420T183933Z
UID:10000014-1779786000-1779789600@srda-rec.org
SUMMARY:Walk With Ease
DESCRIPTION:This is a complete program to help arthritis sufferers to manage their symptoms.
URL:https://srda-rec.org/event/walk-with-ease/2026-05-26/
LOCATION:SRDA Second Floor\, 250 N Union Ave\, Pueblo\, CO\, 81003\, United States
CATEGORIES:Groups,Wellness
ATTACH;FMTTYPE=image/webp:https://srda-rec.org/wp-content/uploads/2026/04/Walkers-Stock-1.webp
ORGANIZER;CN="SRDA-Recreation Dept.":MAILTO:recadmin@srda-rec.com
END:VEVENT
END:VCALENDAR