BEGIN:VCALENDAR
VERSION:2.0
PRODID:-//SRDA-Rec2 - ECPv6.15.20//NONSGML v1.0//EN
CALSCALE:GREGORIAN
METHOD:PUBLISH
X-ORIGINAL-URL:https://srda-rec.org
X-WR-CALDESC:Events for SRDA-Rec2
REFRESH-INTERVAL;VALUE=DURATION:PT1H
X-Robots-Tag:noindex
X-PUBLISHED-TTL:PT1H
BEGIN:VTIMEZONE
TZID:America/Denver
BEGIN:DAYLIGHT
TZOFFSETFROM:-0700
TZOFFSETTO:-0600
TZNAME:MDT
DTSTART:20280312T090000
END:DAYLIGHT
BEGIN:STANDARD
TZOFFSETFROM:-0600
TZOFFSETTO:-0700
TZNAME:MST
DTSTART:20281105T080000
END:STANDARD
BEGIN:DAYLIGHT
TZOFFSETFROM:-0700
TZOFFSETTO:-0600
TZNAME:MDT
DTSTART:20290311T090000
END:DAYLIGHT
BEGIN:STANDARD
TZOFFSETFROM:-0600
TZOFFSETTO:-0700
TZNAME:MST
DTSTART:20291104T080000
END:STANDARD
BEGIN:DAYLIGHT
TZOFFSETFROM:-0700
TZOFFSETTO:-0600
TZNAME:MDT
DTSTART:20300310T090000
END:DAYLIGHT
BEGIN:STANDARD
TZOFFSETFROM:-0600
TZOFFSETTO:-0700
TZNAME:MST
DTSTART:20301103T080000
END:STANDARD
END:VTIMEZONE
BEGIN:VEVENT
DTSTART;TZID=America/Denver:20290306T000000
DTEND;TZID=America/Denver:20290306T000100
DTSTAMP:20260422T205400
CREATED:20260420T225749Z
LAST-MODIFIED:20260420T225751Z
UID:10000710-1867449600-1867449660@srda-rec.org
SUMMARY:Meditation
DESCRIPTION:Your weekly meditation… Wish I knew more
URL:https://srda-rec.org/event/meditation/2029-03-06/
LOCATION:SRDA Second Floor\, 250 N Union Ave\, Pueblo\, CO\, 81003\, United States
CATEGORIES:Wellness
ATTACH;FMTTYPE=image/jpeg:https://srda-rec.org/wp-content/uploads/2026/04/service1-1-1.jpg
END:VEVENT
BEGIN:VEVENT
DTSTART;TZID=America/Denver:20290306T033000
DTEND;TZID=America/Denver:20290306T040000
DTSTAMP:20260422T205400
CREATED:20260420T232444Z
LAST-MODIFIED:20260420T232706Z
UID:10000971-1867462200-1867464000@srda-rec.org
SUMMARY:Mahjong
DESCRIPTION:Mahjong is a strategic\, four-player tile game often compared to Rummy\, where players race to build a winning hand of 14 tiles consisting of four melds (sets of three or four matching tiles) and one pair. Originating in 19th-century China\, it blends luck with deep probability and defensive strategy\, as players must balance forming their own high-scoring combinations while discarding tiles that won’t help opponents win. The game involves drawing and discarding tiles from a “wall” until one player successfully calls “Mahjong!”\, ending the round.
URL:https://srda-rec.org/event/mahjong/2029-03-06/
LOCATION:SRDA Second Floor\, 250 N Union Ave\, Pueblo\, CO\, 81003\, United States
CATEGORIES:Recreation & Support
ATTACH;FMTTYPE=image/webp:https://srda-rec.org/wp-content/uploads/2026/04/mahjong.webp
END:VEVENT
BEGIN:VEVENT
DTSTART;TZID=America/Denver:20290313T000000
DTEND;TZID=America/Denver:20290313T000100
DTSTAMP:20260422T205400
CREATED:20260420T225749Z
LAST-MODIFIED:20260420T225751Z
UID:10000711-1868054400-1868054460@srda-rec.org
SUMMARY:Meditation
DESCRIPTION:Your weekly meditation… Wish I knew more
URL:https://srda-rec.org/event/meditation/2029-03-13/
LOCATION:SRDA Second Floor\, 250 N Union Ave\, Pueblo\, CO\, 81003\, United States
CATEGORIES:Wellness
ATTACH;FMTTYPE=image/jpeg:https://srda-rec.org/wp-content/uploads/2026/04/service1-1-1.jpg
END:VEVENT
BEGIN:VEVENT
DTSTART;TZID=America/Denver:20290313T033000
DTEND;TZID=America/Denver:20290313T040000
DTSTAMP:20260422T205400
CREATED:20260420T232444Z
LAST-MODIFIED:20260420T232706Z
UID:10000972-1868067000-1868068800@srda-rec.org
SUMMARY:Mahjong
DESCRIPTION:Mahjong is a strategic\, four-player tile game often compared to Rummy\, where players race to build a winning hand of 14 tiles consisting of four melds (sets of three or four matching tiles) and one pair. Originating in 19th-century China\, it blends luck with deep probability and defensive strategy\, as players must balance forming their own high-scoring combinations while discarding tiles that won’t help opponents win. The game involves drawing and discarding tiles from a “wall” until one player successfully calls “Mahjong!”\, ending the round.
URL:https://srda-rec.org/event/mahjong/2029-03-13/
LOCATION:SRDA Second Floor\, 250 N Union Ave\, Pueblo\, CO\, 81003\, United States
CATEGORIES:Recreation & Support
ATTACH;FMTTYPE=image/webp:https://srda-rec.org/wp-content/uploads/2026/04/mahjong.webp
END:VEVENT
BEGIN:VEVENT
DTSTART;TZID=America/Denver:20290320T000000
DTEND;TZID=America/Denver:20290320T000100
DTSTAMP:20260422T205400
CREATED:20260420T225749Z
LAST-MODIFIED:20260420T225751Z
UID:10000712-1868659200-1868659260@srda-rec.org
SUMMARY:Meditation
DESCRIPTION:Your weekly meditation… Wish I knew more
URL:https://srda-rec.org/event/meditation/2029-03-20/
LOCATION:SRDA Second Floor\, 250 N Union Ave\, Pueblo\, CO\, 81003\, United States
CATEGORIES:Wellness
ATTACH;FMTTYPE=image/jpeg:https://srda-rec.org/wp-content/uploads/2026/04/service1-1-1.jpg
END:VEVENT
BEGIN:VEVENT
DTSTART;TZID=America/Denver:20290320T033000
DTEND;TZID=America/Denver:20290320T040000
DTSTAMP:20260422T205400
CREATED:20260420T232444Z
LAST-MODIFIED:20260420T232706Z
UID:10000973-1868671800-1868673600@srda-rec.org
SUMMARY:Mahjong
DESCRIPTION:Mahjong is a strategic\, four-player tile game often compared to Rummy\, where players race to build a winning hand of 14 tiles consisting of four melds (sets of three or four matching tiles) and one pair. Originating in 19th-century China\, it blends luck with deep probability and defensive strategy\, as players must balance forming their own high-scoring combinations while discarding tiles that won’t help opponents win. The game involves drawing and discarding tiles from a “wall” until one player successfully calls “Mahjong!”\, ending the round.
URL:https://srda-rec.org/event/mahjong/2029-03-20/
LOCATION:SRDA Second Floor\, 250 N Union Ave\, Pueblo\, CO\, 81003\, United States
CATEGORIES:Recreation & Support
ATTACH;FMTTYPE=image/webp:https://srda-rec.org/wp-content/uploads/2026/04/mahjong.webp
END:VEVENT
BEGIN:VEVENT
DTSTART;TZID=America/Denver:20290327T000000
DTEND;TZID=America/Denver:20290327T000100
DTSTAMP:20260422T205400
CREATED:20260420T225749Z
LAST-MODIFIED:20260420T225751Z
UID:10000713-1869264000-1869264060@srda-rec.org
SUMMARY:Meditation
DESCRIPTION:Your weekly meditation… Wish I knew more
URL:https://srda-rec.org/event/meditation/2029-03-27/
LOCATION:SRDA Second Floor\, 250 N Union Ave\, Pueblo\, CO\, 81003\, United States
CATEGORIES:Wellness
ATTACH;FMTTYPE=image/jpeg:https://srda-rec.org/wp-content/uploads/2026/04/service1-1-1.jpg
END:VEVENT
BEGIN:VEVENT
DTSTART;TZID=America/Denver:20290327T033000
DTEND;TZID=America/Denver:20290327T040000
DTSTAMP:20260422T205400
CREATED:20260420T232444Z
LAST-MODIFIED:20260420T232706Z
UID:10000974-1869276600-1869278400@srda-rec.org
SUMMARY:Mahjong
DESCRIPTION:Mahjong is a strategic\, four-player tile game often compared to Rummy\, where players race to build a winning hand of 14 tiles consisting of four melds (sets of three or four matching tiles) and one pair. Originating in 19th-century China\, it blends luck with deep probability and defensive strategy\, as players must balance forming their own high-scoring combinations while discarding tiles that won’t help opponents win. The game involves drawing and discarding tiles from a “wall” until one player successfully calls “Mahjong!”\, ending the round.
URL:https://srda-rec.org/event/mahjong/2029-03-27/
LOCATION:SRDA Second Floor\, 250 N Union Ave\, Pueblo\, CO\, 81003\, United States
CATEGORIES:Recreation & Support
ATTACH;FMTTYPE=image/webp:https://srda-rec.org/wp-content/uploads/2026/04/mahjong.webp
END:VEVENT
BEGIN:VEVENT
DTSTART;TZID=America/Denver:20290403T000000
DTEND;TZID=America/Denver:20290403T000100
DTSTAMP:20260422T205400
CREATED:20260420T225749Z
LAST-MODIFIED:20260420T225751Z
UID:10000714-1869868800-1869868860@srda-rec.org
SUMMARY:Meditation
DESCRIPTION:Your weekly meditation… Wish I knew more
URL:https://srda-rec.org/event/meditation/2029-04-03/
LOCATION:SRDA Second Floor\, 250 N Union Ave\, Pueblo\, CO\, 81003\, United States
CATEGORIES:Wellness
ATTACH;FMTTYPE=image/jpeg:https://srda-rec.org/wp-content/uploads/2026/04/service1-1-1.jpg
END:VEVENT
BEGIN:VEVENT
DTSTART;TZID=America/Denver:20290403T033000
DTEND;TZID=America/Denver:20290403T040000
DTSTAMP:20260422T205400
CREATED:20260420T232444Z
LAST-MODIFIED:20260420T232706Z
UID:10000975-1869881400-1869883200@srda-rec.org
SUMMARY:Mahjong
DESCRIPTION:Mahjong is a strategic\, four-player tile game often compared to Rummy\, where players race to build a winning hand of 14 tiles consisting of four melds (sets of three or four matching tiles) and one pair. Originating in 19th-century China\, it blends luck with deep probability and defensive strategy\, as players must balance forming their own high-scoring combinations while discarding tiles that won’t help opponents win. The game involves drawing and discarding tiles from a “wall” until one player successfully calls “Mahjong!”\, ending the round.
URL:https://srda-rec.org/event/mahjong/2029-04-03/
LOCATION:SRDA Second Floor\, 250 N Union Ave\, Pueblo\, CO\, 81003\, United States
CATEGORIES:Recreation & Support
ATTACH;FMTTYPE=image/webp:https://srda-rec.org/wp-content/uploads/2026/04/mahjong.webp
END:VEVENT
BEGIN:VEVENT
DTSTART;TZID=America/Denver:20290410T000000
DTEND;TZID=America/Denver:20290410T000100
DTSTAMP:20260422T205400
CREATED:20260420T225749Z
LAST-MODIFIED:20260420T225751Z
UID:10000715-1870473600-1870473660@srda-rec.org
SUMMARY:Meditation
DESCRIPTION:Your weekly meditation… Wish I knew more
URL:https://srda-rec.org/event/meditation/2029-04-10/
LOCATION:SRDA Second Floor\, 250 N Union Ave\, Pueblo\, CO\, 81003\, United States
CATEGORIES:Wellness
ATTACH;FMTTYPE=image/jpeg:https://srda-rec.org/wp-content/uploads/2026/04/service1-1-1.jpg
END:VEVENT
BEGIN:VEVENT
DTSTART;TZID=America/Denver:20290410T033000
DTEND;TZID=America/Denver:20290410T040000
DTSTAMP:20260422T205400
CREATED:20260420T232444Z
LAST-MODIFIED:20260420T232706Z
UID:10000976-1870486200-1870488000@srda-rec.org
SUMMARY:Mahjong
DESCRIPTION:Mahjong is a strategic\, four-player tile game often compared to Rummy\, where players race to build a winning hand of 14 tiles consisting of four melds (sets of three or four matching tiles) and one pair. Originating in 19th-century China\, it blends luck with deep probability and defensive strategy\, as players must balance forming their own high-scoring combinations while discarding tiles that won’t help opponents win. The game involves drawing and discarding tiles from a “wall” until one player successfully calls “Mahjong!”\, ending the round.
URL:https://srda-rec.org/event/mahjong/2029-04-10/
LOCATION:SRDA Second Floor\, 250 N Union Ave\, Pueblo\, CO\, 81003\, United States
CATEGORIES:Recreation & Support
ATTACH;FMTTYPE=image/webp:https://srda-rec.org/wp-content/uploads/2026/04/mahjong.webp
END:VEVENT
BEGIN:VEVENT
DTSTART;TZID=America/Denver:20290417T000000
DTEND;TZID=America/Denver:20290417T000100
DTSTAMP:20260422T205400
CREATED:20260420T225749Z
LAST-MODIFIED:20260420T225751Z
UID:10000716-1871078400-1871078460@srda-rec.org
SUMMARY:Meditation
DESCRIPTION:Your weekly meditation… Wish I knew more
URL:https://srda-rec.org/event/meditation/2029-04-17/
LOCATION:SRDA Second Floor\, 250 N Union Ave\, Pueblo\, CO\, 81003\, United States
CATEGORIES:Wellness
ATTACH;FMTTYPE=image/jpeg:https://srda-rec.org/wp-content/uploads/2026/04/service1-1-1.jpg
END:VEVENT
BEGIN:VEVENT
DTSTART;TZID=America/Denver:20290417T033000
DTEND;TZID=America/Denver:20290417T040000
DTSTAMP:20260422T205400
CREATED:20260420T232444Z
LAST-MODIFIED:20260420T232706Z
UID:10000977-1871091000-1871092800@srda-rec.org
SUMMARY:Mahjong
DESCRIPTION:Mahjong is a strategic\, four-player tile game often compared to Rummy\, where players race to build a winning hand of 14 tiles consisting of four melds (sets of three or four matching tiles) and one pair. Originating in 19th-century China\, it blends luck with deep probability and defensive strategy\, as players must balance forming their own high-scoring combinations while discarding tiles that won’t help opponents win. The game involves drawing and discarding tiles from a “wall” until one player successfully calls “Mahjong!”\, ending the round.
URL:https://srda-rec.org/event/mahjong/2029-04-17/
LOCATION:SRDA Second Floor\, 250 N Union Ave\, Pueblo\, CO\, 81003\, United States
CATEGORIES:Recreation & Support
ATTACH;FMTTYPE=image/webp:https://srda-rec.org/wp-content/uploads/2026/04/mahjong.webp
END:VEVENT
BEGIN:VEVENT
DTSTART;TZID=America/Denver:20290424T000000
DTEND;TZID=America/Denver:20290424T000100
DTSTAMP:20260422T205400
CREATED:20260420T225749Z
LAST-MODIFIED:20260420T225751Z
UID:10000717-1871683200-1871683260@srda-rec.org
SUMMARY:Meditation
DESCRIPTION:Your weekly meditation… Wish I knew more
URL:https://srda-rec.org/event/meditation/2029-04-24/
LOCATION:SRDA Second Floor\, 250 N Union Ave\, Pueblo\, CO\, 81003\, United States
CATEGORIES:Wellness
ATTACH;FMTTYPE=image/jpeg:https://srda-rec.org/wp-content/uploads/2026/04/service1-1-1.jpg
END:VEVENT
BEGIN:VEVENT
DTSTART;TZID=America/Denver:20290424T033000
DTEND;TZID=America/Denver:20290424T040000
DTSTAMP:20260422T205400
CREATED:20260420T232444Z
LAST-MODIFIED:20260420T232706Z
UID:10000978-1871695800-1871697600@srda-rec.org
SUMMARY:Mahjong
DESCRIPTION:Mahjong is a strategic\, four-player tile game often compared to Rummy\, where players race to build a winning hand of 14 tiles consisting of four melds (sets of three or four matching tiles) and one pair. Originating in 19th-century China\, it blends luck with deep probability and defensive strategy\, as players must balance forming their own high-scoring combinations while discarding tiles that won’t help opponents win. The game involves drawing and discarding tiles from a “wall” until one player successfully calls “Mahjong!”\, ending the round.
URL:https://srda-rec.org/event/mahjong/2029-04-24/
LOCATION:SRDA Second Floor\, 250 N Union Ave\, Pueblo\, CO\, 81003\, United States
CATEGORIES:Recreation & Support
ATTACH;FMTTYPE=image/webp:https://srda-rec.org/wp-content/uploads/2026/04/mahjong.webp
END:VEVENT
BEGIN:VEVENT
DTSTART;TZID=America/Denver:20290501T000000
DTEND;TZID=America/Denver:20290501T000100
DTSTAMP:20260422T205400
CREATED:20260420T225749Z
LAST-MODIFIED:20260420T225751Z
UID:10000718-1872288000-1872288060@srda-rec.org
SUMMARY:Meditation
DESCRIPTION:Your weekly meditation… Wish I knew more
URL:https://srda-rec.org/event/meditation/2029-05-01/
LOCATION:SRDA Second Floor\, 250 N Union Ave\, Pueblo\, CO\, 81003\, United States
CATEGORIES:Wellness
ATTACH;FMTTYPE=image/jpeg:https://srda-rec.org/wp-content/uploads/2026/04/service1-1-1.jpg
END:VEVENT
BEGIN:VEVENT
DTSTART;TZID=America/Denver:20290501T033000
DTEND;TZID=America/Denver:20290501T040000
DTSTAMP:20260422T205400
CREATED:20260420T232444Z
LAST-MODIFIED:20260420T232706Z
UID:10000979-1872300600-1872302400@srda-rec.org
SUMMARY:Mahjong
DESCRIPTION:Mahjong is a strategic\, four-player tile game often compared to Rummy\, where players race to build a winning hand of 14 tiles consisting of four melds (sets of three or four matching tiles) and one pair. Originating in 19th-century China\, it blends luck with deep probability and defensive strategy\, as players must balance forming their own high-scoring combinations while discarding tiles that won’t help opponents win. The game involves drawing and discarding tiles from a “wall” until one player successfully calls “Mahjong!”\, ending the round.
URL:https://srda-rec.org/event/mahjong/2029-05-01/
LOCATION:SRDA Second Floor\, 250 N Union Ave\, Pueblo\, CO\, 81003\, United States
CATEGORIES:Recreation & Support
ATTACH;FMTTYPE=image/webp:https://srda-rec.org/wp-content/uploads/2026/04/mahjong.webp
END:VEVENT
BEGIN:VEVENT
DTSTART;TZID=America/Denver:20290508T000000
DTEND;TZID=America/Denver:20290508T000100
DTSTAMP:20260422T205400
CREATED:20260420T225749Z
LAST-MODIFIED:20260420T225751Z
UID:10000719-1872892800-1872892860@srda-rec.org
SUMMARY:Meditation
DESCRIPTION:Your weekly meditation… Wish I knew more
URL:https://srda-rec.org/event/meditation/2029-05-08/
LOCATION:SRDA Second Floor\, 250 N Union Ave\, Pueblo\, CO\, 81003\, United States
CATEGORIES:Wellness
ATTACH;FMTTYPE=image/jpeg:https://srda-rec.org/wp-content/uploads/2026/04/service1-1-1.jpg
END:VEVENT
BEGIN:VEVENT
DTSTART;TZID=America/Denver:20290508T033000
DTEND;TZID=America/Denver:20290508T040000
DTSTAMP:20260422T205400
CREATED:20260420T232444Z
LAST-MODIFIED:20260420T232706Z
UID:10000980-1872905400-1872907200@srda-rec.org
SUMMARY:Mahjong
DESCRIPTION:Mahjong is a strategic\, four-player tile game often compared to Rummy\, where players race to build a winning hand of 14 tiles consisting of four melds (sets of three or four matching tiles) and one pair. Originating in 19th-century China\, it blends luck with deep probability and defensive strategy\, as players must balance forming their own high-scoring combinations while discarding tiles that won’t help opponents win. The game involves drawing and discarding tiles from a “wall” until one player successfully calls “Mahjong!”\, ending the round.
URL:https://srda-rec.org/event/mahjong/2029-05-08/
LOCATION:SRDA Second Floor\, 250 N Union Ave\, Pueblo\, CO\, 81003\, United States
CATEGORIES:Recreation & Support
ATTACH;FMTTYPE=image/webp:https://srda-rec.org/wp-content/uploads/2026/04/mahjong.webp
END:VEVENT
BEGIN:VEVENT
DTSTART;TZID=America/Denver:20290515T000000
DTEND;TZID=America/Denver:20290515T000100
DTSTAMP:20260422T205400
CREATED:20260420T225749Z
LAST-MODIFIED:20260420T225751Z
UID:10000720-1873497600-1873497660@srda-rec.org
SUMMARY:Meditation
DESCRIPTION:Your weekly meditation… Wish I knew more
URL:https://srda-rec.org/event/meditation/2029-05-15/
LOCATION:SRDA Second Floor\, 250 N Union Ave\, Pueblo\, CO\, 81003\, United States
CATEGORIES:Wellness
ATTACH;FMTTYPE=image/jpeg:https://srda-rec.org/wp-content/uploads/2026/04/service1-1-1.jpg
END:VEVENT
BEGIN:VEVENT
DTSTART;TZID=America/Denver:20290515T033000
DTEND;TZID=America/Denver:20290515T040000
DTSTAMP:20260422T205400
CREATED:20260420T232444Z
LAST-MODIFIED:20260420T232706Z
UID:10000981-1873510200-1873512000@srda-rec.org
SUMMARY:Mahjong
DESCRIPTION:Mahjong is a strategic\, four-player tile game often compared to Rummy\, where players race to build a winning hand of 14 tiles consisting of four melds (sets of three or four matching tiles) and one pair. Originating in 19th-century China\, it blends luck with deep probability and defensive strategy\, as players must balance forming their own high-scoring combinations while discarding tiles that won’t help opponents win. The game involves drawing and discarding tiles from a “wall” until one player successfully calls “Mahjong!”\, ending the round.
URL:https://srda-rec.org/event/mahjong/2029-05-15/
LOCATION:SRDA Second Floor\, 250 N Union Ave\, Pueblo\, CO\, 81003\, United States
CATEGORIES:Recreation & Support
ATTACH;FMTTYPE=image/webp:https://srda-rec.org/wp-content/uploads/2026/04/mahjong.webp
END:VEVENT
BEGIN:VEVENT
DTSTART;TZID=America/Denver:20290522T000000
DTEND;TZID=America/Denver:20290522T000100
DTSTAMP:20260422T205400
CREATED:20260420T225749Z
LAST-MODIFIED:20260420T225751Z
UID:10000721-1874102400-1874102460@srda-rec.org
SUMMARY:Meditation
DESCRIPTION:Your weekly meditation… Wish I knew more
URL:https://srda-rec.org/event/meditation/2029-05-22/
LOCATION:SRDA Second Floor\, 250 N Union Ave\, Pueblo\, CO\, 81003\, United States
CATEGORIES:Wellness
ATTACH;FMTTYPE=image/jpeg:https://srda-rec.org/wp-content/uploads/2026/04/service1-1-1.jpg
END:VEVENT
BEGIN:VEVENT
DTSTART;TZID=America/Denver:20290522T033000
DTEND;TZID=America/Denver:20290522T040000
DTSTAMP:20260422T205400
CREATED:20260420T232444Z
LAST-MODIFIED:20260420T232706Z
UID:10000982-1874115000-1874116800@srda-rec.org
SUMMARY:Mahjong
DESCRIPTION:Mahjong is a strategic\, four-player tile game often compared to Rummy\, where players race to build a winning hand of 14 tiles consisting of four melds (sets of three or four matching tiles) and one pair. Originating in 19th-century China\, it blends luck with deep probability and defensive strategy\, as players must balance forming their own high-scoring combinations while discarding tiles that won’t help opponents win. The game involves drawing and discarding tiles from a “wall” until one player successfully calls “Mahjong!”\, ending the round.
URL:https://srda-rec.org/event/mahjong/2029-05-22/
LOCATION:SRDA Second Floor\, 250 N Union Ave\, Pueblo\, CO\, 81003\, United States
CATEGORIES:Recreation & Support
ATTACH;FMTTYPE=image/webp:https://srda-rec.org/wp-content/uploads/2026/04/mahjong.webp
END:VEVENT
BEGIN:VEVENT
DTSTART;TZID=America/Denver:20290529T000000
DTEND;TZID=America/Denver:20290529T000100
DTSTAMP:20260422T205400
CREATED:20260420T225749Z
LAST-MODIFIED:20260420T225751Z
UID:10000722-1874707200-1874707260@srda-rec.org
SUMMARY:Meditation
DESCRIPTION:Your weekly meditation… Wish I knew more
URL:https://srda-rec.org/event/meditation/2029-05-29/
LOCATION:SRDA Second Floor\, 250 N Union Ave\, Pueblo\, CO\, 81003\, United States
CATEGORIES:Wellness
ATTACH;FMTTYPE=image/jpeg:https://srda-rec.org/wp-content/uploads/2026/04/service1-1-1.jpg
END:VEVENT
BEGIN:VEVENT
DTSTART;TZID=America/Denver:20290529T033000
DTEND;TZID=America/Denver:20290529T040000
DTSTAMP:20260422T205400
CREATED:20260420T232444Z
LAST-MODIFIED:20260420T232706Z
UID:10000983-1874719800-1874721600@srda-rec.org
SUMMARY:Mahjong
DESCRIPTION:Mahjong is a strategic\, four-player tile game often compared to Rummy\, where players race to build a winning hand of 14 tiles consisting of four melds (sets of three or four matching tiles) and one pair. Originating in 19th-century China\, it blends luck with deep probability and defensive strategy\, as players must balance forming their own high-scoring combinations while discarding tiles that won’t help opponents win. The game involves drawing and discarding tiles from a “wall” until one player successfully calls “Mahjong!”\, ending the round.
URL:https://srda-rec.org/event/mahjong/2029-05-29/
LOCATION:SRDA Second Floor\, 250 N Union Ave\, Pueblo\, CO\, 81003\, United States
CATEGORIES:Recreation & Support
ATTACH;FMTTYPE=image/webp:https://srda-rec.org/wp-content/uploads/2026/04/mahjong.webp
END:VEVENT
BEGIN:VEVENT
DTSTART;TZID=America/Denver:20290605T000000
DTEND;TZID=America/Denver:20290605T000100
DTSTAMP:20260422T205400
CREATED:20260420T225749Z
LAST-MODIFIED:20260420T225751Z
UID:10000723-1875312000-1875312060@srda-rec.org
SUMMARY:Meditation
DESCRIPTION:Your weekly meditation… Wish I knew more
URL:https://srda-rec.org/event/meditation/2029-06-05/
LOCATION:SRDA Second Floor\, 250 N Union Ave\, Pueblo\, CO\, 81003\, United States
CATEGORIES:Wellness
ATTACH;FMTTYPE=image/jpeg:https://srda-rec.org/wp-content/uploads/2026/04/service1-1-1.jpg
END:VEVENT
BEGIN:VEVENT
DTSTART;TZID=America/Denver:20290605T033000
DTEND;TZID=America/Denver:20290605T040000
DTSTAMP:20260422T205400
CREATED:20260420T232444Z
LAST-MODIFIED:20260420T232706Z
UID:10000984-1875324600-1875326400@srda-rec.org
SUMMARY:Mahjong
DESCRIPTION:Mahjong is a strategic\, four-player tile game often compared to Rummy\, where players race to build a winning hand of 14 tiles consisting of four melds (sets of three or four matching tiles) and one pair. Originating in 19th-century China\, it blends luck with deep probability and defensive strategy\, as players must balance forming their own high-scoring combinations while discarding tiles that won’t help opponents win. The game involves drawing and discarding tiles from a “wall” until one player successfully calls “Mahjong!”\, ending the round.
URL:https://srda-rec.org/event/mahjong/2029-06-05/
LOCATION:SRDA Second Floor\, 250 N Union Ave\, Pueblo\, CO\, 81003\, United States
CATEGORIES:Recreation & Support
ATTACH;FMTTYPE=image/webp:https://srda-rec.org/wp-content/uploads/2026/04/mahjong.webp
END:VEVENT
BEGIN:VEVENT
DTSTART;TZID=America/Denver:20290612T000000
DTEND;TZID=America/Denver:20290612T000100
DTSTAMP:20260422T205400
CREATED:20260420T225749Z
LAST-MODIFIED:20260420T225751Z
UID:10000724-1875916800-1875916860@srda-rec.org
SUMMARY:Meditation
DESCRIPTION:Your weekly meditation… Wish I knew more
URL:https://srda-rec.org/event/meditation/2029-06-12/
LOCATION:SRDA Second Floor\, 250 N Union Ave\, Pueblo\, CO\, 81003\, United States
CATEGORIES:Wellness
ATTACH;FMTTYPE=image/jpeg:https://srda-rec.org/wp-content/uploads/2026/04/service1-1-1.jpg
END:VEVENT
BEGIN:VEVENT
DTSTART;TZID=America/Denver:20290612T033000
DTEND;TZID=America/Denver:20290612T040000
DTSTAMP:20260422T205400
CREATED:20260420T232444Z
LAST-MODIFIED:20260420T232706Z
UID:10000985-1875929400-1875931200@srda-rec.org
SUMMARY:Mahjong
DESCRIPTION:Mahjong is a strategic\, four-player tile game often compared to Rummy\, where players race to build a winning hand of 14 tiles consisting of four melds (sets of three or four matching tiles) and one pair. Originating in 19th-century China\, it blends luck with deep probability and defensive strategy\, as players must balance forming their own high-scoring combinations while discarding tiles that won’t help opponents win. The game involves drawing and discarding tiles from a “wall” until one player successfully calls “Mahjong!”\, ending the round.
URL:https://srda-rec.org/event/mahjong/2029-06-12/
LOCATION:SRDA Second Floor\, 250 N Union Ave\, Pueblo\, CO\, 81003\, United States
CATEGORIES:Recreation & Support
ATTACH;FMTTYPE=image/webp:https://srda-rec.org/wp-content/uploads/2026/04/mahjong.webp
END:VEVENT
END:VCALENDAR