BEGIN:VCALENDAR
VERSION:2.0
PRODID:-//SRDA-Rec2 - ECPv6.15.20//NONSGML v1.0//EN
CALSCALE:GREGORIAN
METHOD:PUBLISH
X-WR-CALNAME:SRDA-Rec2
X-ORIGINAL-URL:https://srda-rec.org
X-WR-CALDESC:Events for SRDA-Rec2
REFRESH-INTERVAL;VALUE=DURATION:PT1H
X-Robots-Tag:noindex
X-PUBLISHED-TTL:PT1H
BEGIN:VTIMEZONE
TZID:UTC
BEGIN:STANDARD
TZOFFSETFROM:+0000
TZOFFSETTO:+0000
TZNAME:UTC
DTSTART:20250101T000000
END:STANDARD
END:VTIMEZONE
BEGIN:VEVENT
DTSTART;TZID=UTC:20260421T090000
DTEND;TZID=UTC:20260421T100000
DTSTAMP:20260421T054008
CREATED:20260407T232221Z
LAST-MODIFIED:20260420T183933Z
UID:10000009-1776762000-1776765600@srda-rec.org
SUMMARY:Walk With Ease
DESCRIPTION:This is a complete program to help arthritis sufferers to manage their symptoms.
URL:https://srda-rec.org/event/walk-with-ease/2026-04-21/
LOCATION:SRDA Second Floor\, 250 N Union Ave\, Pueblo\, CO\, 81003\, United States
CATEGORIES:Groups,Wellness
ATTACH;FMTTYPE=image/webp:https://srda-rec.org/wp-content/uploads/2026/04/Walkers-Stock-1.webp
ORGANIZER;CN="SRDA-Recreation Dept.":MAILTO:recadmin@srda-rec.com
END:VEVENT
BEGIN:VEVENT
DTSTART;TZID=UTC:20260423T100000
DTEND;TZID=UTC:20260423T110000
DTSTAMP:20260421T054008
CREATED:20260407T233833Z
LAST-MODIFIED:20260407T234013Z
UID:10000026-1776938400-1776942000@srda-rec.org
SUMMARY:Qi Gong
DESCRIPTION:Qigong is an ancient Chinese system of coordinated body posture\, movement\, breathing\, and meditation used to cultivate and balance the vital life force known as qi. The practice combines active (dynamic) movements with passive (meditative) stillness to harmonize the body\, mind\, and spirit. While rooted in traditional Chinese medicine and martial arts\, it is widely practiced today for health\, relaxation\, and self-healing. 
URL:https://srda-rec.org/event/qi-gong/2026-04-23/
LOCATION:SRDA Second Floor\, 250 N Union Ave\, Pueblo\, CO\, 81003\, United States
CATEGORIES:Groups,Wellness
ATTACH;FMTTYPE=image/jpeg:https://srda-rec.org/wp-content/uploads/2026/04/QiGong-1.jpg
ORGANIZER;CN="SRDA-Recreation Dept.":MAILTO:recadmin@srda-rec.com
END:VEVENT
BEGIN:VEVENT
DTSTART;TZID=UTC:20260428T090000
DTEND;TZID=UTC:20260428T100000
DTSTAMP:20260421T054009
CREATED:20260407T232221Z
LAST-MODIFIED:20260420T183933Z
UID:10000010-1777366800-1777370400@srda-rec.org
SUMMARY:Walk With Ease
DESCRIPTION:This is a complete program to help arthritis sufferers to manage their symptoms.
URL:https://srda-rec.org/event/walk-with-ease/2026-04-28/
LOCATION:SRDA Second Floor\, 250 N Union Ave\, Pueblo\, CO\, 81003\, United States
CATEGORIES:Groups,Wellness
ATTACH;FMTTYPE=image/webp:https://srda-rec.org/wp-content/uploads/2026/04/Walkers-Stock-1.webp
ORGANIZER;CN="SRDA-Recreation Dept.":MAILTO:recadmin@srda-rec.com
END:VEVENT
BEGIN:VEVENT
DTSTART;TZID=UTC:20260430T100000
DTEND;TZID=UTC:20260430T110000
DTSTAMP:20260421T054009
CREATED:20260407T233833Z
LAST-MODIFIED:20260407T234013Z
UID:10000027-1777543200-1777546800@srda-rec.org
SUMMARY:Qi Gong
DESCRIPTION:Qigong is an ancient Chinese system of coordinated body posture\, movement\, breathing\, and meditation used to cultivate and balance the vital life force known as qi. The practice combines active (dynamic) movements with passive (meditative) stillness to harmonize the body\, mind\, and spirit. While rooted in traditional Chinese medicine and martial arts\, it is widely practiced today for health\, relaxation\, and self-healing. 
URL:https://srda-rec.org/event/qi-gong/2026-04-30/
LOCATION:SRDA Second Floor\, 250 N Union Ave\, Pueblo\, CO\, 81003\, United States
CATEGORIES:Groups,Wellness
ATTACH;FMTTYPE=image/jpeg:https://srda-rec.org/wp-content/uploads/2026/04/QiGong-1.jpg
ORGANIZER;CN="SRDA-Recreation Dept.":MAILTO:recadmin@srda-rec.com
END:VEVENT
BEGIN:VEVENT
DTSTART;TZID=UTC:20260505T090000
DTEND;TZID=UTC:20260505T100000
DTSTAMP:20260421T054009
CREATED:20260407T232221Z
LAST-MODIFIED:20260420T183933Z
UID:10000011-1777971600-1777975200@srda-rec.org
SUMMARY:Walk With Ease
DESCRIPTION:This is a complete program to help arthritis sufferers to manage their symptoms.
URL:https://srda-rec.org/event/walk-with-ease/2026-05-05/
LOCATION:SRDA Second Floor\, 250 N Union Ave\, Pueblo\, CO\, 81003\, United States
CATEGORIES:Groups,Wellness
ATTACH;FMTTYPE=image/webp:https://srda-rec.org/wp-content/uploads/2026/04/Walkers-Stock-1.webp
ORGANIZER;CN="SRDA-Recreation Dept.":MAILTO:recadmin@srda-rec.com
END:VEVENT
BEGIN:VEVENT
DTSTART;TZID=UTC:20260507T100000
DTEND;TZID=UTC:20260507T110000
DTSTAMP:20260421T054009
CREATED:20260407T233833Z
LAST-MODIFIED:20260407T234013Z
UID:10000028-1778148000-1778151600@srda-rec.org
SUMMARY:Qi Gong
DESCRIPTION:Qigong is an ancient Chinese system of coordinated body posture\, movement\, breathing\, and meditation used to cultivate and balance the vital life force known as qi. The practice combines active (dynamic) movements with passive (meditative) stillness to harmonize the body\, mind\, and spirit. While rooted in traditional Chinese medicine and martial arts\, it is widely practiced today for health\, relaxation\, and self-healing. 
URL:https://srda-rec.org/event/qi-gong/2026-05-07/
LOCATION:SRDA Second Floor\, 250 N Union Ave\, Pueblo\, CO\, 81003\, United States
CATEGORIES:Groups,Wellness
ATTACH;FMTTYPE=image/jpeg:https://srda-rec.org/wp-content/uploads/2026/04/QiGong-1.jpg
ORGANIZER;CN="SRDA-Recreation Dept.":MAILTO:recadmin@srda-rec.com
END:VEVENT
BEGIN:VEVENT
DTSTART;TZID=UTC:20260512T090000
DTEND;TZID=UTC:20260512T100000
DTSTAMP:20260421T054009
CREATED:20260407T232221Z
LAST-MODIFIED:20260420T183933Z
UID:10000012-1778576400-1778580000@srda-rec.org
SUMMARY:Walk With Ease
DESCRIPTION:This is a complete program to help arthritis sufferers to manage their symptoms.
URL:https://srda-rec.org/event/walk-with-ease/2026-05-12/
LOCATION:SRDA Second Floor\, 250 N Union Ave\, Pueblo\, CO\, 81003\, United States
CATEGORIES:Groups,Wellness
ATTACH;FMTTYPE=image/webp:https://srda-rec.org/wp-content/uploads/2026/04/Walkers-Stock-1.webp
ORGANIZER;CN="SRDA-Recreation Dept.":MAILTO:recadmin@srda-rec.com
END:VEVENT
BEGIN:VEVENT
DTSTART;TZID=UTC:20260514T100000
DTEND;TZID=UTC:20260514T110000
DTSTAMP:20260421T054009
CREATED:20260407T233833Z
LAST-MODIFIED:20260407T234013Z
UID:10000029-1778752800-1778756400@srda-rec.org
SUMMARY:Qi Gong
DESCRIPTION:Qigong is an ancient Chinese system of coordinated body posture\, movement\, breathing\, and meditation used to cultivate and balance the vital life force known as qi. The practice combines active (dynamic) movements with passive (meditative) stillness to harmonize the body\, mind\, and spirit. While rooted in traditional Chinese medicine and martial arts\, it is widely practiced today for health\, relaxation\, and self-healing. 
URL:https://srda-rec.org/event/qi-gong/2026-05-14/
LOCATION:SRDA Second Floor\, 250 N Union Ave\, Pueblo\, CO\, 81003\, United States
CATEGORIES:Groups,Wellness
ATTACH;FMTTYPE=image/jpeg:https://srda-rec.org/wp-content/uploads/2026/04/QiGong-1.jpg
ORGANIZER;CN="SRDA-Recreation Dept.":MAILTO:recadmin@srda-rec.com
END:VEVENT
BEGIN:VEVENT
DTSTART;TZID=UTC:20260519T090000
DTEND;TZID=UTC:20260519T100000
DTSTAMP:20260421T054009
CREATED:20260407T232221Z
LAST-MODIFIED:20260420T183933Z
UID:10000013-1779181200-1779184800@srda-rec.org
SUMMARY:Walk With Ease
DESCRIPTION:This is a complete program to help arthritis sufferers to manage their symptoms.
URL:https://srda-rec.org/event/walk-with-ease/2026-05-19/
LOCATION:SRDA Second Floor\, 250 N Union Ave\, Pueblo\, CO\, 81003\, United States
CATEGORIES:Groups,Wellness
ATTACH;FMTTYPE=image/webp:https://srda-rec.org/wp-content/uploads/2026/04/Walkers-Stock-1.webp
ORGANIZER;CN="SRDA-Recreation Dept.":MAILTO:recadmin@srda-rec.com
END:VEVENT
BEGIN:VEVENT
DTSTART;TZID=UTC:20260521T100000
DTEND;TZID=UTC:20260521T110000
DTSTAMP:20260421T054009
CREATED:20260407T233833Z
LAST-MODIFIED:20260407T234013Z
UID:10000030-1779357600-1779361200@srda-rec.org
SUMMARY:Qi Gong
DESCRIPTION:Qigong is an ancient Chinese system of coordinated body posture\, movement\, breathing\, and meditation used to cultivate and balance the vital life force known as qi. The practice combines active (dynamic) movements with passive (meditative) stillness to harmonize the body\, mind\, and spirit. While rooted in traditional Chinese medicine and martial arts\, it is widely practiced today for health\, relaxation\, and self-healing. 
URL:https://srda-rec.org/event/qi-gong/2026-05-21/
LOCATION:SRDA Second Floor\, 250 N Union Ave\, Pueblo\, CO\, 81003\, United States
CATEGORIES:Groups,Wellness
ATTACH;FMTTYPE=image/jpeg:https://srda-rec.org/wp-content/uploads/2026/04/QiGong-1.jpg
ORGANIZER;CN="SRDA-Recreation Dept.":MAILTO:recadmin@srda-rec.com
END:VEVENT
BEGIN:VEVENT
DTSTART;TZID=UTC:20260526T090000
DTEND;TZID=UTC:20260526T100000
DTSTAMP:20260421T054009
CREATED:20260407T232221Z
LAST-MODIFIED:20260420T183933Z
UID:10000014-1779786000-1779789600@srda-rec.org
SUMMARY:Walk With Ease
DESCRIPTION:This is a complete program to help arthritis sufferers to manage their symptoms.
URL:https://srda-rec.org/event/walk-with-ease/2026-05-26/
LOCATION:SRDA Second Floor\, 250 N Union Ave\, Pueblo\, CO\, 81003\, United States
CATEGORIES:Groups,Wellness
ATTACH;FMTTYPE=image/webp:https://srda-rec.org/wp-content/uploads/2026/04/Walkers-Stock-1.webp
ORGANIZER;CN="SRDA-Recreation Dept.":MAILTO:recadmin@srda-rec.com
END:VEVENT
BEGIN:VEVENT
DTSTART;TZID=UTC:20260528T100000
DTEND;TZID=UTC:20260528T110000
DTSTAMP:20260421T054009
CREATED:20260407T233833Z
LAST-MODIFIED:20260407T234013Z
UID:10000031-1779962400-1779966000@srda-rec.org
SUMMARY:Qi Gong
DESCRIPTION:Qigong is an ancient Chinese system of coordinated body posture\, movement\, breathing\, and meditation used to cultivate and balance the vital life force known as qi. The practice combines active (dynamic) movements with passive (meditative) stillness to harmonize the body\, mind\, and spirit. While rooted in traditional Chinese medicine and martial arts\, it is widely practiced today for health\, relaxation\, and self-healing. 
URL:https://srda-rec.org/event/qi-gong/2026-05-28/
LOCATION:SRDA Second Floor\, 250 N Union Ave\, Pueblo\, CO\, 81003\, United States
CATEGORIES:Groups,Wellness
ATTACH;FMTTYPE=image/jpeg:https://srda-rec.org/wp-content/uploads/2026/04/QiGong-1.jpg
ORGANIZER;CN="SRDA-Recreation Dept.":MAILTO:recadmin@srda-rec.com
END:VEVENT
BEGIN:VEVENT
DTSTART;TZID=UTC:20260602T090000
DTEND;TZID=UTC:20260602T100000
DTSTAMP:20260421T054009
CREATED:20260407T232221Z
LAST-MODIFIED:20260420T183933Z
UID:10000015-1780390800-1780394400@srda-rec.org
SUMMARY:Walk With Ease
DESCRIPTION:This is a complete program to help arthritis sufferers to manage their symptoms.
URL:https://srda-rec.org/event/walk-with-ease/2026-06-02/
LOCATION:SRDA Second Floor\, 250 N Union Ave\, Pueblo\, CO\, 81003\, United States
CATEGORIES:Groups,Wellness
ATTACH;FMTTYPE=image/webp:https://srda-rec.org/wp-content/uploads/2026/04/Walkers-Stock-1.webp
ORGANIZER;CN="SRDA-Recreation Dept.":MAILTO:recadmin@srda-rec.com
END:VEVENT
END:VCALENDAR