BEGIN:VCALENDAR
VERSION:2.0
PRODID:-//SRDA-Rec2 - ECPv6.15.20//NONSGML v1.0//EN
CALSCALE:GREGORIAN
METHOD:PUBLISH
X-WR-CALNAME:SRDA-Rec2
X-ORIGINAL-URL:https://srda-rec.org
X-WR-CALDESC:Events for SRDA-Rec2
REFRESH-INTERVAL;VALUE=DURATION:PT1H
X-Robots-Tag:noindex
X-PUBLISHED-TTL:PT1H
BEGIN:VTIMEZONE
TZID:America/Denver
BEGIN:DAYLIGHT
TZOFFSETFROM:-0700
TZOFFSETTO:-0600
TZNAME:MDT
DTSTART:20250309T090000
END:DAYLIGHT
BEGIN:STANDARD
TZOFFSETFROM:-0600
TZOFFSETTO:-0700
TZNAME:MST
DTSTART:20251102T080000
END:STANDARD
BEGIN:DAYLIGHT
TZOFFSETFROM:-0700
TZOFFSETTO:-0600
TZNAME:MDT
DTSTART:20260308T090000
END:DAYLIGHT
BEGIN:STANDARD
TZOFFSETFROM:-0600
TZOFFSETTO:-0700
TZNAME:MST
DTSTART:20261101T080000
END:STANDARD
BEGIN:DAYLIGHT
TZOFFSETFROM:-0700
TZOFFSETTO:-0600
TZNAME:MDT
DTSTART:20270314T090000
END:DAYLIGHT
BEGIN:STANDARD
TZOFFSETFROM:-0600
TZOFFSETTO:-0700
TZNAME:MST
DTSTART:20271107T080000
END:STANDARD
END:VTIMEZONE
BEGIN:VEVENT
DTSTART;TZID=America/Denver:20260707T033000
DTEND;TZID=America/Denver:20260707T040000
DTSTAMP:20260421T103235
CREATED:20260420T232444Z
LAST-MODIFIED:20260420T232706Z
UID:10000832-1783395000-1783396800@srda-rec.org
SUMMARY:Mahjong
DESCRIPTION:Mahjong is a strategic\, four-player tile game often compared to Rummy\, where players race to build a winning hand of 14 tiles consisting of four melds (sets of three or four matching tiles) and one pair. Originating in 19th-century China\, it blends luck with deep probability and defensive strategy\, as players must balance forming their own high-scoring combinations while discarding tiles that won’t help opponents win. The game involves drawing and discarding tiles from a “wall” until one player successfully calls “Mahjong!”\, ending the round.
URL:https://srda-rec.org/event/mahjong/2026-07-07/
LOCATION:SRDA Second Floor\, 250 N Union Ave\, Pueblo\, CO\, 81003\, United States
CATEGORIES:Recreation & Support
ATTACH;FMTTYPE=image/webp:https://srda-rec.org/wp-content/uploads/2026/04/mahjong.webp
END:VEVENT
BEGIN:VEVENT
DTSTART;TZID=America/Denver:20260713T111500
DTEND;TZID=America/Denver:20260713T121500
DTSTAMP:20260421T103235
CREATED:20260420T234816Z
LAST-MODIFIED:20260421T000608Z
UID:10001094-1783941300-1783944900@srda-rec.org
SUMMARY:Chair Yoga
DESCRIPTION:Chair yoga is an accessible\, low-impact practice that adapts traditional yoga poses to be performed while seated or using a chair for support. By eliminating the need to get up and down from the floor\, it makes flexibility\, strength\, and balance training safe and enjoyable for seniors\, beginners\, and anyone seeking a gentle workout without the risk of falling.
URL:https://srda-rec.org/event/chair-yoga-2/2026-07-13/
LOCATION:SRDA Second Floor\, 250 N Union Ave\, Pueblo\, CO\, 81003\, United States
CATEGORIES:Wellness
ATTACH;FMTTYPE=image/webp:https://srda-rec.org/wp-content/uploads/2026/04/ChairYoga-e1776720418185.webp
END:VEVENT
BEGIN:VEVENT
DTSTART;TZID=America/Denver:20260714T000000
DTEND;TZID=America/Denver:20260714T000100
DTSTAMP:20260421T103235
CREATED:20260420T225749Z
LAST-MODIFIED:20260420T225751Z
UID:10000572-1783987200-1783987260@srda-rec.org
SUMMARY:Meditation
DESCRIPTION:Your weekly meditation… Wish I knew more
URL:https://srda-rec.org/event/meditation/2026-07-14/
LOCATION:SRDA Second Floor\, 250 N Union Ave\, Pueblo\, CO\, 81003\, United States
CATEGORIES:Wellness
ATTACH;FMTTYPE=image/jpeg:https://srda-rec.org/wp-content/uploads/2026/04/service1-1-1.jpg
END:VEVENT
BEGIN:VEVENT
DTSTART;TZID=America/Denver:20260714T033000
DTEND;TZID=America/Denver:20260714T040000
DTSTAMP:20260421T103235
CREATED:20260420T232444Z
LAST-MODIFIED:20260420T232706Z
UID:10000833-1783999800-1784001600@srda-rec.org
SUMMARY:Mahjong
DESCRIPTION:Mahjong is a strategic\, four-player tile game often compared to Rummy\, where players race to build a winning hand of 14 tiles consisting of four melds (sets of three or four matching tiles) and one pair. Originating in 19th-century China\, it blends luck with deep probability and defensive strategy\, as players must balance forming their own high-scoring combinations while discarding tiles that won’t help opponents win. The game involves drawing and discarding tiles from a “wall” until one player successfully calls “Mahjong!”\, ending the round.
URL:https://srda-rec.org/event/mahjong/2026-07-14/
LOCATION:SRDA Second Floor\, 250 N Union Ave\, Pueblo\, CO\, 81003\, United States
CATEGORIES:Recreation & Support
ATTACH;FMTTYPE=image/webp:https://srda-rec.org/wp-content/uploads/2026/04/mahjong.webp
END:VEVENT
BEGIN:VEVENT
DTSTART;TZID=America/Denver:20260718T123000
DTEND;TZID=America/Denver:20260718T220000
DTSTAMP:20260421T103235
CREATED:20260417T191531Z
LAST-MODIFIED:20260420T222155Z
UID:10000036-1784377800-1784412000@srda-rec.org
SUMMARY:Bent's Fort and Koshare Indian Museum & Performance
DESCRIPTION:Bent’s Old Fort National Historic Site preserves the resources associated with the Bent–St. Vrain trading empire\, which radiated from Bent’s Old Fort into what is now Texas\, New Mexico\, Kansas\, Nebraska\, Arizona\, Utah\, Wyoming\, and Missouri. The fort solidified one of the most important and last established trading cartels in the Rocky Mountain West. \n\n\n\nThe Koshare Indian museum is home to the world’s largest self-supported log ceiling\, but there is more to museum than just its architecture.  This renown art collection of Native American and Western art has been featured in countless news articles\, magazines\, and broadcasts. \n\n\n\nWe will have an early dinner (your cost) at a local restaurant\, then take a self-guided tour of the museum and then enjoy a performance by the Koshare Dancers.
URL:https://srda-rec.org/event/bents-fort-and-koshare-indian-museum-performance/
LOCATION:SRDA Parking Lot\, 250 N Union Ave\, Pueblo\, CO\, 81003\, United States
CATEGORIES:Adventure
ATTACH;FMTTYPE=image/webp:https://srda-rec.org/wp-content/uploads/2026/04/Koshare.webp
ORGANIZER;CN="SRDA-Recreation Dept.":MAILTO:recadmin@srda-rec.com
END:VEVENT
BEGIN:VEVENT
DTSTART;TZID=America/Denver:20260720T111500
DTEND;TZID=America/Denver:20260720T121500
DTSTAMP:20260421T103235
CREATED:20260420T234816Z
LAST-MODIFIED:20260421T000608Z
UID:10001095-1784546100-1784549700@srda-rec.org
SUMMARY:Chair Yoga
DESCRIPTION:Chair yoga is an accessible\, low-impact practice that adapts traditional yoga poses to be performed while seated or using a chair for support. By eliminating the need to get up and down from the floor\, it makes flexibility\, strength\, and balance training safe and enjoyable for seniors\, beginners\, and anyone seeking a gentle workout without the risk of falling.
URL:https://srda-rec.org/event/chair-yoga-2/2026-07-20/
LOCATION:SRDA Second Floor\, 250 N Union Ave\, Pueblo\, CO\, 81003\, United States
CATEGORIES:Wellness
ATTACH;FMTTYPE=image/webp:https://srda-rec.org/wp-content/uploads/2026/04/ChairYoga-e1776720418185.webp
END:VEVENT
BEGIN:VEVENT
DTSTART;TZID=America/Denver:20260721T000000
DTEND;TZID=America/Denver:20260721T000100
DTSTAMP:20260421T103235
CREATED:20260420T225749Z
LAST-MODIFIED:20260420T225751Z
UID:10000573-1784592000-1784592060@srda-rec.org
SUMMARY:Meditation
DESCRIPTION:Your weekly meditation… Wish I knew more
URL:https://srda-rec.org/event/meditation/2026-07-21/
LOCATION:SRDA Second Floor\, 250 N Union Ave\, Pueblo\, CO\, 81003\, United States
CATEGORIES:Wellness
ATTACH;FMTTYPE=image/jpeg:https://srda-rec.org/wp-content/uploads/2026/04/service1-1-1.jpg
END:VEVENT
BEGIN:VEVENT
DTSTART;TZID=America/Denver:20260721T033000
DTEND;TZID=America/Denver:20260721T040000
DTSTAMP:20260421T103235
CREATED:20260420T232444Z
LAST-MODIFIED:20260420T232706Z
UID:10000834-1784604600-1784606400@srda-rec.org
SUMMARY:Mahjong
DESCRIPTION:Mahjong is a strategic\, four-player tile game often compared to Rummy\, where players race to build a winning hand of 14 tiles consisting of four melds (sets of three or four matching tiles) and one pair. Originating in 19th-century China\, it blends luck with deep probability and defensive strategy\, as players must balance forming their own high-scoring combinations while discarding tiles that won’t help opponents win. The game involves drawing and discarding tiles from a “wall” until one player successfully calls “Mahjong!”\, ending the round.
URL:https://srda-rec.org/event/mahjong/2026-07-21/
LOCATION:SRDA Second Floor\, 250 N Union Ave\, Pueblo\, CO\, 81003\, United States
CATEGORIES:Recreation & Support
ATTACH;FMTTYPE=image/webp:https://srda-rec.org/wp-content/uploads/2026/04/mahjong.webp
END:VEVENT
BEGIN:VEVENT
DTSTART;TZID=America/Denver:20260727T111500
DTEND;TZID=America/Denver:20260727T121500
DTSTAMP:20260421T103235
CREATED:20260420T234816Z
LAST-MODIFIED:20260421T000608Z
UID:10001096-1785150900-1785154500@srda-rec.org
SUMMARY:Chair Yoga
DESCRIPTION:Chair yoga is an accessible\, low-impact practice that adapts traditional yoga poses to be performed while seated or using a chair for support. By eliminating the need to get up and down from the floor\, it makes flexibility\, strength\, and balance training safe and enjoyable for seniors\, beginners\, and anyone seeking a gentle workout without the risk of falling.
URL:https://srda-rec.org/event/chair-yoga-2/2026-07-27/
LOCATION:SRDA Second Floor\, 250 N Union Ave\, Pueblo\, CO\, 81003\, United States
CATEGORIES:Wellness
ATTACH;FMTTYPE=image/webp:https://srda-rec.org/wp-content/uploads/2026/04/ChairYoga-e1776720418185.webp
END:VEVENT
BEGIN:VEVENT
DTSTART;TZID=America/Denver:20260728T000000
DTEND;TZID=America/Denver:20260728T000100
DTSTAMP:20260421T103235
CREATED:20260420T225749Z
LAST-MODIFIED:20260420T225751Z
UID:10000574-1785196800-1785196860@srda-rec.org
SUMMARY:Meditation
DESCRIPTION:Your weekly meditation… Wish I knew more
URL:https://srda-rec.org/event/meditation/2026-07-28/
LOCATION:SRDA Second Floor\, 250 N Union Ave\, Pueblo\, CO\, 81003\, United States
CATEGORIES:Wellness
ATTACH;FMTTYPE=image/jpeg:https://srda-rec.org/wp-content/uploads/2026/04/service1-1-1.jpg
END:VEVENT
BEGIN:VEVENT
DTSTART;TZID=America/Denver:20260728T033000
DTEND;TZID=America/Denver:20260728T040000
DTSTAMP:20260421T103235
CREATED:20260420T232444Z
LAST-MODIFIED:20260420T232706Z
UID:10000835-1785209400-1785211200@srda-rec.org
SUMMARY:Mahjong
DESCRIPTION:Mahjong is a strategic\, four-player tile game often compared to Rummy\, where players race to build a winning hand of 14 tiles consisting of four melds (sets of three or four matching tiles) and one pair. Originating in 19th-century China\, it blends luck with deep probability and defensive strategy\, as players must balance forming their own high-scoring combinations while discarding tiles that won’t help opponents win. The game involves drawing and discarding tiles from a “wall” until one player successfully calls “Mahjong!”\, ending the round.
URL:https://srda-rec.org/event/mahjong/2026-07-28/
LOCATION:SRDA Second Floor\, 250 N Union Ave\, Pueblo\, CO\, 81003\, United States
CATEGORIES:Recreation & Support
ATTACH;FMTTYPE=image/webp:https://srda-rec.org/wp-content/uploads/2026/04/mahjong.webp
END:VEVENT
BEGIN:VEVENT
DTSTART;TZID=America/Denver:20260803T111500
DTEND;TZID=America/Denver:20260803T121500
DTSTAMP:20260421T103235
CREATED:20260420T234816Z
LAST-MODIFIED:20260421T000608Z
UID:10001097-1785755700-1785759300@srda-rec.org
SUMMARY:Chair Yoga
DESCRIPTION:Chair yoga is an accessible\, low-impact practice that adapts traditional yoga poses to be performed while seated or using a chair for support. By eliminating the need to get up and down from the floor\, it makes flexibility\, strength\, and balance training safe and enjoyable for seniors\, beginners\, and anyone seeking a gentle workout without the risk of falling.
URL:https://srda-rec.org/event/chair-yoga-2/2026-08-03/
LOCATION:SRDA Second Floor\, 250 N Union Ave\, Pueblo\, CO\, 81003\, United States
CATEGORIES:Wellness
ATTACH;FMTTYPE=image/webp:https://srda-rec.org/wp-content/uploads/2026/04/ChairYoga-e1776720418185.webp
END:VEVENT
BEGIN:VEVENT
DTSTART;TZID=America/Denver:20260804T000000
DTEND;TZID=America/Denver:20260804T000100
DTSTAMP:20260421T103235
CREATED:20260420T225749Z
LAST-MODIFIED:20260420T225751Z
UID:10000575-1785801600-1785801660@srda-rec.org
SUMMARY:Meditation
DESCRIPTION:Your weekly meditation… Wish I knew more
URL:https://srda-rec.org/event/meditation/2026-08-04/
LOCATION:SRDA Second Floor\, 250 N Union Ave\, Pueblo\, CO\, 81003\, United States
CATEGORIES:Wellness
ATTACH;FMTTYPE=image/jpeg:https://srda-rec.org/wp-content/uploads/2026/04/service1-1-1.jpg
END:VEVENT
BEGIN:VEVENT
DTSTART;TZID=America/Denver:20260804T033000
DTEND;TZID=America/Denver:20260804T040000
DTSTAMP:20260421T103235
CREATED:20260420T232444Z
LAST-MODIFIED:20260420T232706Z
UID:10000836-1785814200-1785816000@srda-rec.org
SUMMARY:Mahjong
DESCRIPTION:Mahjong is a strategic\, four-player tile game often compared to Rummy\, where players race to build a winning hand of 14 tiles consisting of four melds (sets of three or four matching tiles) and one pair. Originating in 19th-century China\, it blends luck with deep probability and defensive strategy\, as players must balance forming their own high-scoring combinations while discarding tiles that won’t help opponents win. The game involves drawing and discarding tiles from a “wall” until one player successfully calls “Mahjong!”\, ending the round.
URL:https://srda-rec.org/event/mahjong/2026-08-04/
LOCATION:SRDA Second Floor\, 250 N Union Ave\, Pueblo\, CO\, 81003\, United States
CATEGORIES:Recreation & Support
ATTACH;FMTTYPE=image/webp:https://srda-rec.org/wp-content/uploads/2026/04/mahjong.webp
END:VEVENT
BEGIN:VEVENT
DTSTART;TZID=America/Denver:20260810T111500
DTEND;TZID=America/Denver:20260810T121500
DTSTAMP:20260421T103235
CREATED:20260420T234816Z
LAST-MODIFIED:20260421T000608Z
UID:10001098-1786360500-1786364100@srda-rec.org
SUMMARY:Chair Yoga
DESCRIPTION:Chair yoga is an accessible\, low-impact practice that adapts traditional yoga poses to be performed while seated or using a chair for support. By eliminating the need to get up and down from the floor\, it makes flexibility\, strength\, and balance training safe and enjoyable for seniors\, beginners\, and anyone seeking a gentle workout without the risk of falling.
URL:https://srda-rec.org/event/chair-yoga-2/2026-08-10/
LOCATION:SRDA Second Floor\, 250 N Union Ave\, Pueblo\, CO\, 81003\, United States
CATEGORIES:Wellness
ATTACH;FMTTYPE=image/webp:https://srda-rec.org/wp-content/uploads/2026/04/ChairYoga-e1776720418185.webp
END:VEVENT
BEGIN:VEVENT
DTSTART;TZID=America/Denver:20260811T000000
DTEND;TZID=America/Denver:20260811T000100
DTSTAMP:20260421T103235
CREATED:20260420T225749Z
LAST-MODIFIED:20260420T225751Z
UID:10000576-1786406400-1786406460@srda-rec.org
SUMMARY:Meditation
DESCRIPTION:Your weekly meditation… Wish I knew more
URL:https://srda-rec.org/event/meditation/2026-08-11/
LOCATION:SRDA Second Floor\, 250 N Union Ave\, Pueblo\, CO\, 81003\, United States
CATEGORIES:Wellness
ATTACH;FMTTYPE=image/jpeg:https://srda-rec.org/wp-content/uploads/2026/04/service1-1-1.jpg
END:VEVENT
BEGIN:VEVENT
DTSTART;TZID=America/Denver:20260811T033000
DTEND;TZID=America/Denver:20260811T040000
DTSTAMP:20260421T103235
CREATED:20260420T232444Z
LAST-MODIFIED:20260420T232706Z
UID:10000837-1786419000-1786420800@srda-rec.org
SUMMARY:Mahjong
DESCRIPTION:Mahjong is a strategic\, four-player tile game often compared to Rummy\, where players race to build a winning hand of 14 tiles consisting of four melds (sets of three or four matching tiles) and one pair. Originating in 19th-century China\, it blends luck with deep probability and defensive strategy\, as players must balance forming their own high-scoring combinations while discarding tiles that won’t help opponents win. The game involves drawing and discarding tiles from a “wall” until one player successfully calls “Mahjong!”\, ending the round.
URL:https://srda-rec.org/event/mahjong/2026-08-11/
LOCATION:SRDA Second Floor\, 250 N Union Ave\, Pueblo\, CO\, 81003\, United States
CATEGORIES:Recreation & Support
ATTACH;FMTTYPE=image/webp:https://srda-rec.org/wp-content/uploads/2026/04/mahjong.webp
END:VEVENT
BEGIN:VEVENT
DTSTART;TZID=America/Denver:20260817T111500
DTEND;TZID=America/Denver:20260817T121500
DTSTAMP:20260421T103235
CREATED:20260420T234816Z
LAST-MODIFIED:20260421T000608Z
UID:10001099-1786965300-1786968900@srda-rec.org
SUMMARY:Chair Yoga
DESCRIPTION:Chair yoga is an accessible\, low-impact practice that adapts traditional yoga poses to be performed while seated or using a chair for support. By eliminating the need to get up and down from the floor\, it makes flexibility\, strength\, and balance training safe and enjoyable for seniors\, beginners\, and anyone seeking a gentle workout without the risk of falling.
URL:https://srda-rec.org/event/chair-yoga-2/2026-08-17/
LOCATION:SRDA Second Floor\, 250 N Union Ave\, Pueblo\, CO\, 81003\, United States
CATEGORIES:Wellness
ATTACH;FMTTYPE=image/webp:https://srda-rec.org/wp-content/uploads/2026/04/ChairYoga-e1776720418185.webp
END:VEVENT
BEGIN:VEVENT
DTSTART;TZID=America/Denver:20260818T000000
DTEND;TZID=America/Denver:20260818T000100
DTSTAMP:20260421T103235
CREATED:20260420T225749Z
LAST-MODIFIED:20260420T225751Z
UID:10000577-1787011200-1787011260@srda-rec.org
SUMMARY:Meditation
DESCRIPTION:Your weekly meditation… Wish I knew more
URL:https://srda-rec.org/event/meditation/2026-08-18/
LOCATION:SRDA Second Floor\, 250 N Union Ave\, Pueblo\, CO\, 81003\, United States
CATEGORIES:Wellness
ATTACH;FMTTYPE=image/jpeg:https://srda-rec.org/wp-content/uploads/2026/04/service1-1-1.jpg
END:VEVENT
BEGIN:VEVENT
DTSTART;TZID=America/Denver:20260818T033000
DTEND;TZID=America/Denver:20260818T040000
DTSTAMP:20260421T103235
CREATED:20260420T232444Z
LAST-MODIFIED:20260420T232706Z
UID:10000838-1787023800-1787025600@srda-rec.org
SUMMARY:Mahjong
DESCRIPTION:Mahjong is a strategic\, four-player tile game often compared to Rummy\, where players race to build a winning hand of 14 tiles consisting of four melds (sets of three or four matching tiles) and one pair. Originating in 19th-century China\, it blends luck with deep probability and defensive strategy\, as players must balance forming their own high-scoring combinations while discarding tiles that won’t help opponents win. The game involves drawing and discarding tiles from a “wall” until one player successfully calls “Mahjong!”\, ending the round.
URL:https://srda-rec.org/event/mahjong/2026-08-18/
LOCATION:SRDA Second Floor\, 250 N Union Ave\, Pueblo\, CO\, 81003\, United States
CATEGORIES:Recreation & Support
ATTACH;FMTTYPE=image/webp:https://srda-rec.org/wp-content/uploads/2026/04/mahjong.webp
END:VEVENT
BEGIN:VEVENT
DTSTART;TZID=America/Denver:20260824T111500
DTEND;TZID=America/Denver:20260824T121500
DTSTAMP:20260421T103235
CREATED:20260420T234816Z
LAST-MODIFIED:20260421T000608Z
UID:10001100-1787570100-1787573700@srda-rec.org
SUMMARY:Chair Yoga
DESCRIPTION:Chair yoga is an accessible\, low-impact practice that adapts traditional yoga poses to be performed while seated or using a chair for support. By eliminating the need to get up and down from the floor\, it makes flexibility\, strength\, and balance training safe and enjoyable for seniors\, beginners\, and anyone seeking a gentle workout without the risk of falling.
URL:https://srda-rec.org/event/chair-yoga-2/2026-08-24/
LOCATION:SRDA Second Floor\, 250 N Union Ave\, Pueblo\, CO\, 81003\, United States
CATEGORIES:Wellness
ATTACH;FMTTYPE=image/webp:https://srda-rec.org/wp-content/uploads/2026/04/ChairYoga-e1776720418185.webp
END:VEVENT
BEGIN:VEVENT
DTSTART;TZID=America/Denver:20260825T000000
DTEND;TZID=America/Denver:20260825T000100
DTSTAMP:20260421T103235
CREATED:20260420T225749Z
LAST-MODIFIED:20260420T225751Z
UID:10000578-1787616000-1787616060@srda-rec.org
SUMMARY:Meditation
DESCRIPTION:Your weekly meditation… Wish I knew more
URL:https://srda-rec.org/event/meditation/2026-08-25/
LOCATION:SRDA Second Floor\, 250 N Union Ave\, Pueblo\, CO\, 81003\, United States
CATEGORIES:Wellness
ATTACH;FMTTYPE=image/jpeg:https://srda-rec.org/wp-content/uploads/2026/04/service1-1-1.jpg
END:VEVENT
BEGIN:VEVENT
DTSTART;TZID=America/Denver:20260825T033000
DTEND;TZID=America/Denver:20260825T040000
DTSTAMP:20260421T103235
CREATED:20260420T232444Z
LAST-MODIFIED:20260420T232706Z
UID:10000839-1787628600-1787630400@srda-rec.org
SUMMARY:Mahjong
DESCRIPTION:Mahjong is a strategic\, four-player tile game often compared to Rummy\, where players race to build a winning hand of 14 tiles consisting of four melds (sets of three or four matching tiles) and one pair. Originating in 19th-century China\, it blends luck with deep probability and defensive strategy\, as players must balance forming their own high-scoring combinations while discarding tiles that won’t help opponents win. The game involves drawing and discarding tiles from a “wall” until one player successfully calls “Mahjong!”\, ending the round.
URL:https://srda-rec.org/event/mahjong/2026-08-25/
LOCATION:SRDA Second Floor\, 250 N Union Ave\, Pueblo\, CO\, 81003\, United States
CATEGORIES:Recreation & Support
ATTACH;FMTTYPE=image/webp:https://srda-rec.org/wp-content/uploads/2026/04/mahjong.webp
END:VEVENT
BEGIN:VEVENT
DTSTART;TZID=America/Denver:20260831T111500
DTEND;TZID=America/Denver:20260831T121500
DTSTAMP:20260421T103235
CREATED:20260420T234816Z
LAST-MODIFIED:20260421T000608Z
UID:10001101-1788174900-1788178500@srda-rec.org
SUMMARY:Chair Yoga
DESCRIPTION:Chair yoga is an accessible\, low-impact practice that adapts traditional yoga poses to be performed while seated or using a chair for support. By eliminating the need to get up and down from the floor\, it makes flexibility\, strength\, and balance training safe and enjoyable for seniors\, beginners\, and anyone seeking a gentle workout without the risk of falling.
URL:https://srda-rec.org/event/chair-yoga-2/2026-08-31/
LOCATION:SRDA Second Floor\, 250 N Union Ave\, Pueblo\, CO\, 81003\, United States
CATEGORIES:Wellness
ATTACH;FMTTYPE=image/webp:https://srda-rec.org/wp-content/uploads/2026/04/ChairYoga-e1776720418185.webp
END:VEVENT
BEGIN:VEVENT
DTSTART;TZID=America/Denver:20260901T000000
DTEND;TZID=America/Denver:20260901T000100
DTSTAMP:20260421T103235
CREATED:20260420T225749Z
LAST-MODIFIED:20260420T225751Z
UID:10000579-1788220800-1788220860@srda-rec.org
SUMMARY:Meditation
DESCRIPTION:Your weekly meditation… Wish I knew more
URL:https://srda-rec.org/event/meditation/2026-09-01/
LOCATION:SRDA Second Floor\, 250 N Union Ave\, Pueblo\, CO\, 81003\, United States
CATEGORIES:Wellness
ATTACH;FMTTYPE=image/jpeg:https://srda-rec.org/wp-content/uploads/2026/04/service1-1-1.jpg
END:VEVENT
BEGIN:VEVENT
DTSTART;TZID=America/Denver:20260901T033000
DTEND;TZID=America/Denver:20260901T040000
DTSTAMP:20260421T103235
CREATED:20260420T232444Z
LAST-MODIFIED:20260420T232706Z
UID:10000840-1788233400-1788235200@srda-rec.org
SUMMARY:Mahjong
DESCRIPTION:Mahjong is a strategic\, four-player tile game often compared to Rummy\, where players race to build a winning hand of 14 tiles consisting of four melds (sets of three or four matching tiles) and one pair. Originating in 19th-century China\, it blends luck with deep probability and defensive strategy\, as players must balance forming their own high-scoring combinations while discarding tiles that won’t help opponents win. The game involves drawing and discarding tiles from a “wall” until one player successfully calls “Mahjong!”\, ending the round.
URL:https://srda-rec.org/event/mahjong/2026-09-01/
LOCATION:SRDA Second Floor\, 250 N Union Ave\, Pueblo\, CO\, 81003\, United States
CATEGORIES:Recreation & Support
ATTACH;FMTTYPE=image/webp:https://srda-rec.org/wp-content/uploads/2026/04/mahjong.webp
END:VEVENT
BEGIN:VEVENT
DTSTART;TZID=America/Denver:20260907T111500
DTEND;TZID=America/Denver:20260907T121500
DTSTAMP:20260421T103235
CREATED:20260420T234816Z
LAST-MODIFIED:20260421T000608Z
UID:10001102-1788779700-1788783300@srda-rec.org
SUMMARY:Chair Yoga
DESCRIPTION:Chair yoga is an accessible\, low-impact practice that adapts traditional yoga poses to be performed while seated or using a chair for support. By eliminating the need to get up and down from the floor\, it makes flexibility\, strength\, and balance training safe and enjoyable for seniors\, beginners\, and anyone seeking a gentle workout without the risk of falling.
URL:https://srda-rec.org/event/chair-yoga-2/2026-09-07/
LOCATION:SRDA Second Floor\, 250 N Union Ave\, Pueblo\, CO\, 81003\, United States
CATEGORIES:Wellness
ATTACH;FMTTYPE=image/webp:https://srda-rec.org/wp-content/uploads/2026/04/ChairYoga-e1776720418185.webp
END:VEVENT
BEGIN:VEVENT
DTSTART;TZID=America/Denver:20260908T000000
DTEND;TZID=America/Denver:20260908T000100
DTSTAMP:20260421T103235
CREATED:20260420T225749Z
LAST-MODIFIED:20260420T225751Z
UID:10000580-1788825600-1788825660@srda-rec.org
SUMMARY:Meditation
DESCRIPTION:Your weekly meditation… Wish I knew more
URL:https://srda-rec.org/event/meditation/2026-09-08/
LOCATION:SRDA Second Floor\, 250 N Union Ave\, Pueblo\, CO\, 81003\, United States
CATEGORIES:Wellness
ATTACH;FMTTYPE=image/jpeg:https://srda-rec.org/wp-content/uploads/2026/04/service1-1-1.jpg
END:VEVENT
BEGIN:VEVENT
DTSTART;TZID=America/Denver:20260908T033000
DTEND;TZID=America/Denver:20260908T040000
DTSTAMP:20260421T103235
CREATED:20260420T232444Z
LAST-MODIFIED:20260420T232706Z
UID:10000841-1788838200-1788840000@srda-rec.org
SUMMARY:Mahjong
DESCRIPTION:Mahjong is a strategic\, four-player tile game often compared to Rummy\, where players race to build a winning hand of 14 tiles consisting of four melds (sets of three or four matching tiles) and one pair. Originating in 19th-century China\, it blends luck with deep probability and defensive strategy\, as players must balance forming their own high-scoring combinations while discarding tiles that won’t help opponents win. The game involves drawing and discarding tiles from a “wall” until one player successfully calls “Mahjong!”\, ending the round.
URL:https://srda-rec.org/event/mahjong/2026-09-08/
LOCATION:SRDA Second Floor\, 250 N Union Ave\, Pueblo\, CO\, 81003\, United States
CATEGORIES:Recreation & Support
ATTACH;FMTTYPE=image/webp:https://srda-rec.org/wp-content/uploads/2026/04/mahjong.webp
END:VEVENT
BEGIN:VEVENT
DTSTART;TZID=America/Denver:20260914T111500
DTEND;TZID=America/Denver:20260914T121500
DTSTAMP:20260421T103235
CREATED:20260420T234816Z
LAST-MODIFIED:20260421T000608Z
UID:10001103-1789384500-1789388100@srda-rec.org
SUMMARY:Chair Yoga
DESCRIPTION:Chair yoga is an accessible\, low-impact practice that adapts traditional yoga poses to be performed while seated or using a chair for support. By eliminating the need to get up and down from the floor\, it makes flexibility\, strength\, and balance training safe and enjoyable for seniors\, beginners\, and anyone seeking a gentle workout without the risk of falling.
URL:https://srda-rec.org/event/chair-yoga-2/2026-09-14/
LOCATION:SRDA Second Floor\, 250 N Union Ave\, Pueblo\, CO\, 81003\, United States
CATEGORIES:Wellness
ATTACH;FMTTYPE=image/webp:https://srda-rec.org/wp-content/uploads/2026/04/ChairYoga-e1776720418185.webp
END:VEVENT
END:VCALENDAR