BEGIN:VCALENDAR
VERSION:2.0
PRODID:-//SRDA-Rec2 - ECPv6.15.20//NONSGML v1.0//EN
CALSCALE:GREGORIAN
METHOD:PUBLISH
X-WR-CALNAME:SRDA-Rec2
X-ORIGINAL-URL:https://srda-rec.org
X-WR-CALDESC:Events for SRDA-Rec2
REFRESH-INTERVAL;VALUE=DURATION:PT1H
X-Robots-Tag:noindex
X-PUBLISHED-TTL:PT1H
BEGIN:VTIMEZONE
TZID:America/Denver
BEGIN:DAYLIGHT
TZOFFSETFROM:-0700
TZOFFSETTO:-0600
TZNAME:MDT
DTSTART:20250309T090000
END:DAYLIGHT
BEGIN:STANDARD
TZOFFSETFROM:-0600
TZOFFSETTO:-0700
TZNAME:MST
DTSTART:20251102T080000
END:STANDARD
BEGIN:DAYLIGHT
TZOFFSETFROM:-0700
TZOFFSETTO:-0600
TZNAME:MDT
DTSTART:20260308T090000
END:DAYLIGHT
BEGIN:STANDARD
TZOFFSETFROM:-0600
TZOFFSETTO:-0700
TZNAME:MST
DTSTART:20261101T080000
END:STANDARD
BEGIN:DAYLIGHT
TZOFFSETFROM:-0700
TZOFFSETTO:-0600
TZNAME:MDT
DTSTART:20270314T090000
END:DAYLIGHT
BEGIN:STANDARD
TZOFFSETFROM:-0600
TZOFFSETTO:-0700
TZNAME:MST
DTSTART:20271107T080000
END:STANDARD
BEGIN:DAYLIGHT
TZOFFSETFROM:-0700
TZOFFSETTO:-0600
TZNAME:MDT
DTSTART:20280312T090000
END:DAYLIGHT
BEGIN:STANDARD
TZOFFSETFROM:-0600
TZOFFSETTO:-0700
TZNAME:MST
DTSTART:20281105T080000
END:STANDARD
END:VTIMEZONE
BEGIN:VEVENT
DTSTART;TZID=America/Denver:20261124T033000
DTEND;TZID=America/Denver:20261124T040000
DTSTAMP:20260421T173538
CREATED:20260420T232444Z
LAST-MODIFIED:20260420T232706Z
UID:10000852-1795491000-1795492800@srda-rec.org
SUMMARY:Mahjong
DESCRIPTION:Mahjong is a strategic\, four-player tile game often compared to Rummy\, where players race to build a winning hand of 14 tiles consisting of four melds (sets of three or four matching tiles) and one pair. Originating in 19th-century China\, it blends luck with deep probability and defensive strategy\, as players must balance forming their own high-scoring combinations while discarding tiles that won’t help opponents win. The game involves drawing and discarding tiles from a “wall” until one player successfully calls “Mahjong!”\, ending the round.
URL:https://srda-rec.org/event/mahjong/2026-11-24/
LOCATION:SRDA Second Floor\, 250 N Union Ave\, Pueblo\, CO\, 81003\, United States
CATEGORIES:Recreation & Support
ATTACH;FMTTYPE=image/webp:https://srda-rec.org/wp-content/uploads/2026/04/mahjong.webp
END:VEVENT
BEGIN:VEVENT
DTSTART;TZID=America/Denver:20261201T000000
DTEND;TZID=America/Denver:20261201T000100
DTSTAMP:20260421T173538
CREATED:20260420T225749Z
LAST-MODIFIED:20260420T225751Z
UID:10000592-1796083200-1796083260@srda-rec.org
SUMMARY:Meditation
DESCRIPTION:Your weekly meditation… Wish I knew more
URL:https://srda-rec.org/event/meditation/2026-12-01/
LOCATION:SRDA Second Floor\, 250 N Union Ave\, Pueblo\, CO\, 81003\, United States
CATEGORIES:Wellness
ATTACH;FMTTYPE=image/jpeg:https://srda-rec.org/wp-content/uploads/2026/04/service1-1-1.jpg
END:VEVENT
BEGIN:VEVENT
DTSTART;TZID=America/Denver:20261201T033000
DTEND;TZID=America/Denver:20261201T040000
DTSTAMP:20260421T173538
CREATED:20260420T232444Z
LAST-MODIFIED:20260420T232706Z
UID:10000853-1796095800-1796097600@srda-rec.org
SUMMARY:Mahjong
DESCRIPTION:Mahjong is a strategic\, four-player tile game often compared to Rummy\, where players race to build a winning hand of 14 tiles consisting of four melds (sets of three or four matching tiles) and one pair. Originating in 19th-century China\, it blends luck with deep probability and defensive strategy\, as players must balance forming their own high-scoring combinations while discarding tiles that won’t help opponents win. The game involves drawing and discarding tiles from a “wall” until one player successfully calls “Mahjong!”\, ending the round.
URL:https://srda-rec.org/event/mahjong/2026-12-01/
LOCATION:SRDA Second Floor\, 250 N Union Ave\, Pueblo\, CO\, 81003\, United States
CATEGORIES:Recreation & Support
ATTACH;FMTTYPE=image/webp:https://srda-rec.org/wp-content/uploads/2026/04/mahjong.webp
END:VEVENT
BEGIN:VEVENT
DTSTART;TZID=America/Denver:20261208T000000
DTEND;TZID=America/Denver:20261208T000100
DTSTAMP:20260421T173538
CREATED:20260420T225749Z
LAST-MODIFIED:20260420T225751Z
UID:10000593-1796688000-1796688060@srda-rec.org
SUMMARY:Meditation
DESCRIPTION:Your weekly meditation… Wish I knew more
URL:https://srda-rec.org/event/meditation/2026-12-08/
LOCATION:SRDA Second Floor\, 250 N Union Ave\, Pueblo\, CO\, 81003\, United States
CATEGORIES:Wellness
ATTACH;FMTTYPE=image/jpeg:https://srda-rec.org/wp-content/uploads/2026/04/service1-1-1.jpg
END:VEVENT
BEGIN:VEVENT
DTSTART;TZID=America/Denver:20261208T033000
DTEND;TZID=America/Denver:20261208T040000
DTSTAMP:20260421T173538
CREATED:20260420T232444Z
LAST-MODIFIED:20260420T232706Z
UID:10000854-1796700600-1796702400@srda-rec.org
SUMMARY:Mahjong
DESCRIPTION:Mahjong is a strategic\, four-player tile game often compared to Rummy\, where players race to build a winning hand of 14 tiles consisting of four melds (sets of three or four matching tiles) and one pair. Originating in 19th-century China\, it blends luck with deep probability and defensive strategy\, as players must balance forming their own high-scoring combinations while discarding tiles that won’t help opponents win. The game involves drawing and discarding tiles from a “wall” until one player successfully calls “Mahjong!”\, ending the round.
URL:https://srda-rec.org/event/mahjong/2026-12-08/
LOCATION:SRDA Second Floor\, 250 N Union Ave\, Pueblo\, CO\, 81003\, United States
CATEGORIES:Recreation & Support
ATTACH;FMTTYPE=image/webp:https://srda-rec.org/wp-content/uploads/2026/04/mahjong.webp
END:VEVENT
BEGIN:VEVENT
DTSTART;TZID=America/Denver:20261215T000000
DTEND;TZID=America/Denver:20261215T000100
DTSTAMP:20260421T173538
CREATED:20260420T225749Z
LAST-MODIFIED:20260420T225751Z
UID:10000594-1797292800-1797292860@srda-rec.org
SUMMARY:Meditation
DESCRIPTION:Your weekly meditation… Wish I knew more
URL:https://srda-rec.org/event/meditation/2026-12-15/
LOCATION:SRDA Second Floor\, 250 N Union Ave\, Pueblo\, CO\, 81003\, United States
CATEGORIES:Wellness
ATTACH;FMTTYPE=image/jpeg:https://srda-rec.org/wp-content/uploads/2026/04/service1-1-1.jpg
END:VEVENT
BEGIN:VEVENT
DTSTART;TZID=America/Denver:20261215T033000
DTEND;TZID=America/Denver:20261215T040000
DTSTAMP:20260421T173538
CREATED:20260420T232444Z
LAST-MODIFIED:20260420T232706Z
UID:10000855-1797305400-1797307200@srda-rec.org
SUMMARY:Mahjong
DESCRIPTION:Mahjong is a strategic\, four-player tile game often compared to Rummy\, where players race to build a winning hand of 14 tiles consisting of four melds (sets of three or four matching tiles) and one pair. Originating in 19th-century China\, it blends luck with deep probability and defensive strategy\, as players must balance forming their own high-scoring combinations while discarding tiles that won’t help opponents win. The game involves drawing and discarding tiles from a “wall” until one player successfully calls “Mahjong!”\, ending the round.
URL:https://srda-rec.org/event/mahjong/2026-12-15/
LOCATION:SRDA Second Floor\, 250 N Union Ave\, Pueblo\, CO\, 81003\, United States
CATEGORIES:Recreation & Support
ATTACH;FMTTYPE=image/webp:https://srda-rec.org/wp-content/uploads/2026/04/mahjong.webp
END:VEVENT
BEGIN:VEVENT
DTSTART;TZID=America/Denver:20261222T000000
DTEND;TZID=America/Denver:20261222T000100
DTSTAMP:20260421T173538
CREATED:20260420T225749Z
LAST-MODIFIED:20260420T225751Z
UID:10000595-1797897600-1797897660@srda-rec.org
SUMMARY:Meditation
DESCRIPTION:Your weekly meditation… Wish I knew more
URL:https://srda-rec.org/event/meditation/2026-12-22/
LOCATION:SRDA Second Floor\, 250 N Union Ave\, Pueblo\, CO\, 81003\, United States
CATEGORIES:Wellness
ATTACH;FMTTYPE=image/jpeg:https://srda-rec.org/wp-content/uploads/2026/04/service1-1-1.jpg
END:VEVENT
BEGIN:VEVENT
DTSTART;TZID=America/Denver:20261222T033000
DTEND;TZID=America/Denver:20261222T040000
DTSTAMP:20260421T173538
CREATED:20260420T232444Z
LAST-MODIFIED:20260420T232706Z
UID:10000856-1797910200-1797912000@srda-rec.org
SUMMARY:Mahjong
DESCRIPTION:Mahjong is a strategic\, four-player tile game often compared to Rummy\, where players race to build a winning hand of 14 tiles consisting of four melds (sets of three or four matching tiles) and one pair. Originating in 19th-century China\, it blends luck with deep probability and defensive strategy\, as players must balance forming their own high-scoring combinations while discarding tiles that won’t help opponents win. The game involves drawing and discarding tiles from a “wall” until one player successfully calls “Mahjong!”\, ending the round.
URL:https://srda-rec.org/event/mahjong/2026-12-22/
LOCATION:SRDA Second Floor\, 250 N Union Ave\, Pueblo\, CO\, 81003\, United States
CATEGORIES:Recreation & Support
ATTACH;FMTTYPE=image/webp:https://srda-rec.org/wp-content/uploads/2026/04/mahjong.webp
END:VEVENT
BEGIN:VEVENT
DTSTART;TZID=America/Denver:20261229T000000
DTEND;TZID=America/Denver:20261229T000100
DTSTAMP:20260421T173538
CREATED:20260420T225749Z
LAST-MODIFIED:20260420T225751Z
UID:10000596-1798502400-1798502460@srda-rec.org
SUMMARY:Meditation
DESCRIPTION:Your weekly meditation… Wish I knew more
URL:https://srda-rec.org/event/meditation/2026-12-29/
LOCATION:SRDA Second Floor\, 250 N Union Ave\, Pueblo\, CO\, 81003\, United States
CATEGORIES:Wellness
ATTACH;FMTTYPE=image/jpeg:https://srda-rec.org/wp-content/uploads/2026/04/service1-1-1.jpg
END:VEVENT
BEGIN:VEVENT
DTSTART;TZID=America/Denver:20261229T033000
DTEND;TZID=America/Denver:20261229T040000
DTSTAMP:20260421T173538
CREATED:20260420T232444Z
LAST-MODIFIED:20260420T232706Z
UID:10000857-1798515000-1798516800@srda-rec.org
SUMMARY:Mahjong
DESCRIPTION:Mahjong is a strategic\, four-player tile game often compared to Rummy\, where players race to build a winning hand of 14 tiles consisting of four melds (sets of three or four matching tiles) and one pair. Originating in 19th-century China\, it blends luck with deep probability and defensive strategy\, as players must balance forming their own high-scoring combinations while discarding tiles that won’t help opponents win. The game involves drawing and discarding tiles from a “wall” until one player successfully calls “Mahjong!”\, ending the round.
URL:https://srda-rec.org/event/mahjong/2026-12-29/
LOCATION:SRDA Second Floor\, 250 N Union Ave\, Pueblo\, CO\, 81003\, United States
CATEGORIES:Recreation & Support
ATTACH;FMTTYPE=image/webp:https://srda-rec.org/wp-content/uploads/2026/04/mahjong.webp
END:VEVENT
BEGIN:VEVENT
DTSTART;TZID=America/Denver:20270105T000000
DTEND;TZID=America/Denver:20270105T000100
DTSTAMP:20260421T173538
CREATED:20260420T225749Z
LAST-MODIFIED:20260420T225751Z
UID:10000597-1799107200-1799107260@srda-rec.org
SUMMARY:Meditation
DESCRIPTION:Your weekly meditation… Wish I knew more
URL:https://srda-rec.org/event/meditation/2027-01-05/
LOCATION:SRDA Second Floor\, 250 N Union Ave\, Pueblo\, CO\, 81003\, United States
CATEGORIES:Wellness
ATTACH;FMTTYPE=image/jpeg:https://srda-rec.org/wp-content/uploads/2026/04/service1-1-1.jpg
END:VEVENT
BEGIN:VEVENT
DTSTART;TZID=America/Denver:20270105T033000
DTEND;TZID=America/Denver:20270105T040000
DTSTAMP:20260421T173538
CREATED:20260420T232444Z
LAST-MODIFIED:20260420T232706Z
UID:10000858-1799119800-1799121600@srda-rec.org
SUMMARY:Mahjong
DESCRIPTION:Mahjong is a strategic\, four-player tile game often compared to Rummy\, where players race to build a winning hand of 14 tiles consisting of four melds (sets of three or four matching tiles) and one pair. Originating in 19th-century China\, it blends luck with deep probability and defensive strategy\, as players must balance forming their own high-scoring combinations while discarding tiles that won’t help opponents win. The game involves drawing and discarding tiles from a “wall” until one player successfully calls “Mahjong!”\, ending the round.
URL:https://srda-rec.org/event/mahjong/2027-01-05/
LOCATION:SRDA Second Floor\, 250 N Union Ave\, Pueblo\, CO\, 81003\, United States
CATEGORIES:Recreation & Support
ATTACH;FMTTYPE=image/webp:https://srda-rec.org/wp-content/uploads/2026/04/mahjong.webp
END:VEVENT
BEGIN:VEVENT
DTSTART;TZID=America/Denver:20270112T000000
DTEND;TZID=America/Denver:20270112T000100
DTSTAMP:20260421T173538
CREATED:20260420T225749Z
LAST-MODIFIED:20260420T225751Z
UID:10000598-1799712000-1799712060@srda-rec.org
SUMMARY:Meditation
DESCRIPTION:Your weekly meditation… Wish I knew more
URL:https://srda-rec.org/event/meditation/2027-01-12/
LOCATION:SRDA Second Floor\, 250 N Union Ave\, Pueblo\, CO\, 81003\, United States
CATEGORIES:Wellness
ATTACH;FMTTYPE=image/jpeg:https://srda-rec.org/wp-content/uploads/2026/04/service1-1-1.jpg
END:VEVENT
BEGIN:VEVENT
DTSTART;TZID=America/Denver:20270112T033000
DTEND;TZID=America/Denver:20270112T040000
DTSTAMP:20260421T173538
CREATED:20260420T232444Z
LAST-MODIFIED:20260420T232706Z
UID:10000859-1799724600-1799726400@srda-rec.org
SUMMARY:Mahjong
DESCRIPTION:Mahjong is a strategic\, four-player tile game often compared to Rummy\, where players race to build a winning hand of 14 tiles consisting of four melds (sets of three or four matching tiles) and one pair. Originating in 19th-century China\, it blends luck with deep probability and defensive strategy\, as players must balance forming their own high-scoring combinations while discarding tiles that won’t help opponents win. The game involves drawing and discarding tiles from a “wall” until one player successfully calls “Mahjong!”\, ending the round.
URL:https://srda-rec.org/event/mahjong/2027-01-12/
LOCATION:SRDA Second Floor\, 250 N Union Ave\, Pueblo\, CO\, 81003\, United States
CATEGORIES:Recreation & Support
ATTACH;FMTTYPE=image/webp:https://srda-rec.org/wp-content/uploads/2026/04/mahjong.webp
END:VEVENT
BEGIN:VEVENT
DTSTART;TZID=America/Denver:20270119T000000
DTEND;TZID=America/Denver:20270119T000100
DTSTAMP:20260421T173538
CREATED:20260420T225749Z
LAST-MODIFIED:20260420T225751Z
UID:10000599-1800316800-1800316860@srda-rec.org
SUMMARY:Meditation
DESCRIPTION:Your weekly meditation… Wish I knew more
URL:https://srda-rec.org/event/meditation/2027-01-19/
LOCATION:SRDA Second Floor\, 250 N Union Ave\, Pueblo\, CO\, 81003\, United States
CATEGORIES:Wellness
ATTACH;FMTTYPE=image/jpeg:https://srda-rec.org/wp-content/uploads/2026/04/service1-1-1.jpg
END:VEVENT
BEGIN:VEVENT
DTSTART;TZID=America/Denver:20270119T033000
DTEND;TZID=America/Denver:20270119T040000
DTSTAMP:20260421T173538
CREATED:20260420T232444Z
LAST-MODIFIED:20260420T232706Z
UID:10000860-1800329400-1800331200@srda-rec.org
SUMMARY:Mahjong
DESCRIPTION:Mahjong is a strategic\, four-player tile game often compared to Rummy\, where players race to build a winning hand of 14 tiles consisting of four melds (sets of three or four matching tiles) and one pair. Originating in 19th-century China\, it blends luck with deep probability and defensive strategy\, as players must balance forming their own high-scoring combinations while discarding tiles that won’t help opponents win. The game involves drawing and discarding tiles from a “wall” until one player successfully calls “Mahjong!”\, ending the round.
URL:https://srda-rec.org/event/mahjong/2027-01-19/
LOCATION:SRDA Second Floor\, 250 N Union Ave\, Pueblo\, CO\, 81003\, United States
CATEGORIES:Recreation & Support
ATTACH;FMTTYPE=image/webp:https://srda-rec.org/wp-content/uploads/2026/04/mahjong.webp
END:VEVENT
BEGIN:VEVENT
DTSTART;TZID=America/Denver:20270126T000000
DTEND;TZID=America/Denver:20270126T000100
DTSTAMP:20260421T173538
CREATED:20260420T225749Z
LAST-MODIFIED:20260420T225751Z
UID:10000600-1800921600-1800921660@srda-rec.org
SUMMARY:Meditation
DESCRIPTION:Your weekly meditation… Wish I knew more
URL:https://srda-rec.org/event/meditation/2027-01-26/
LOCATION:SRDA Second Floor\, 250 N Union Ave\, Pueblo\, CO\, 81003\, United States
CATEGORIES:Wellness
ATTACH;FMTTYPE=image/jpeg:https://srda-rec.org/wp-content/uploads/2026/04/service1-1-1.jpg
END:VEVENT
BEGIN:VEVENT
DTSTART;TZID=America/Denver:20270126T033000
DTEND;TZID=America/Denver:20270126T040000
DTSTAMP:20260421T173538
CREATED:20260420T232444Z
LAST-MODIFIED:20260420T232706Z
UID:10000861-1800934200-1800936000@srda-rec.org
SUMMARY:Mahjong
DESCRIPTION:Mahjong is a strategic\, four-player tile game often compared to Rummy\, where players race to build a winning hand of 14 tiles consisting of four melds (sets of three or four matching tiles) and one pair. Originating in 19th-century China\, it blends luck with deep probability and defensive strategy\, as players must balance forming their own high-scoring combinations while discarding tiles that won’t help opponents win. The game involves drawing and discarding tiles from a “wall” until one player successfully calls “Mahjong!”\, ending the round.
URL:https://srda-rec.org/event/mahjong/2027-01-26/
LOCATION:SRDA Second Floor\, 250 N Union Ave\, Pueblo\, CO\, 81003\, United States
CATEGORIES:Recreation & Support
ATTACH;FMTTYPE=image/webp:https://srda-rec.org/wp-content/uploads/2026/04/mahjong.webp
END:VEVENT
BEGIN:VEVENT
DTSTART;TZID=America/Denver:20270202T000000
DTEND;TZID=America/Denver:20270202T000100
DTSTAMP:20260421T173538
CREATED:20260420T225749Z
LAST-MODIFIED:20260420T225751Z
UID:10000601-1801526400-1801526460@srda-rec.org
SUMMARY:Meditation
DESCRIPTION:Your weekly meditation… Wish I knew more
URL:https://srda-rec.org/event/meditation/2027-02-02/
LOCATION:SRDA Second Floor\, 250 N Union Ave\, Pueblo\, CO\, 81003\, United States
CATEGORIES:Wellness
ATTACH;FMTTYPE=image/jpeg:https://srda-rec.org/wp-content/uploads/2026/04/service1-1-1.jpg
END:VEVENT
BEGIN:VEVENT
DTSTART;TZID=America/Denver:20270202T033000
DTEND;TZID=America/Denver:20270202T040000
DTSTAMP:20260421T173538
CREATED:20260420T232444Z
LAST-MODIFIED:20260420T232706Z
UID:10000862-1801539000-1801540800@srda-rec.org
SUMMARY:Mahjong
DESCRIPTION:Mahjong is a strategic\, four-player tile game often compared to Rummy\, where players race to build a winning hand of 14 tiles consisting of four melds (sets of three or four matching tiles) and one pair. Originating in 19th-century China\, it blends luck with deep probability and defensive strategy\, as players must balance forming their own high-scoring combinations while discarding tiles that won’t help opponents win. The game involves drawing and discarding tiles from a “wall” until one player successfully calls “Mahjong!”\, ending the round.
URL:https://srda-rec.org/event/mahjong/2027-02-02/
LOCATION:SRDA Second Floor\, 250 N Union Ave\, Pueblo\, CO\, 81003\, United States
CATEGORIES:Recreation & Support
ATTACH;FMTTYPE=image/webp:https://srda-rec.org/wp-content/uploads/2026/04/mahjong.webp
END:VEVENT
BEGIN:VEVENT
DTSTART;TZID=America/Denver:20270209T000000
DTEND;TZID=America/Denver:20270209T000100
DTSTAMP:20260421T173538
CREATED:20260420T225749Z
LAST-MODIFIED:20260420T225751Z
UID:10000602-1802131200-1802131260@srda-rec.org
SUMMARY:Meditation
DESCRIPTION:Your weekly meditation… Wish I knew more
URL:https://srda-rec.org/event/meditation/2027-02-09/
LOCATION:SRDA Second Floor\, 250 N Union Ave\, Pueblo\, CO\, 81003\, United States
CATEGORIES:Wellness
ATTACH;FMTTYPE=image/jpeg:https://srda-rec.org/wp-content/uploads/2026/04/service1-1-1.jpg
END:VEVENT
BEGIN:VEVENT
DTSTART;TZID=America/Denver:20270209T033000
DTEND;TZID=America/Denver:20270209T040000
DTSTAMP:20260421T173538
CREATED:20260420T232444Z
LAST-MODIFIED:20260420T232706Z
UID:10000863-1802143800-1802145600@srda-rec.org
SUMMARY:Mahjong
DESCRIPTION:Mahjong is a strategic\, four-player tile game often compared to Rummy\, where players race to build a winning hand of 14 tiles consisting of four melds (sets of three or four matching tiles) and one pair. Originating in 19th-century China\, it blends luck with deep probability and defensive strategy\, as players must balance forming their own high-scoring combinations while discarding tiles that won’t help opponents win. The game involves drawing and discarding tiles from a “wall” until one player successfully calls “Mahjong!”\, ending the round.
URL:https://srda-rec.org/event/mahjong/2027-02-09/
LOCATION:SRDA Second Floor\, 250 N Union Ave\, Pueblo\, CO\, 81003\, United States
CATEGORIES:Recreation & Support
ATTACH;FMTTYPE=image/webp:https://srda-rec.org/wp-content/uploads/2026/04/mahjong.webp
END:VEVENT
BEGIN:VEVENT
DTSTART;TZID=America/Denver:20270216T000000
DTEND;TZID=America/Denver:20270216T000100
DTSTAMP:20260421T173538
CREATED:20260420T225749Z
LAST-MODIFIED:20260420T225751Z
UID:10000603-1802736000-1802736060@srda-rec.org
SUMMARY:Meditation
DESCRIPTION:Your weekly meditation… Wish I knew more
URL:https://srda-rec.org/event/meditation/2027-02-16/
LOCATION:SRDA Second Floor\, 250 N Union Ave\, Pueblo\, CO\, 81003\, United States
CATEGORIES:Wellness
ATTACH;FMTTYPE=image/jpeg:https://srda-rec.org/wp-content/uploads/2026/04/service1-1-1.jpg
END:VEVENT
BEGIN:VEVENT
DTSTART;TZID=America/Denver:20270216T033000
DTEND;TZID=America/Denver:20270216T040000
DTSTAMP:20260421T173538
CREATED:20260420T232444Z
LAST-MODIFIED:20260420T232706Z
UID:10000864-1802748600-1802750400@srda-rec.org
SUMMARY:Mahjong
DESCRIPTION:Mahjong is a strategic\, four-player tile game often compared to Rummy\, where players race to build a winning hand of 14 tiles consisting of four melds (sets of three or four matching tiles) and one pair. Originating in 19th-century China\, it blends luck with deep probability and defensive strategy\, as players must balance forming their own high-scoring combinations while discarding tiles that won’t help opponents win. The game involves drawing and discarding tiles from a “wall” until one player successfully calls “Mahjong!”\, ending the round.
URL:https://srda-rec.org/event/mahjong/2027-02-16/
LOCATION:SRDA Second Floor\, 250 N Union Ave\, Pueblo\, CO\, 81003\, United States
CATEGORIES:Recreation & Support
ATTACH;FMTTYPE=image/webp:https://srda-rec.org/wp-content/uploads/2026/04/mahjong.webp
END:VEVENT
BEGIN:VEVENT
DTSTART;TZID=America/Denver:20270223T000000
DTEND;TZID=America/Denver:20270223T000100
DTSTAMP:20260421T173538
CREATED:20260420T225749Z
LAST-MODIFIED:20260420T225751Z
UID:10000604-1803340800-1803340860@srda-rec.org
SUMMARY:Meditation
DESCRIPTION:Your weekly meditation… Wish I knew more
URL:https://srda-rec.org/event/meditation/2027-02-23/
LOCATION:SRDA Second Floor\, 250 N Union Ave\, Pueblo\, CO\, 81003\, United States
CATEGORIES:Wellness
ATTACH;FMTTYPE=image/jpeg:https://srda-rec.org/wp-content/uploads/2026/04/service1-1-1.jpg
END:VEVENT
BEGIN:VEVENT
DTSTART;TZID=America/Denver:20270223T033000
DTEND;TZID=America/Denver:20270223T040000
DTSTAMP:20260421T173538
CREATED:20260420T232444Z
LAST-MODIFIED:20260420T232706Z
UID:10000865-1803353400-1803355200@srda-rec.org
SUMMARY:Mahjong
DESCRIPTION:Mahjong is a strategic\, four-player tile game often compared to Rummy\, where players race to build a winning hand of 14 tiles consisting of four melds (sets of three or four matching tiles) and one pair. Originating in 19th-century China\, it blends luck with deep probability and defensive strategy\, as players must balance forming their own high-scoring combinations while discarding tiles that won’t help opponents win. The game involves drawing and discarding tiles from a “wall” until one player successfully calls “Mahjong!”\, ending the round.
URL:https://srda-rec.org/event/mahjong/2027-02-23/
LOCATION:SRDA Second Floor\, 250 N Union Ave\, Pueblo\, CO\, 81003\, United States
CATEGORIES:Recreation & Support
ATTACH;FMTTYPE=image/webp:https://srda-rec.org/wp-content/uploads/2026/04/mahjong.webp
END:VEVENT
BEGIN:VEVENT
DTSTART;TZID=America/Denver:20270302T000000
DTEND;TZID=America/Denver:20270302T000100
DTSTAMP:20260421T173538
CREATED:20260420T225749Z
LAST-MODIFIED:20260420T225751Z
UID:10000605-1803945600-1803945660@srda-rec.org
SUMMARY:Meditation
DESCRIPTION:Your weekly meditation… Wish I knew more
URL:https://srda-rec.org/event/meditation/2027-03-02/
LOCATION:SRDA Second Floor\, 250 N Union Ave\, Pueblo\, CO\, 81003\, United States
CATEGORIES:Wellness
ATTACH;FMTTYPE=image/jpeg:https://srda-rec.org/wp-content/uploads/2026/04/service1-1-1.jpg
END:VEVENT
BEGIN:VEVENT
DTSTART;TZID=America/Denver:20270302T033000
DTEND;TZID=America/Denver:20270302T040000
DTSTAMP:20260421T173538
CREATED:20260420T232444Z
LAST-MODIFIED:20260420T232706Z
UID:10000866-1803958200-1803960000@srda-rec.org
SUMMARY:Mahjong
DESCRIPTION:Mahjong is a strategic\, four-player tile game often compared to Rummy\, where players race to build a winning hand of 14 tiles consisting of four melds (sets of three or four matching tiles) and one pair. Originating in 19th-century China\, it blends luck with deep probability and defensive strategy\, as players must balance forming their own high-scoring combinations while discarding tiles that won’t help opponents win. The game involves drawing and discarding tiles from a “wall” until one player successfully calls “Mahjong!”\, ending the round.
URL:https://srda-rec.org/event/mahjong/2027-03-02/
LOCATION:SRDA Second Floor\, 250 N Union Ave\, Pueblo\, CO\, 81003\, United States
CATEGORIES:Recreation & Support
ATTACH;FMTTYPE=image/webp:https://srda-rec.org/wp-content/uploads/2026/04/mahjong.webp
END:VEVENT
BEGIN:VEVENT
DTSTART;TZID=America/Denver:20270309T000000
DTEND;TZID=America/Denver:20270309T000100
DTSTAMP:20260421T173538
CREATED:20260420T225749Z
LAST-MODIFIED:20260420T225751Z
UID:10000606-1804550400-1804550460@srda-rec.org
SUMMARY:Meditation
DESCRIPTION:Your weekly meditation… Wish I knew more
URL:https://srda-rec.org/event/meditation/2027-03-09/
LOCATION:SRDA Second Floor\, 250 N Union Ave\, Pueblo\, CO\, 81003\, United States
CATEGORIES:Wellness
ATTACH;FMTTYPE=image/jpeg:https://srda-rec.org/wp-content/uploads/2026/04/service1-1-1.jpg
END:VEVENT
END:VCALENDAR