BEGIN:VCALENDAR
VERSION:2.0
PRODID:-//SRDA-Rec2 - ECPv6.15.20//NONSGML v1.0//EN
CALSCALE:GREGORIAN
METHOD:PUBLISH
X-ORIGINAL-URL:https://srda-rec.org
X-WR-CALDESC:Events for SRDA-Rec2
REFRESH-INTERVAL;VALUE=DURATION:PT1H
X-Robots-Tag:noindex
X-PUBLISHED-TTL:PT1H
BEGIN:VTIMEZONE
TZID:America/Denver
BEGIN:DAYLIGHT
TZOFFSETFROM:-0700
TZOFFSETTO:-0600
TZNAME:MDT
DTSTART:20290311T090000
END:DAYLIGHT
BEGIN:STANDARD
TZOFFSETFROM:-0600
TZOFFSETTO:-0700
TZNAME:MST
DTSTART:20291104T080000
END:STANDARD
BEGIN:DAYLIGHT
TZOFFSETFROM:-0700
TZOFFSETTO:-0600
TZNAME:MDT
DTSTART:20300310T090000
END:DAYLIGHT
BEGIN:STANDARD
TZOFFSETFROM:-0600
TZOFFSETTO:-0700
TZNAME:MST
DTSTART:20301103T080000
END:STANDARD
BEGIN:DAYLIGHT
TZOFFSETFROM:-0700
TZOFFSETTO:-0600
TZNAME:MDT
DTSTART:20310309T090000
END:DAYLIGHT
BEGIN:STANDARD
TZOFFSETFROM:-0600
TZOFFSETTO:-0700
TZNAME:MST
DTSTART:20311102T080000
END:STANDARD
END:VTIMEZONE
BEGIN:VEVENT
DTSTART;TZID=America/Denver:20300709T033000
DTEND;TZID=America/Denver:20300709T040000
DTSTAMP:20260423T151050
CREATED:20260420T232444Z
LAST-MODIFIED:20260420T232706Z
UID:10001041-1909798200-1909800000@srda-rec.org
SUMMARY:Mahjong
DESCRIPTION:Mahjong is a strategic\, four-player tile game often compared to Rummy\, where players race to build a winning hand of 14 tiles consisting of four melds (sets of three or four matching tiles) and one pair. Originating in 19th-century China\, it blends luck with deep probability and defensive strategy\, as players must balance forming their own high-scoring combinations while discarding tiles that won’t help opponents win. The game involves drawing and discarding tiles from a “wall” until one player successfully calls “Mahjong!”\, ending the round.
URL:https://srda-rec.org/event/mahjong/2030-07-09/
LOCATION:SRDA Second Floor\, 250 N Union Ave\, Pueblo\, CO\, 81003\, United States
CATEGORIES:Recreation & Support
ATTACH;FMTTYPE=image/webp:https://srda-rec.org/wp-content/uploads/2026/04/mahjong.webp
END:VEVENT
BEGIN:VEVENT
DTSTART;TZID=America/Denver:20300716T000000
DTEND;TZID=America/Denver:20300716T000100
DTSTAMP:20260423T151050
CREATED:20260420T225749Z
LAST-MODIFIED:20260420T225751Z
UID:10000781-1910390400-1910390460@srda-rec.org
SUMMARY:Meditation
DESCRIPTION:Your weekly meditation… Wish I knew more
URL:https://srda-rec.org/event/meditation/2030-07-16/
LOCATION:SRDA Second Floor\, 250 N Union Ave\, Pueblo\, CO\, 81003\, United States
CATEGORIES:Wellness
ATTACH;FMTTYPE=image/jpeg:https://srda-rec.org/wp-content/uploads/2026/04/service1-1-1.jpg
END:VEVENT
BEGIN:VEVENT
DTSTART;TZID=America/Denver:20300716T033000
DTEND;TZID=America/Denver:20300716T040000
DTSTAMP:20260423T151050
CREATED:20260420T232444Z
LAST-MODIFIED:20260420T232706Z
UID:10001042-1910403000-1910404800@srda-rec.org
SUMMARY:Mahjong
DESCRIPTION:Mahjong is a strategic\, four-player tile game often compared to Rummy\, where players race to build a winning hand of 14 tiles consisting of four melds (sets of three or four matching tiles) and one pair. Originating in 19th-century China\, it blends luck with deep probability and defensive strategy\, as players must balance forming their own high-scoring combinations while discarding tiles that won’t help opponents win. The game involves drawing and discarding tiles from a “wall” until one player successfully calls “Mahjong!”\, ending the round.
URL:https://srda-rec.org/event/mahjong/2030-07-16/
LOCATION:SRDA Second Floor\, 250 N Union Ave\, Pueblo\, CO\, 81003\, United States
CATEGORIES:Recreation & Support
ATTACH;FMTTYPE=image/webp:https://srda-rec.org/wp-content/uploads/2026/04/mahjong.webp
END:VEVENT
BEGIN:VEVENT
DTSTART;TZID=America/Denver:20300723T000000
DTEND;TZID=America/Denver:20300723T000100
DTSTAMP:20260423T151050
CREATED:20260420T225749Z
LAST-MODIFIED:20260420T225751Z
UID:10000782-1910995200-1910995260@srda-rec.org
SUMMARY:Meditation
DESCRIPTION:Your weekly meditation… Wish I knew more
URL:https://srda-rec.org/event/meditation/2030-07-23/
LOCATION:SRDA Second Floor\, 250 N Union Ave\, Pueblo\, CO\, 81003\, United States
CATEGORIES:Wellness
ATTACH;FMTTYPE=image/jpeg:https://srda-rec.org/wp-content/uploads/2026/04/service1-1-1.jpg
END:VEVENT
BEGIN:VEVENT
DTSTART;TZID=America/Denver:20300723T033000
DTEND;TZID=America/Denver:20300723T040000
DTSTAMP:20260423T151050
CREATED:20260420T232444Z
LAST-MODIFIED:20260420T232706Z
UID:10001043-1911007800-1911009600@srda-rec.org
SUMMARY:Mahjong
DESCRIPTION:Mahjong is a strategic\, four-player tile game often compared to Rummy\, where players race to build a winning hand of 14 tiles consisting of four melds (sets of three or four matching tiles) and one pair. Originating in 19th-century China\, it blends luck with deep probability and defensive strategy\, as players must balance forming their own high-scoring combinations while discarding tiles that won’t help opponents win. The game involves drawing and discarding tiles from a “wall” until one player successfully calls “Mahjong!”\, ending the round.
URL:https://srda-rec.org/event/mahjong/2030-07-23/
LOCATION:SRDA Second Floor\, 250 N Union Ave\, Pueblo\, CO\, 81003\, United States
CATEGORIES:Recreation & Support
ATTACH;FMTTYPE=image/webp:https://srda-rec.org/wp-content/uploads/2026/04/mahjong.webp
END:VEVENT
BEGIN:VEVENT
DTSTART;TZID=America/Denver:20300730T000000
DTEND;TZID=America/Denver:20300730T000100
DTSTAMP:20260423T151050
CREATED:20260420T225749Z
LAST-MODIFIED:20260420T225751Z
UID:10000783-1911600000-1911600060@srda-rec.org
SUMMARY:Meditation
DESCRIPTION:Your weekly meditation… Wish I knew more
URL:https://srda-rec.org/event/meditation/2030-07-30/
LOCATION:SRDA Second Floor\, 250 N Union Ave\, Pueblo\, CO\, 81003\, United States
CATEGORIES:Wellness
ATTACH;FMTTYPE=image/jpeg:https://srda-rec.org/wp-content/uploads/2026/04/service1-1-1.jpg
END:VEVENT
BEGIN:VEVENT
DTSTART;TZID=America/Denver:20300730T033000
DTEND;TZID=America/Denver:20300730T040000
DTSTAMP:20260423T151050
CREATED:20260420T232444Z
LAST-MODIFIED:20260420T232706Z
UID:10001044-1911612600-1911614400@srda-rec.org
SUMMARY:Mahjong
DESCRIPTION:Mahjong is a strategic\, four-player tile game often compared to Rummy\, where players race to build a winning hand of 14 tiles consisting of four melds (sets of three or four matching tiles) and one pair. Originating in 19th-century China\, it blends luck with deep probability and defensive strategy\, as players must balance forming their own high-scoring combinations while discarding tiles that won’t help opponents win. The game involves drawing and discarding tiles from a “wall” until one player successfully calls “Mahjong!”\, ending the round.
URL:https://srda-rec.org/event/mahjong/2030-07-30/
LOCATION:SRDA Second Floor\, 250 N Union Ave\, Pueblo\, CO\, 81003\, United States
CATEGORIES:Recreation & Support
ATTACH;FMTTYPE=image/webp:https://srda-rec.org/wp-content/uploads/2026/04/mahjong.webp
END:VEVENT
BEGIN:VEVENT
DTSTART;TZID=America/Denver:20300806T000000
DTEND;TZID=America/Denver:20300806T000100
DTSTAMP:20260423T151050
CREATED:20260420T225749Z
LAST-MODIFIED:20260420T225751Z
UID:10000784-1912204800-1912204860@srda-rec.org
SUMMARY:Meditation
DESCRIPTION:Your weekly meditation… Wish I knew more
URL:https://srda-rec.org/event/meditation/2030-08-06/
LOCATION:SRDA Second Floor\, 250 N Union Ave\, Pueblo\, CO\, 81003\, United States
CATEGORIES:Wellness
ATTACH;FMTTYPE=image/jpeg:https://srda-rec.org/wp-content/uploads/2026/04/service1-1-1.jpg
END:VEVENT
BEGIN:VEVENT
DTSTART;TZID=America/Denver:20300806T033000
DTEND;TZID=America/Denver:20300806T040000
DTSTAMP:20260423T151050
CREATED:20260420T232444Z
LAST-MODIFIED:20260420T232706Z
UID:10001045-1912217400-1912219200@srda-rec.org
SUMMARY:Mahjong
DESCRIPTION:Mahjong is a strategic\, four-player tile game often compared to Rummy\, where players race to build a winning hand of 14 tiles consisting of four melds (sets of three or four matching tiles) and one pair. Originating in 19th-century China\, it blends luck with deep probability and defensive strategy\, as players must balance forming their own high-scoring combinations while discarding tiles that won’t help opponents win. The game involves drawing and discarding tiles from a “wall” until one player successfully calls “Mahjong!”\, ending the round.
URL:https://srda-rec.org/event/mahjong/2030-08-06/
LOCATION:SRDA Second Floor\, 250 N Union Ave\, Pueblo\, CO\, 81003\, United States
CATEGORIES:Recreation & Support
ATTACH;FMTTYPE=image/webp:https://srda-rec.org/wp-content/uploads/2026/04/mahjong.webp
END:VEVENT
BEGIN:VEVENT
DTSTART;TZID=America/Denver:20300813T000000
DTEND;TZID=America/Denver:20300813T000100
DTSTAMP:20260423T151050
CREATED:20260420T225749Z
LAST-MODIFIED:20260420T225751Z
UID:10000785-1912809600-1912809660@srda-rec.org
SUMMARY:Meditation
DESCRIPTION:Your weekly meditation… Wish I knew more
URL:https://srda-rec.org/event/meditation/2030-08-13/
LOCATION:SRDA Second Floor\, 250 N Union Ave\, Pueblo\, CO\, 81003\, United States
CATEGORIES:Wellness
ATTACH;FMTTYPE=image/jpeg:https://srda-rec.org/wp-content/uploads/2026/04/service1-1-1.jpg
END:VEVENT
BEGIN:VEVENT
DTSTART;TZID=America/Denver:20300813T033000
DTEND;TZID=America/Denver:20300813T040000
DTSTAMP:20260423T151050
CREATED:20260420T232444Z
LAST-MODIFIED:20260420T232706Z
UID:10001046-1912822200-1912824000@srda-rec.org
SUMMARY:Mahjong
DESCRIPTION:Mahjong is a strategic\, four-player tile game often compared to Rummy\, where players race to build a winning hand of 14 tiles consisting of four melds (sets of three or four matching tiles) and one pair. Originating in 19th-century China\, it blends luck with deep probability and defensive strategy\, as players must balance forming their own high-scoring combinations while discarding tiles that won’t help opponents win. The game involves drawing and discarding tiles from a “wall” until one player successfully calls “Mahjong!”\, ending the round.
URL:https://srda-rec.org/event/mahjong/2030-08-13/
LOCATION:SRDA Second Floor\, 250 N Union Ave\, Pueblo\, CO\, 81003\, United States
CATEGORIES:Recreation & Support
ATTACH;FMTTYPE=image/webp:https://srda-rec.org/wp-content/uploads/2026/04/mahjong.webp
END:VEVENT
BEGIN:VEVENT
DTSTART;TZID=America/Denver:20300820T000000
DTEND;TZID=America/Denver:20300820T000100
DTSTAMP:20260423T151050
CREATED:20260420T225749Z
LAST-MODIFIED:20260420T225751Z
UID:10000786-1913414400-1913414460@srda-rec.org
SUMMARY:Meditation
DESCRIPTION:Your weekly meditation… Wish I knew more
URL:https://srda-rec.org/event/meditation/2030-08-20/
LOCATION:SRDA Second Floor\, 250 N Union Ave\, Pueblo\, CO\, 81003\, United States
CATEGORIES:Wellness
ATTACH;FMTTYPE=image/jpeg:https://srda-rec.org/wp-content/uploads/2026/04/service1-1-1.jpg
END:VEVENT
BEGIN:VEVENT
DTSTART;TZID=America/Denver:20300820T033000
DTEND;TZID=America/Denver:20300820T040000
DTSTAMP:20260423T151050
CREATED:20260420T232444Z
LAST-MODIFIED:20260420T232706Z
UID:10001047-1913427000-1913428800@srda-rec.org
SUMMARY:Mahjong
DESCRIPTION:Mahjong is a strategic\, four-player tile game often compared to Rummy\, where players race to build a winning hand of 14 tiles consisting of four melds (sets of three or four matching tiles) and one pair. Originating in 19th-century China\, it blends luck with deep probability and defensive strategy\, as players must balance forming their own high-scoring combinations while discarding tiles that won’t help opponents win. The game involves drawing and discarding tiles from a “wall” until one player successfully calls “Mahjong!”\, ending the round.
URL:https://srda-rec.org/event/mahjong/2030-08-20/
LOCATION:SRDA Second Floor\, 250 N Union Ave\, Pueblo\, CO\, 81003\, United States
CATEGORIES:Recreation & Support
ATTACH;FMTTYPE=image/webp:https://srda-rec.org/wp-content/uploads/2026/04/mahjong.webp
END:VEVENT
BEGIN:VEVENT
DTSTART;TZID=America/Denver:20300827T000000
DTEND;TZID=America/Denver:20300827T000100
DTSTAMP:20260423T151050
CREATED:20260420T225749Z
LAST-MODIFIED:20260420T225751Z
UID:10000787-1914019200-1914019260@srda-rec.org
SUMMARY:Meditation
DESCRIPTION:Your weekly meditation… Wish I knew more
URL:https://srda-rec.org/event/meditation/2030-08-27/
LOCATION:SRDA Second Floor\, 250 N Union Ave\, Pueblo\, CO\, 81003\, United States
CATEGORIES:Wellness
ATTACH;FMTTYPE=image/jpeg:https://srda-rec.org/wp-content/uploads/2026/04/service1-1-1.jpg
END:VEVENT
BEGIN:VEVENT
DTSTART;TZID=America/Denver:20300827T033000
DTEND;TZID=America/Denver:20300827T040000
DTSTAMP:20260423T151050
CREATED:20260420T232444Z
LAST-MODIFIED:20260420T232706Z
UID:10001048-1914031800-1914033600@srda-rec.org
SUMMARY:Mahjong
DESCRIPTION:Mahjong is a strategic\, four-player tile game often compared to Rummy\, where players race to build a winning hand of 14 tiles consisting of four melds (sets of three or four matching tiles) and one pair. Originating in 19th-century China\, it blends luck with deep probability and defensive strategy\, as players must balance forming their own high-scoring combinations while discarding tiles that won’t help opponents win. The game involves drawing and discarding tiles from a “wall” until one player successfully calls “Mahjong!”\, ending the round.
URL:https://srda-rec.org/event/mahjong/2030-08-27/
LOCATION:SRDA Second Floor\, 250 N Union Ave\, Pueblo\, CO\, 81003\, United States
CATEGORIES:Recreation & Support
ATTACH;FMTTYPE=image/webp:https://srda-rec.org/wp-content/uploads/2026/04/mahjong.webp
END:VEVENT
BEGIN:VEVENT
DTSTART;TZID=America/Denver:20300903T000000
DTEND;TZID=America/Denver:20300903T000100
DTSTAMP:20260423T151050
CREATED:20260420T225749Z
LAST-MODIFIED:20260420T225751Z
UID:10000788-1914624000-1914624060@srda-rec.org
SUMMARY:Meditation
DESCRIPTION:Your weekly meditation… Wish I knew more
URL:https://srda-rec.org/event/meditation/2030-09-03/
LOCATION:SRDA Second Floor\, 250 N Union Ave\, Pueblo\, CO\, 81003\, United States
CATEGORIES:Wellness
ATTACH;FMTTYPE=image/jpeg:https://srda-rec.org/wp-content/uploads/2026/04/service1-1-1.jpg
END:VEVENT
BEGIN:VEVENT
DTSTART;TZID=America/Denver:20300903T033000
DTEND;TZID=America/Denver:20300903T040000
DTSTAMP:20260423T151050
CREATED:20260420T232444Z
LAST-MODIFIED:20260420T232706Z
UID:10001049-1914636600-1914638400@srda-rec.org
SUMMARY:Mahjong
DESCRIPTION:Mahjong is a strategic\, four-player tile game often compared to Rummy\, where players race to build a winning hand of 14 tiles consisting of four melds (sets of three or four matching tiles) and one pair. Originating in 19th-century China\, it blends luck with deep probability and defensive strategy\, as players must balance forming their own high-scoring combinations while discarding tiles that won’t help opponents win. The game involves drawing and discarding tiles from a “wall” until one player successfully calls “Mahjong!”\, ending the round.
URL:https://srda-rec.org/event/mahjong/2030-09-03/
LOCATION:SRDA Second Floor\, 250 N Union Ave\, Pueblo\, CO\, 81003\, United States
CATEGORIES:Recreation & Support
ATTACH;FMTTYPE=image/webp:https://srda-rec.org/wp-content/uploads/2026/04/mahjong.webp
END:VEVENT
BEGIN:VEVENT
DTSTART;TZID=America/Denver:20300910T000000
DTEND;TZID=America/Denver:20300910T000100
DTSTAMP:20260423T151050
CREATED:20260420T225749Z
LAST-MODIFIED:20260420T225751Z
UID:10000789-1915228800-1915228860@srda-rec.org
SUMMARY:Meditation
DESCRIPTION:Your weekly meditation… Wish I knew more
URL:https://srda-rec.org/event/meditation/2030-09-10/
LOCATION:SRDA Second Floor\, 250 N Union Ave\, Pueblo\, CO\, 81003\, United States
CATEGORIES:Wellness
ATTACH;FMTTYPE=image/jpeg:https://srda-rec.org/wp-content/uploads/2026/04/service1-1-1.jpg
END:VEVENT
BEGIN:VEVENT
DTSTART;TZID=America/Denver:20300910T033000
DTEND;TZID=America/Denver:20300910T040000
DTSTAMP:20260423T151050
CREATED:20260420T232444Z
LAST-MODIFIED:20260420T232706Z
UID:10001050-1915241400-1915243200@srda-rec.org
SUMMARY:Mahjong
DESCRIPTION:Mahjong is a strategic\, four-player tile game often compared to Rummy\, where players race to build a winning hand of 14 tiles consisting of four melds (sets of three or four matching tiles) and one pair. Originating in 19th-century China\, it blends luck with deep probability and defensive strategy\, as players must balance forming their own high-scoring combinations while discarding tiles that won’t help opponents win. The game involves drawing and discarding tiles from a “wall” until one player successfully calls “Mahjong!”\, ending the round.
URL:https://srda-rec.org/event/mahjong/2030-09-10/
LOCATION:SRDA Second Floor\, 250 N Union Ave\, Pueblo\, CO\, 81003\, United States
CATEGORIES:Recreation & Support
ATTACH;FMTTYPE=image/webp:https://srda-rec.org/wp-content/uploads/2026/04/mahjong.webp
END:VEVENT
BEGIN:VEVENT
DTSTART;TZID=America/Denver:20300917T000000
DTEND;TZID=America/Denver:20300917T000100
DTSTAMP:20260423T151050
CREATED:20260420T225749Z
LAST-MODIFIED:20260420T225751Z
UID:10000790-1915833600-1915833660@srda-rec.org
SUMMARY:Meditation
DESCRIPTION:Your weekly meditation… Wish I knew more
URL:https://srda-rec.org/event/meditation/2030-09-17/
LOCATION:SRDA Second Floor\, 250 N Union Ave\, Pueblo\, CO\, 81003\, United States
CATEGORIES:Wellness
ATTACH;FMTTYPE=image/jpeg:https://srda-rec.org/wp-content/uploads/2026/04/service1-1-1.jpg
END:VEVENT
BEGIN:VEVENT
DTSTART;TZID=America/Denver:20300917T033000
DTEND;TZID=America/Denver:20300917T040000
DTSTAMP:20260423T151050
CREATED:20260420T232444Z
LAST-MODIFIED:20260420T232706Z
UID:10001051-1915846200-1915848000@srda-rec.org
SUMMARY:Mahjong
DESCRIPTION:Mahjong is a strategic\, four-player tile game often compared to Rummy\, where players race to build a winning hand of 14 tiles consisting of four melds (sets of three or four matching tiles) and one pair. Originating in 19th-century China\, it blends luck with deep probability and defensive strategy\, as players must balance forming their own high-scoring combinations while discarding tiles that won’t help opponents win. The game involves drawing and discarding tiles from a “wall” until one player successfully calls “Mahjong!”\, ending the round.
URL:https://srda-rec.org/event/mahjong/2030-09-17/
LOCATION:SRDA Second Floor\, 250 N Union Ave\, Pueblo\, CO\, 81003\, United States
CATEGORIES:Recreation & Support
ATTACH;FMTTYPE=image/webp:https://srda-rec.org/wp-content/uploads/2026/04/mahjong.webp
END:VEVENT
BEGIN:VEVENT
DTSTART;TZID=America/Denver:20300924T000000
DTEND;TZID=America/Denver:20300924T000100
DTSTAMP:20260423T151050
CREATED:20260420T225749Z
LAST-MODIFIED:20260420T225751Z
UID:10000791-1916438400-1916438460@srda-rec.org
SUMMARY:Meditation
DESCRIPTION:Your weekly meditation… Wish I knew more
URL:https://srda-rec.org/event/meditation/2030-09-24/
LOCATION:SRDA Second Floor\, 250 N Union Ave\, Pueblo\, CO\, 81003\, United States
CATEGORIES:Wellness
ATTACH;FMTTYPE=image/jpeg:https://srda-rec.org/wp-content/uploads/2026/04/service1-1-1.jpg
END:VEVENT
BEGIN:VEVENT
DTSTART;TZID=America/Denver:20300924T033000
DTEND;TZID=America/Denver:20300924T040000
DTSTAMP:20260423T151050
CREATED:20260420T232444Z
LAST-MODIFIED:20260420T232706Z
UID:10001052-1916451000-1916452800@srda-rec.org
SUMMARY:Mahjong
DESCRIPTION:Mahjong is a strategic\, four-player tile game often compared to Rummy\, where players race to build a winning hand of 14 tiles consisting of four melds (sets of three or four matching tiles) and one pair. Originating in 19th-century China\, it blends luck with deep probability and defensive strategy\, as players must balance forming their own high-scoring combinations while discarding tiles that won’t help opponents win. The game involves drawing and discarding tiles from a “wall” until one player successfully calls “Mahjong!”\, ending the round.
URL:https://srda-rec.org/event/mahjong/2030-09-24/
LOCATION:SRDA Second Floor\, 250 N Union Ave\, Pueblo\, CO\, 81003\, United States
CATEGORIES:Recreation & Support
ATTACH;FMTTYPE=image/webp:https://srda-rec.org/wp-content/uploads/2026/04/mahjong.webp
END:VEVENT
BEGIN:VEVENT
DTSTART;TZID=America/Denver:20301001T000000
DTEND;TZID=America/Denver:20301001T000100
DTSTAMP:20260423T151050
CREATED:20260420T225749Z
LAST-MODIFIED:20260420T225751Z
UID:10000792-1917043200-1917043260@srda-rec.org
SUMMARY:Meditation
DESCRIPTION:Your weekly meditation… Wish I knew more
URL:https://srda-rec.org/event/meditation/2030-10-01/
LOCATION:SRDA Second Floor\, 250 N Union Ave\, Pueblo\, CO\, 81003\, United States
CATEGORIES:Wellness
ATTACH;FMTTYPE=image/jpeg:https://srda-rec.org/wp-content/uploads/2026/04/service1-1-1.jpg
END:VEVENT
BEGIN:VEVENT
DTSTART;TZID=America/Denver:20301001T033000
DTEND;TZID=America/Denver:20301001T040000
DTSTAMP:20260423T151050
CREATED:20260420T232444Z
LAST-MODIFIED:20260420T232706Z
UID:10001053-1917055800-1917057600@srda-rec.org
SUMMARY:Mahjong
DESCRIPTION:Mahjong is a strategic\, four-player tile game often compared to Rummy\, where players race to build a winning hand of 14 tiles consisting of four melds (sets of three or four matching tiles) and one pair. Originating in 19th-century China\, it blends luck with deep probability and defensive strategy\, as players must balance forming their own high-scoring combinations while discarding tiles that won’t help opponents win. The game involves drawing and discarding tiles from a “wall” until one player successfully calls “Mahjong!”\, ending the round.
URL:https://srda-rec.org/event/mahjong/2030-10-01/
LOCATION:SRDA Second Floor\, 250 N Union Ave\, Pueblo\, CO\, 81003\, United States
CATEGORIES:Recreation & Support
ATTACH;FMTTYPE=image/webp:https://srda-rec.org/wp-content/uploads/2026/04/mahjong.webp
END:VEVENT
BEGIN:VEVENT
DTSTART;TZID=America/Denver:20301008T000000
DTEND;TZID=America/Denver:20301008T000100
DTSTAMP:20260423T151050
CREATED:20260420T225749Z
LAST-MODIFIED:20260420T225751Z
UID:10000793-1917648000-1917648060@srda-rec.org
SUMMARY:Meditation
DESCRIPTION:Your weekly meditation… Wish I knew more
URL:https://srda-rec.org/event/meditation/2030-10-08/
LOCATION:SRDA Second Floor\, 250 N Union Ave\, Pueblo\, CO\, 81003\, United States
CATEGORIES:Wellness
ATTACH;FMTTYPE=image/jpeg:https://srda-rec.org/wp-content/uploads/2026/04/service1-1-1.jpg
END:VEVENT
BEGIN:VEVENT
DTSTART;TZID=America/Denver:20301008T033000
DTEND;TZID=America/Denver:20301008T040000
DTSTAMP:20260423T151050
CREATED:20260420T232444Z
LAST-MODIFIED:20260420T232706Z
UID:10001054-1917660600-1917662400@srda-rec.org
SUMMARY:Mahjong
DESCRIPTION:Mahjong is a strategic\, four-player tile game often compared to Rummy\, where players race to build a winning hand of 14 tiles consisting of four melds (sets of three or four matching tiles) and one pair. Originating in 19th-century China\, it blends luck with deep probability and defensive strategy\, as players must balance forming their own high-scoring combinations while discarding tiles that won’t help opponents win. The game involves drawing and discarding tiles from a “wall” until one player successfully calls “Mahjong!”\, ending the round.
URL:https://srda-rec.org/event/mahjong/2030-10-08/
LOCATION:SRDA Second Floor\, 250 N Union Ave\, Pueblo\, CO\, 81003\, United States
CATEGORIES:Recreation & Support
ATTACH;FMTTYPE=image/webp:https://srda-rec.org/wp-content/uploads/2026/04/mahjong.webp
END:VEVENT
BEGIN:VEVENT
DTSTART;TZID=America/Denver:20301015T000000
DTEND;TZID=America/Denver:20301015T000100
DTSTAMP:20260423T151050
CREATED:20260420T225749Z
LAST-MODIFIED:20260420T225751Z
UID:10000794-1918252800-1918252860@srda-rec.org
SUMMARY:Meditation
DESCRIPTION:Your weekly meditation… Wish I knew more
URL:https://srda-rec.org/event/meditation/2030-10-15/
LOCATION:SRDA Second Floor\, 250 N Union Ave\, Pueblo\, CO\, 81003\, United States
CATEGORIES:Wellness
ATTACH;FMTTYPE=image/jpeg:https://srda-rec.org/wp-content/uploads/2026/04/service1-1-1.jpg
END:VEVENT
BEGIN:VEVENT
DTSTART;TZID=America/Denver:20301015T033000
DTEND;TZID=America/Denver:20301015T040000
DTSTAMP:20260423T151050
CREATED:20260420T232444Z
LAST-MODIFIED:20260420T232706Z
UID:10001055-1918265400-1918267200@srda-rec.org
SUMMARY:Mahjong
DESCRIPTION:Mahjong is a strategic\, four-player tile game often compared to Rummy\, where players race to build a winning hand of 14 tiles consisting of four melds (sets of three or four matching tiles) and one pair. Originating in 19th-century China\, it blends luck with deep probability and defensive strategy\, as players must balance forming their own high-scoring combinations while discarding tiles that won’t help opponents win. The game involves drawing and discarding tiles from a “wall” until one player successfully calls “Mahjong!”\, ending the round.
URL:https://srda-rec.org/event/mahjong/2030-10-15/
LOCATION:SRDA Second Floor\, 250 N Union Ave\, Pueblo\, CO\, 81003\, United States
CATEGORIES:Recreation & Support
ATTACH;FMTTYPE=image/webp:https://srda-rec.org/wp-content/uploads/2026/04/mahjong.webp
END:VEVENT
BEGIN:VEVENT
DTSTART;TZID=America/Denver:20301022T000000
DTEND;TZID=America/Denver:20301022T000100
DTSTAMP:20260423T151050
CREATED:20260420T225749Z
LAST-MODIFIED:20260420T225751Z
UID:10000795-1918857600-1918857660@srda-rec.org
SUMMARY:Meditation
DESCRIPTION:Your weekly meditation… Wish I knew more
URL:https://srda-rec.org/event/meditation/2030-10-22/
LOCATION:SRDA Second Floor\, 250 N Union Ave\, Pueblo\, CO\, 81003\, United States
CATEGORIES:Wellness
ATTACH;FMTTYPE=image/jpeg:https://srda-rec.org/wp-content/uploads/2026/04/service1-1-1.jpg
END:VEVENT
END:VCALENDAR