BEGIN:VCALENDAR
VERSION:2.0
PRODID:-//SRDA-Rec2 - ECPv6.15.20//NONSGML v1.0//EN
CALSCALE:GREGORIAN
METHOD:PUBLISH
X-ORIGINAL-URL:https://srda-rec.org
X-WR-CALDESC:Events for SRDA-Rec2
REFRESH-INTERVAL;VALUE=DURATION:PT1H
X-Robots-Tag:noindex
X-PUBLISHED-TTL:PT1H
BEGIN:VTIMEZONE
TZID:America/Denver
BEGIN:DAYLIGHT
TZOFFSETFROM:-0700
TZOFFSETTO:-0600
TZNAME:MDT
DTSTART:20280312T090000
END:DAYLIGHT
BEGIN:STANDARD
TZOFFSETFROM:-0600
TZOFFSETTO:-0700
TZNAME:MST
DTSTART:20281105T080000
END:STANDARD
BEGIN:DAYLIGHT
TZOFFSETFROM:-0700
TZOFFSETTO:-0600
TZNAME:MDT
DTSTART:20290311T090000
END:DAYLIGHT
BEGIN:STANDARD
TZOFFSETFROM:-0600
TZOFFSETTO:-0700
TZNAME:MST
DTSTART:20291104T080000
END:STANDARD
BEGIN:DAYLIGHT
TZOFFSETFROM:-0700
TZOFFSETTO:-0600
TZNAME:MDT
DTSTART:20300310T090000
END:DAYLIGHT
BEGIN:STANDARD
TZOFFSETFROM:-0600
TZOFFSETTO:-0700
TZNAME:MST
DTSTART:20301103T080000
END:STANDARD
BEGIN:DAYLIGHT
TZOFFSETFROM:-0700
TZOFFSETTO:-0600
TZNAME:MDT
DTSTART:20310309T090000
END:DAYLIGHT
BEGIN:STANDARD
TZOFFSETFROM:-0600
TZOFFSETTO:-0700
TZNAME:MST
DTSTART:20311102T080000
END:STANDARD
END:VTIMEZONE
BEGIN:VEVENT
DTSTART;TZID=America/Denver:20291023T000000
DTEND;TZID=America/Denver:20291023T000100
DTSTAMP:20260423T031720
CREATED:20260420T225749Z
LAST-MODIFIED:20260420T225751Z
UID:10000743-1887408000-1887408060@srda-rec.org
SUMMARY:Meditation
DESCRIPTION:Your weekly meditation… Wish I knew more
URL:https://srda-rec.org/event/meditation/2029-10-23/
LOCATION:SRDA Second Floor\, 250 N Union Ave\, Pueblo\, CO\, 81003\, United States
CATEGORIES:Wellness
ATTACH;FMTTYPE=image/jpeg:https://srda-rec.org/wp-content/uploads/2026/04/service1-1-1.jpg
END:VEVENT
BEGIN:VEVENT
DTSTART;TZID=America/Denver:20291023T033000
DTEND;TZID=America/Denver:20291023T040000
DTSTAMP:20260423T031720
CREATED:20260420T232444Z
LAST-MODIFIED:20260420T232706Z
UID:10001004-1887420600-1887422400@srda-rec.org
SUMMARY:Mahjong
DESCRIPTION:Mahjong is a strategic\, four-player tile game often compared to Rummy\, where players race to build a winning hand of 14 tiles consisting of four melds (sets of three or four matching tiles) and one pair. Originating in 19th-century China\, it blends luck with deep probability and defensive strategy\, as players must balance forming their own high-scoring combinations while discarding tiles that won’t help opponents win. The game involves drawing and discarding tiles from a “wall” until one player successfully calls “Mahjong!”\, ending the round.
URL:https://srda-rec.org/event/mahjong/2029-10-23/
LOCATION:SRDA Second Floor\, 250 N Union Ave\, Pueblo\, CO\, 81003\, United States
CATEGORIES:Recreation & Support
ATTACH;FMTTYPE=image/webp:https://srda-rec.org/wp-content/uploads/2026/04/mahjong.webp
END:VEVENT
BEGIN:VEVENT
DTSTART;TZID=America/Denver:20291030T000000
DTEND;TZID=America/Denver:20291030T000100
DTSTAMP:20260423T031720
CREATED:20260420T225749Z
LAST-MODIFIED:20260420T225751Z
UID:10000744-1888012800-1888012860@srda-rec.org
SUMMARY:Meditation
DESCRIPTION:Your weekly meditation… Wish I knew more
URL:https://srda-rec.org/event/meditation/2029-10-30/
LOCATION:SRDA Second Floor\, 250 N Union Ave\, Pueblo\, CO\, 81003\, United States
CATEGORIES:Wellness
ATTACH;FMTTYPE=image/jpeg:https://srda-rec.org/wp-content/uploads/2026/04/service1-1-1.jpg
END:VEVENT
BEGIN:VEVENT
DTSTART;TZID=America/Denver:20291030T033000
DTEND;TZID=America/Denver:20291030T040000
DTSTAMP:20260423T031720
CREATED:20260420T232444Z
LAST-MODIFIED:20260420T232706Z
UID:10001005-1888025400-1888027200@srda-rec.org
SUMMARY:Mahjong
DESCRIPTION:Mahjong is a strategic\, four-player tile game often compared to Rummy\, where players race to build a winning hand of 14 tiles consisting of four melds (sets of three or four matching tiles) and one pair. Originating in 19th-century China\, it blends luck with deep probability and defensive strategy\, as players must balance forming their own high-scoring combinations while discarding tiles that won’t help opponents win. The game involves drawing and discarding tiles from a “wall” until one player successfully calls “Mahjong!”\, ending the round.
URL:https://srda-rec.org/event/mahjong/2029-10-30/
LOCATION:SRDA Second Floor\, 250 N Union Ave\, Pueblo\, CO\, 81003\, United States
CATEGORIES:Recreation & Support
ATTACH;FMTTYPE=image/webp:https://srda-rec.org/wp-content/uploads/2026/04/mahjong.webp
END:VEVENT
BEGIN:VEVENT
DTSTART;TZID=America/Denver:20291106T000000
DTEND;TZID=America/Denver:20291106T000100
DTSTAMP:20260423T031720
CREATED:20260420T225749Z
LAST-MODIFIED:20260420T225751Z
UID:10000745-1888617600-1888617660@srda-rec.org
SUMMARY:Meditation
DESCRIPTION:Your weekly meditation… Wish I knew more
URL:https://srda-rec.org/event/meditation/2029-11-06/
LOCATION:SRDA Second Floor\, 250 N Union Ave\, Pueblo\, CO\, 81003\, United States
CATEGORIES:Wellness
ATTACH;FMTTYPE=image/jpeg:https://srda-rec.org/wp-content/uploads/2026/04/service1-1-1.jpg
END:VEVENT
BEGIN:VEVENT
DTSTART;TZID=America/Denver:20291106T033000
DTEND;TZID=America/Denver:20291106T040000
DTSTAMP:20260423T031720
CREATED:20260420T232444Z
LAST-MODIFIED:20260420T232706Z
UID:10001006-1888630200-1888632000@srda-rec.org
SUMMARY:Mahjong
DESCRIPTION:Mahjong is a strategic\, four-player tile game often compared to Rummy\, where players race to build a winning hand of 14 tiles consisting of four melds (sets of three or four matching tiles) and one pair. Originating in 19th-century China\, it blends luck with deep probability and defensive strategy\, as players must balance forming their own high-scoring combinations while discarding tiles that won’t help opponents win. The game involves drawing and discarding tiles from a “wall” until one player successfully calls “Mahjong!”\, ending the round.
URL:https://srda-rec.org/event/mahjong/2029-11-06/
LOCATION:SRDA Second Floor\, 250 N Union Ave\, Pueblo\, CO\, 81003\, United States
CATEGORIES:Recreation & Support
ATTACH;FMTTYPE=image/webp:https://srda-rec.org/wp-content/uploads/2026/04/mahjong.webp
END:VEVENT
BEGIN:VEVENT
DTSTART;TZID=America/Denver:20291113T000000
DTEND;TZID=America/Denver:20291113T000100
DTSTAMP:20260423T031720
CREATED:20260420T225749Z
LAST-MODIFIED:20260420T225751Z
UID:10000746-1889222400-1889222460@srda-rec.org
SUMMARY:Meditation
DESCRIPTION:Your weekly meditation… Wish I knew more
URL:https://srda-rec.org/event/meditation/2029-11-13/
LOCATION:SRDA Second Floor\, 250 N Union Ave\, Pueblo\, CO\, 81003\, United States
CATEGORIES:Wellness
ATTACH;FMTTYPE=image/jpeg:https://srda-rec.org/wp-content/uploads/2026/04/service1-1-1.jpg
END:VEVENT
BEGIN:VEVENT
DTSTART;TZID=America/Denver:20291113T033000
DTEND;TZID=America/Denver:20291113T040000
DTSTAMP:20260423T031720
CREATED:20260420T232444Z
LAST-MODIFIED:20260420T232706Z
UID:10001007-1889235000-1889236800@srda-rec.org
SUMMARY:Mahjong
DESCRIPTION:Mahjong is a strategic\, four-player tile game often compared to Rummy\, where players race to build a winning hand of 14 tiles consisting of four melds (sets of three or four matching tiles) and one pair. Originating in 19th-century China\, it blends luck with deep probability and defensive strategy\, as players must balance forming their own high-scoring combinations while discarding tiles that won’t help opponents win. The game involves drawing and discarding tiles from a “wall” until one player successfully calls “Mahjong!”\, ending the round.
URL:https://srda-rec.org/event/mahjong/2029-11-13/
LOCATION:SRDA Second Floor\, 250 N Union Ave\, Pueblo\, CO\, 81003\, United States
CATEGORIES:Recreation & Support
ATTACH;FMTTYPE=image/webp:https://srda-rec.org/wp-content/uploads/2026/04/mahjong.webp
END:VEVENT
BEGIN:VEVENT
DTSTART;TZID=America/Denver:20291120T000000
DTEND;TZID=America/Denver:20291120T000100
DTSTAMP:20260423T031720
CREATED:20260420T225749Z
LAST-MODIFIED:20260420T225751Z
UID:10000747-1889827200-1889827260@srda-rec.org
SUMMARY:Meditation
DESCRIPTION:Your weekly meditation… Wish I knew more
URL:https://srda-rec.org/event/meditation/2029-11-20/
LOCATION:SRDA Second Floor\, 250 N Union Ave\, Pueblo\, CO\, 81003\, United States
CATEGORIES:Wellness
ATTACH;FMTTYPE=image/jpeg:https://srda-rec.org/wp-content/uploads/2026/04/service1-1-1.jpg
END:VEVENT
BEGIN:VEVENT
DTSTART;TZID=America/Denver:20291120T033000
DTEND;TZID=America/Denver:20291120T040000
DTSTAMP:20260423T031720
CREATED:20260420T232444Z
LAST-MODIFIED:20260420T232706Z
UID:10001008-1889839800-1889841600@srda-rec.org
SUMMARY:Mahjong
DESCRIPTION:Mahjong is a strategic\, four-player tile game often compared to Rummy\, where players race to build a winning hand of 14 tiles consisting of four melds (sets of three or four matching tiles) and one pair. Originating in 19th-century China\, it blends luck with deep probability and defensive strategy\, as players must balance forming their own high-scoring combinations while discarding tiles that won’t help opponents win. The game involves drawing and discarding tiles from a “wall” until one player successfully calls “Mahjong!”\, ending the round.
URL:https://srda-rec.org/event/mahjong/2029-11-20/
LOCATION:SRDA Second Floor\, 250 N Union Ave\, Pueblo\, CO\, 81003\, United States
CATEGORIES:Recreation & Support
ATTACH;FMTTYPE=image/webp:https://srda-rec.org/wp-content/uploads/2026/04/mahjong.webp
END:VEVENT
BEGIN:VEVENT
DTSTART;TZID=America/Denver:20291127T000000
DTEND;TZID=America/Denver:20291127T000100
DTSTAMP:20260423T031720
CREATED:20260420T225749Z
LAST-MODIFIED:20260420T225751Z
UID:10000748-1890432000-1890432060@srda-rec.org
SUMMARY:Meditation
DESCRIPTION:Your weekly meditation… Wish I knew more
URL:https://srda-rec.org/event/meditation/2029-11-27/
LOCATION:SRDA Second Floor\, 250 N Union Ave\, Pueblo\, CO\, 81003\, United States
CATEGORIES:Wellness
ATTACH;FMTTYPE=image/jpeg:https://srda-rec.org/wp-content/uploads/2026/04/service1-1-1.jpg
END:VEVENT
BEGIN:VEVENT
DTSTART;TZID=America/Denver:20291127T033000
DTEND;TZID=America/Denver:20291127T040000
DTSTAMP:20260423T031720
CREATED:20260420T232444Z
LAST-MODIFIED:20260420T232706Z
UID:10001009-1890444600-1890446400@srda-rec.org
SUMMARY:Mahjong
DESCRIPTION:Mahjong is a strategic\, four-player tile game often compared to Rummy\, where players race to build a winning hand of 14 tiles consisting of four melds (sets of three or four matching tiles) and one pair. Originating in 19th-century China\, it blends luck with deep probability and defensive strategy\, as players must balance forming their own high-scoring combinations while discarding tiles that won’t help opponents win. The game involves drawing and discarding tiles from a “wall” until one player successfully calls “Mahjong!”\, ending the round.
URL:https://srda-rec.org/event/mahjong/2029-11-27/
LOCATION:SRDA Second Floor\, 250 N Union Ave\, Pueblo\, CO\, 81003\, United States
CATEGORIES:Recreation & Support
ATTACH;FMTTYPE=image/webp:https://srda-rec.org/wp-content/uploads/2026/04/mahjong.webp
END:VEVENT
BEGIN:VEVENT
DTSTART;TZID=America/Denver:20291204T000000
DTEND;TZID=America/Denver:20291204T000100
DTSTAMP:20260423T031720
CREATED:20260420T225749Z
LAST-MODIFIED:20260420T225751Z
UID:10000749-1891036800-1891036860@srda-rec.org
SUMMARY:Meditation
DESCRIPTION:Your weekly meditation… Wish I knew more
URL:https://srda-rec.org/event/meditation/2029-12-04/
LOCATION:SRDA Second Floor\, 250 N Union Ave\, Pueblo\, CO\, 81003\, United States
CATEGORIES:Wellness
ATTACH;FMTTYPE=image/jpeg:https://srda-rec.org/wp-content/uploads/2026/04/service1-1-1.jpg
END:VEVENT
BEGIN:VEVENT
DTSTART;TZID=America/Denver:20291204T033000
DTEND;TZID=America/Denver:20291204T040000
DTSTAMP:20260423T031720
CREATED:20260420T232444Z
LAST-MODIFIED:20260420T232706Z
UID:10001010-1891049400-1891051200@srda-rec.org
SUMMARY:Mahjong
DESCRIPTION:Mahjong is a strategic\, four-player tile game often compared to Rummy\, where players race to build a winning hand of 14 tiles consisting of four melds (sets of three or four matching tiles) and one pair. Originating in 19th-century China\, it blends luck with deep probability and defensive strategy\, as players must balance forming their own high-scoring combinations while discarding tiles that won’t help opponents win. The game involves drawing and discarding tiles from a “wall” until one player successfully calls “Mahjong!”\, ending the round.
URL:https://srda-rec.org/event/mahjong/2029-12-04/
LOCATION:SRDA Second Floor\, 250 N Union Ave\, Pueblo\, CO\, 81003\, United States
CATEGORIES:Recreation & Support
ATTACH;FMTTYPE=image/webp:https://srda-rec.org/wp-content/uploads/2026/04/mahjong.webp
END:VEVENT
BEGIN:VEVENT
DTSTART;TZID=America/Denver:20291211T000000
DTEND;TZID=America/Denver:20291211T000100
DTSTAMP:20260423T031720
CREATED:20260420T225749Z
LAST-MODIFIED:20260420T225751Z
UID:10000750-1891641600-1891641660@srda-rec.org
SUMMARY:Meditation
DESCRIPTION:Your weekly meditation… Wish I knew more
URL:https://srda-rec.org/event/meditation/2029-12-11/
LOCATION:SRDA Second Floor\, 250 N Union Ave\, Pueblo\, CO\, 81003\, United States
CATEGORIES:Wellness
ATTACH;FMTTYPE=image/jpeg:https://srda-rec.org/wp-content/uploads/2026/04/service1-1-1.jpg
END:VEVENT
BEGIN:VEVENT
DTSTART;TZID=America/Denver:20291211T033000
DTEND;TZID=America/Denver:20291211T040000
DTSTAMP:20260423T031720
CREATED:20260420T232444Z
LAST-MODIFIED:20260420T232706Z
UID:10001011-1891654200-1891656000@srda-rec.org
SUMMARY:Mahjong
DESCRIPTION:Mahjong is a strategic\, four-player tile game often compared to Rummy\, where players race to build a winning hand of 14 tiles consisting of four melds (sets of three or four matching tiles) and one pair. Originating in 19th-century China\, it blends luck with deep probability and defensive strategy\, as players must balance forming their own high-scoring combinations while discarding tiles that won’t help opponents win. The game involves drawing and discarding tiles from a “wall” until one player successfully calls “Mahjong!”\, ending the round.
URL:https://srda-rec.org/event/mahjong/2029-12-11/
LOCATION:SRDA Second Floor\, 250 N Union Ave\, Pueblo\, CO\, 81003\, United States
CATEGORIES:Recreation & Support
ATTACH;FMTTYPE=image/webp:https://srda-rec.org/wp-content/uploads/2026/04/mahjong.webp
END:VEVENT
BEGIN:VEVENT
DTSTART;TZID=America/Denver:20291218T000000
DTEND;TZID=America/Denver:20291218T000100
DTSTAMP:20260423T031720
CREATED:20260420T225749Z
LAST-MODIFIED:20260420T225751Z
UID:10000751-1892246400-1892246460@srda-rec.org
SUMMARY:Meditation
DESCRIPTION:Your weekly meditation… Wish I knew more
URL:https://srda-rec.org/event/meditation/2029-12-18/
LOCATION:SRDA Second Floor\, 250 N Union Ave\, Pueblo\, CO\, 81003\, United States
CATEGORIES:Wellness
ATTACH;FMTTYPE=image/jpeg:https://srda-rec.org/wp-content/uploads/2026/04/service1-1-1.jpg
END:VEVENT
BEGIN:VEVENT
DTSTART;TZID=America/Denver:20291218T033000
DTEND;TZID=America/Denver:20291218T040000
DTSTAMP:20260423T031720
CREATED:20260420T232444Z
LAST-MODIFIED:20260420T232706Z
UID:10001012-1892259000-1892260800@srda-rec.org
SUMMARY:Mahjong
DESCRIPTION:Mahjong is a strategic\, four-player tile game often compared to Rummy\, where players race to build a winning hand of 14 tiles consisting of four melds (sets of three or four matching tiles) and one pair. Originating in 19th-century China\, it blends luck with deep probability and defensive strategy\, as players must balance forming their own high-scoring combinations while discarding tiles that won’t help opponents win. The game involves drawing and discarding tiles from a “wall” until one player successfully calls “Mahjong!”\, ending the round.
URL:https://srda-rec.org/event/mahjong/2029-12-18/
LOCATION:SRDA Second Floor\, 250 N Union Ave\, Pueblo\, CO\, 81003\, United States
CATEGORIES:Recreation & Support
ATTACH;FMTTYPE=image/webp:https://srda-rec.org/wp-content/uploads/2026/04/mahjong.webp
END:VEVENT
BEGIN:VEVENT
DTSTART;TZID=America/Denver:20291225T000000
DTEND;TZID=America/Denver:20291225T000100
DTSTAMP:20260423T031720
CREATED:20260420T225749Z
LAST-MODIFIED:20260420T225751Z
UID:10000752-1892851200-1892851260@srda-rec.org
SUMMARY:Meditation
DESCRIPTION:Your weekly meditation… Wish I knew more
URL:https://srda-rec.org/event/meditation/2029-12-25/
LOCATION:SRDA Second Floor\, 250 N Union Ave\, Pueblo\, CO\, 81003\, United States
CATEGORIES:Wellness
ATTACH;FMTTYPE=image/jpeg:https://srda-rec.org/wp-content/uploads/2026/04/service1-1-1.jpg
END:VEVENT
BEGIN:VEVENT
DTSTART;TZID=America/Denver:20291225T033000
DTEND;TZID=America/Denver:20291225T040000
DTSTAMP:20260423T031720
CREATED:20260420T232444Z
LAST-MODIFIED:20260420T232706Z
UID:10001013-1892863800-1892865600@srda-rec.org
SUMMARY:Mahjong
DESCRIPTION:Mahjong is a strategic\, four-player tile game often compared to Rummy\, where players race to build a winning hand of 14 tiles consisting of four melds (sets of three or four matching tiles) and one pair. Originating in 19th-century China\, it blends luck with deep probability and defensive strategy\, as players must balance forming their own high-scoring combinations while discarding tiles that won’t help opponents win. The game involves drawing and discarding tiles from a “wall” until one player successfully calls “Mahjong!”\, ending the round.
URL:https://srda-rec.org/event/mahjong/2029-12-25/
LOCATION:SRDA Second Floor\, 250 N Union Ave\, Pueblo\, CO\, 81003\, United States
CATEGORIES:Recreation & Support
ATTACH;FMTTYPE=image/webp:https://srda-rec.org/wp-content/uploads/2026/04/mahjong.webp
END:VEVENT
BEGIN:VEVENT
DTSTART;TZID=America/Denver:20300101T000000
DTEND;TZID=America/Denver:20300101T000100
DTSTAMP:20260423T031720
CREATED:20260420T225749Z
LAST-MODIFIED:20260420T225751Z
UID:10000753-1893456000-1893456060@srda-rec.org
SUMMARY:Meditation
DESCRIPTION:Your weekly meditation… Wish I knew more
URL:https://srda-rec.org/event/meditation/2030-01-01/
LOCATION:SRDA Second Floor\, 250 N Union Ave\, Pueblo\, CO\, 81003\, United States
CATEGORIES:Wellness
ATTACH;FMTTYPE=image/jpeg:https://srda-rec.org/wp-content/uploads/2026/04/service1-1-1.jpg
END:VEVENT
BEGIN:VEVENT
DTSTART;TZID=America/Denver:20300101T033000
DTEND;TZID=America/Denver:20300101T040000
DTSTAMP:20260423T031720
CREATED:20260420T232444Z
LAST-MODIFIED:20260420T232706Z
UID:10001014-1893468600-1893470400@srda-rec.org
SUMMARY:Mahjong
DESCRIPTION:Mahjong is a strategic\, four-player tile game often compared to Rummy\, where players race to build a winning hand of 14 tiles consisting of four melds (sets of three or four matching tiles) and one pair. Originating in 19th-century China\, it blends luck with deep probability and defensive strategy\, as players must balance forming their own high-scoring combinations while discarding tiles that won’t help opponents win. The game involves drawing and discarding tiles from a “wall” until one player successfully calls “Mahjong!”\, ending the round.
URL:https://srda-rec.org/event/mahjong/2030-01-01/
LOCATION:SRDA Second Floor\, 250 N Union Ave\, Pueblo\, CO\, 81003\, United States
CATEGORIES:Recreation & Support
ATTACH;FMTTYPE=image/webp:https://srda-rec.org/wp-content/uploads/2026/04/mahjong.webp
END:VEVENT
BEGIN:VEVENT
DTSTART;TZID=America/Denver:20300108T000000
DTEND;TZID=America/Denver:20300108T000100
DTSTAMP:20260423T031720
CREATED:20260420T225749Z
LAST-MODIFIED:20260420T225751Z
UID:10000754-1894060800-1894060860@srda-rec.org
SUMMARY:Meditation
DESCRIPTION:Your weekly meditation… Wish I knew more
URL:https://srda-rec.org/event/meditation/2030-01-08/
LOCATION:SRDA Second Floor\, 250 N Union Ave\, Pueblo\, CO\, 81003\, United States
CATEGORIES:Wellness
ATTACH;FMTTYPE=image/jpeg:https://srda-rec.org/wp-content/uploads/2026/04/service1-1-1.jpg
END:VEVENT
BEGIN:VEVENT
DTSTART;TZID=America/Denver:20300108T033000
DTEND;TZID=America/Denver:20300108T040000
DTSTAMP:20260423T031720
CREATED:20260420T232444Z
LAST-MODIFIED:20260420T232706Z
UID:10001015-1894073400-1894075200@srda-rec.org
SUMMARY:Mahjong
DESCRIPTION:Mahjong is a strategic\, four-player tile game often compared to Rummy\, where players race to build a winning hand of 14 tiles consisting of four melds (sets of three or four matching tiles) and one pair. Originating in 19th-century China\, it blends luck with deep probability and defensive strategy\, as players must balance forming their own high-scoring combinations while discarding tiles that won’t help opponents win. The game involves drawing and discarding tiles from a “wall” until one player successfully calls “Mahjong!”\, ending the round.
URL:https://srda-rec.org/event/mahjong/2030-01-08/
LOCATION:SRDA Second Floor\, 250 N Union Ave\, Pueblo\, CO\, 81003\, United States
CATEGORIES:Recreation & Support
ATTACH;FMTTYPE=image/webp:https://srda-rec.org/wp-content/uploads/2026/04/mahjong.webp
END:VEVENT
BEGIN:VEVENT
DTSTART;TZID=America/Denver:20300115T000000
DTEND;TZID=America/Denver:20300115T000100
DTSTAMP:20260423T031720
CREATED:20260420T225749Z
LAST-MODIFIED:20260420T225751Z
UID:10000755-1894665600-1894665660@srda-rec.org
SUMMARY:Meditation
DESCRIPTION:Your weekly meditation… Wish I knew more
URL:https://srda-rec.org/event/meditation/2030-01-15/
LOCATION:SRDA Second Floor\, 250 N Union Ave\, Pueblo\, CO\, 81003\, United States
CATEGORIES:Wellness
ATTACH;FMTTYPE=image/jpeg:https://srda-rec.org/wp-content/uploads/2026/04/service1-1-1.jpg
END:VEVENT
BEGIN:VEVENT
DTSTART;TZID=America/Denver:20300115T033000
DTEND;TZID=America/Denver:20300115T040000
DTSTAMP:20260423T031720
CREATED:20260420T232444Z
LAST-MODIFIED:20260420T232706Z
UID:10001016-1894678200-1894680000@srda-rec.org
SUMMARY:Mahjong
DESCRIPTION:Mahjong is a strategic\, four-player tile game often compared to Rummy\, where players race to build a winning hand of 14 tiles consisting of four melds (sets of three or four matching tiles) and one pair. Originating in 19th-century China\, it blends luck with deep probability and defensive strategy\, as players must balance forming their own high-scoring combinations while discarding tiles that won’t help opponents win. The game involves drawing and discarding tiles from a “wall” until one player successfully calls “Mahjong!”\, ending the round.
URL:https://srda-rec.org/event/mahjong/2030-01-15/
LOCATION:SRDA Second Floor\, 250 N Union Ave\, Pueblo\, CO\, 81003\, United States
CATEGORIES:Recreation & Support
ATTACH;FMTTYPE=image/webp:https://srda-rec.org/wp-content/uploads/2026/04/mahjong.webp
END:VEVENT
BEGIN:VEVENT
DTSTART;TZID=America/Denver:20300122T000000
DTEND;TZID=America/Denver:20300122T000100
DTSTAMP:20260423T031720
CREATED:20260420T225749Z
LAST-MODIFIED:20260420T225751Z
UID:10000756-1895270400-1895270460@srda-rec.org
SUMMARY:Meditation
DESCRIPTION:Your weekly meditation… Wish I knew more
URL:https://srda-rec.org/event/meditation/2030-01-22/
LOCATION:SRDA Second Floor\, 250 N Union Ave\, Pueblo\, CO\, 81003\, United States
CATEGORIES:Wellness
ATTACH;FMTTYPE=image/jpeg:https://srda-rec.org/wp-content/uploads/2026/04/service1-1-1.jpg
END:VEVENT
BEGIN:VEVENT
DTSTART;TZID=America/Denver:20300122T033000
DTEND;TZID=America/Denver:20300122T040000
DTSTAMP:20260423T031720
CREATED:20260420T232444Z
LAST-MODIFIED:20260420T232706Z
UID:10001017-1895283000-1895284800@srda-rec.org
SUMMARY:Mahjong
DESCRIPTION:Mahjong is a strategic\, four-player tile game often compared to Rummy\, where players race to build a winning hand of 14 tiles consisting of four melds (sets of three or four matching tiles) and one pair. Originating in 19th-century China\, it blends luck with deep probability and defensive strategy\, as players must balance forming their own high-scoring combinations while discarding tiles that won’t help opponents win. The game involves drawing and discarding tiles from a “wall” until one player successfully calls “Mahjong!”\, ending the round.
URL:https://srda-rec.org/event/mahjong/2030-01-22/
LOCATION:SRDA Second Floor\, 250 N Union Ave\, Pueblo\, CO\, 81003\, United States
CATEGORIES:Recreation & Support
ATTACH;FMTTYPE=image/webp:https://srda-rec.org/wp-content/uploads/2026/04/mahjong.webp
END:VEVENT
BEGIN:VEVENT
DTSTART;TZID=America/Denver:20300129T000000
DTEND;TZID=America/Denver:20300129T000100
DTSTAMP:20260423T031720
CREATED:20260420T225749Z
LAST-MODIFIED:20260420T225751Z
UID:10000757-1895875200-1895875260@srda-rec.org
SUMMARY:Meditation
DESCRIPTION:Your weekly meditation… Wish I knew more
URL:https://srda-rec.org/event/meditation/2030-01-29/
LOCATION:SRDA Second Floor\, 250 N Union Ave\, Pueblo\, CO\, 81003\, United States
CATEGORIES:Wellness
ATTACH;FMTTYPE=image/jpeg:https://srda-rec.org/wp-content/uploads/2026/04/service1-1-1.jpg
END:VEVENT
BEGIN:VEVENT
DTSTART;TZID=America/Denver:20300129T033000
DTEND;TZID=America/Denver:20300129T040000
DTSTAMP:20260423T031720
CREATED:20260420T232444Z
LAST-MODIFIED:20260420T232706Z
UID:10001018-1895887800-1895889600@srda-rec.org
SUMMARY:Mahjong
DESCRIPTION:Mahjong is a strategic\, four-player tile game often compared to Rummy\, where players race to build a winning hand of 14 tiles consisting of four melds (sets of three or four matching tiles) and one pair. Originating in 19th-century China\, it blends luck with deep probability and defensive strategy\, as players must balance forming their own high-scoring combinations while discarding tiles that won’t help opponents win. The game involves drawing and discarding tiles from a “wall” until one player successfully calls “Mahjong!”\, ending the round.
URL:https://srda-rec.org/event/mahjong/2030-01-29/
LOCATION:SRDA Second Floor\, 250 N Union Ave\, Pueblo\, CO\, 81003\, United States
CATEGORIES:Recreation & Support
ATTACH;FMTTYPE=image/webp:https://srda-rec.org/wp-content/uploads/2026/04/mahjong.webp
END:VEVENT
END:VCALENDAR