BEGIN:VCALENDAR
VERSION:2.0
PRODID:-//SRDA-Rec2 - ECPv6.15.20//NONSGML v1.0//EN
CALSCALE:GREGORIAN
METHOD:PUBLISH
X-ORIGINAL-URL:https://srda-rec.org
X-WR-CALDESC:Events for SRDA-Rec2
REFRESH-INTERVAL;VALUE=DURATION:PT1H
X-Robots-Tag:noindex
X-PUBLISHED-TTL:PT1H
BEGIN:VTIMEZONE
TZID:America/Denver
BEGIN:DAYLIGHT
TZOFFSETFROM:-0700
TZOFFSETTO:-0600
TZNAME:MDT
DTSTART:20300310T090000
END:DAYLIGHT
BEGIN:STANDARD
TZOFFSETFROM:-0600
TZOFFSETTO:-0700
TZNAME:MST
DTSTART:20301103T080000
END:STANDARD
BEGIN:DAYLIGHT
TZOFFSETFROM:-0700
TZOFFSETTO:-0600
TZNAME:MDT
DTSTART:20310309T090000
END:DAYLIGHT
BEGIN:STANDARD
TZOFFSETFROM:-0600
TZOFFSETTO:-0700
TZNAME:MST
DTSTART:20311102T080000
END:STANDARD
BEGIN:DAYLIGHT
TZOFFSETFROM:-0700
TZOFFSETTO:-0600
TZNAME:MDT
DTSTART:20320314T090000
END:DAYLIGHT
BEGIN:STANDARD
TZOFFSETFROM:-0600
TZOFFSETTO:-0700
TZNAME:MST
DTSTART:20321107T080000
END:STANDARD
END:VTIMEZONE
BEGIN:VEVENT
DTSTART;TZID=America/Denver:20310204T000000
DTEND;TZID=America/Denver:20310204T000100
DTSTAMP:20260424T074049
CREATED:20260420T225749Z
LAST-MODIFIED:20260420T225751Z
UID:10000810-1927929600-1927929660@srda-rec.org
SUMMARY:Meditation
DESCRIPTION:Your weekly meditation… Wish I knew more
URL:https://srda-rec.org/event/meditation/2031-02-04/
LOCATION:SRDA Second Floor\, 250 N Union Ave\, Pueblo\, CO\, 81003\, United States
CATEGORIES:Wellness
ATTACH;FMTTYPE=image/jpeg:https://srda-rec.org/wp-content/uploads/2026/04/service1-1-1.jpg
END:VEVENT
BEGIN:VEVENT
DTSTART;TZID=America/Denver:20310204T033000
DTEND;TZID=America/Denver:20310204T040000
DTSTAMP:20260424T074049
CREATED:20260420T232444Z
LAST-MODIFIED:20260420T232706Z
UID:10001071-1927942200-1927944000@srda-rec.org
SUMMARY:Mahjong
DESCRIPTION:Mahjong is a strategic\, four-player tile game often compared to Rummy\, where players race to build a winning hand of 14 tiles consisting of four melds (sets of three or four matching tiles) and one pair. Originating in 19th-century China\, it blends luck with deep probability and defensive strategy\, as players must balance forming their own high-scoring combinations while discarding tiles that won’t help opponents win. The game involves drawing and discarding tiles from a “wall” until one player successfully calls “Mahjong!”\, ending the round.
URL:https://srda-rec.org/event/mahjong/2031-02-04/
LOCATION:SRDA Second Floor\, 250 N Union Ave\, Pueblo\, CO\, 81003\, United States
CATEGORIES:Recreation & Support
ATTACH;FMTTYPE=image/webp:https://srda-rec.org/wp-content/uploads/2026/04/mahjong.webp
END:VEVENT
BEGIN:VEVENT
DTSTART;TZID=America/Denver:20310211T000000
DTEND;TZID=America/Denver:20310211T000100
DTSTAMP:20260424T074049
CREATED:20260420T225749Z
LAST-MODIFIED:20260420T225751Z
UID:10000811-1928534400-1928534460@srda-rec.org
SUMMARY:Meditation
DESCRIPTION:Your weekly meditation… Wish I knew more
URL:https://srda-rec.org/event/meditation/2031-02-11/
LOCATION:SRDA Second Floor\, 250 N Union Ave\, Pueblo\, CO\, 81003\, United States
CATEGORIES:Wellness
ATTACH;FMTTYPE=image/jpeg:https://srda-rec.org/wp-content/uploads/2026/04/service1-1-1.jpg
END:VEVENT
BEGIN:VEVENT
DTSTART;TZID=America/Denver:20310211T033000
DTEND;TZID=America/Denver:20310211T040000
DTSTAMP:20260424T074049
CREATED:20260420T232444Z
LAST-MODIFIED:20260420T232706Z
UID:10001072-1928547000-1928548800@srda-rec.org
SUMMARY:Mahjong
DESCRIPTION:Mahjong is a strategic\, four-player tile game often compared to Rummy\, where players race to build a winning hand of 14 tiles consisting of four melds (sets of three or four matching tiles) and one pair. Originating in 19th-century China\, it blends luck with deep probability and defensive strategy\, as players must balance forming their own high-scoring combinations while discarding tiles that won’t help opponents win. The game involves drawing and discarding tiles from a “wall” until one player successfully calls “Mahjong!”\, ending the round.
URL:https://srda-rec.org/event/mahjong/2031-02-11/
LOCATION:SRDA Second Floor\, 250 N Union Ave\, Pueblo\, CO\, 81003\, United States
CATEGORIES:Recreation & Support
ATTACH;FMTTYPE=image/webp:https://srda-rec.org/wp-content/uploads/2026/04/mahjong.webp
END:VEVENT
BEGIN:VEVENT
DTSTART;TZID=America/Denver:20310218T000000
DTEND;TZID=America/Denver:20310218T000100
DTSTAMP:20260424T074049
CREATED:20260420T225749Z
LAST-MODIFIED:20260420T225751Z
UID:10000812-1929139200-1929139260@srda-rec.org
SUMMARY:Meditation
DESCRIPTION:Your weekly meditation… Wish I knew more
URL:https://srda-rec.org/event/meditation/2031-02-18/
LOCATION:SRDA Second Floor\, 250 N Union Ave\, Pueblo\, CO\, 81003\, United States
CATEGORIES:Wellness
ATTACH;FMTTYPE=image/jpeg:https://srda-rec.org/wp-content/uploads/2026/04/service1-1-1.jpg
END:VEVENT
BEGIN:VEVENT
DTSTART;TZID=America/Denver:20310218T033000
DTEND;TZID=America/Denver:20310218T040000
DTSTAMP:20260424T074049
CREATED:20260420T232444Z
LAST-MODIFIED:20260420T232706Z
UID:10001073-1929151800-1929153600@srda-rec.org
SUMMARY:Mahjong
DESCRIPTION:Mahjong is a strategic\, four-player tile game often compared to Rummy\, where players race to build a winning hand of 14 tiles consisting of four melds (sets of three or four matching tiles) and one pair. Originating in 19th-century China\, it blends luck with deep probability and defensive strategy\, as players must balance forming their own high-scoring combinations while discarding tiles that won’t help opponents win. The game involves drawing and discarding tiles from a “wall” until one player successfully calls “Mahjong!”\, ending the round.
URL:https://srda-rec.org/event/mahjong/2031-02-18/
LOCATION:SRDA Second Floor\, 250 N Union Ave\, Pueblo\, CO\, 81003\, United States
CATEGORIES:Recreation & Support
ATTACH;FMTTYPE=image/webp:https://srda-rec.org/wp-content/uploads/2026/04/mahjong.webp
END:VEVENT
BEGIN:VEVENT
DTSTART;TZID=America/Denver:20310225T000000
DTEND;TZID=America/Denver:20310225T000100
DTSTAMP:20260424T074049
CREATED:20260420T225749Z
LAST-MODIFIED:20260420T225751Z
UID:10000813-1929744000-1929744060@srda-rec.org
SUMMARY:Meditation
DESCRIPTION:Your weekly meditation… Wish I knew more
URL:https://srda-rec.org/event/meditation/2031-02-25/
LOCATION:SRDA Second Floor\, 250 N Union Ave\, Pueblo\, CO\, 81003\, United States
CATEGORIES:Wellness
ATTACH;FMTTYPE=image/jpeg:https://srda-rec.org/wp-content/uploads/2026/04/service1-1-1.jpg
END:VEVENT
BEGIN:VEVENT
DTSTART;TZID=America/Denver:20310225T033000
DTEND;TZID=America/Denver:20310225T040000
DTSTAMP:20260424T074049
CREATED:20260420T232444Z
LAST-MODIFIED:20260420T232706Z
UID:10001074-1929756600-1929758400@srda-rec.org
SUMMARY:Mahjong
DESCRIPTION:Mahjong is a strategic\, four-player tile game often compared to Rummy\, where players race to build a winning hand of 14 tiles consisting of four melds (sets of three or four matching tiles) and one pair. Originating in 19th-century China\, it blends luck with deep probability and defensive strategy\, as players must balance forming their own high-scoring combinations while discarding tiles that won’t help opponents win. The game involves drawing and discarding tiles from a “wall” until one player successfully calls “Mahjong!”\, ending the round.
URL:https://srda-rec.org/event/mahjong/2031-02-25/
LOCATION:SRDA Second Floor\, 250 N Union Ave\, Pueblo\, CO\, 81003\, United States
CATEGORIES:Recreation & Support
ATTACH;FMTTYPE=image/webp:https://srda-rec.org/wp-content/uploads/2026/04/mahjong.webp
END:VEVENT
BEGIN:VEVENT
DTSTART;TZID=America/Denver:20310304T000000
DTEND;TZID=America/Denver:20310304T000100
DTSTAMP:20260424T074049
CREATED:20260420T225749Z
LAST-MODIFIED:20260420T225751Z
UID:10000814-1930348800-1930348860@srda-rec.org
SUMMARY:Meditation
DESCRIPTION:Your weekly meditation… Wish I knew more
URL:https://srda-rec.org/event/meditation/2031-03-04/
LOCATION:SRDA Second Floor\, 250 N Union Ave\, Pueblo\, CO\, 81003\, United States
CATEGORIES:Wellness
ATTACH;FMTTYPE=image/jpeg:https://srda-rec.org/wp-content/uploads/2026/04/service1-1-1.jpg
END:VEVENT
BEGIN:VEVENT
DTSTART;TZID=America/Denver:20310304T033000
DTEND;TZID=America/Denver:20310304T040000
DTSTAMP:20260424T074049
CREATED:20260420T232444Z
LAST-MODIFIED:20260420T232706Z
UID:10001075-1930361400-1930363200@srda-rec.org
SUMMARY:Mahjong
DESCRIPTION:Mahjong is a strategic\, four-player tile game often compared to Rummy\, where players race to build a winning hand of 14 tiles consisting of four melds (sets of three or four matching tiles) and one pair. Originating in 19th-century China\, it blends luck with deep probability and defensive strategy\, as players must balance forming their own high-scoring combinations while discarding tiles that won’t help opponents win. The game involves drawing and discarding tiles from a “wall” until one player successfully calls “Mahjong!”\, ending the round.
URL:https://srda-rec.org/event/mahjong/2031-03-04/
LOCATION:SRDA Second Floor\, 250 N Union Ave\, Pueblo\, CO\, 81003\, United States
CATEGORIES:Recreation & Support
ATTACH;FMTTYPE=image/webp:https://srda-rec.org/wp-content/uploads/2026/04/mahjong.webp
END:VEVENT
BEGIN:VEVENT
DTSTART;TZID=America/Denver:20310311T000000
DTEND;TZID=America/Denver:20310311T000100
DTSTAMP:20260424T074049
CREATED:20260420T225749Z
LAST-MODIFIED:20260420T225751Z
UID:10000815-1930953600-1930953660@srda-rec.org
SUMMARY:Meditation
DESCRIPTION:Your weekly meditation… Wish I knew more
URL:https://srda-rec.org/event/meditation/2031-03-11/
LOCATION:SRDA Second Floor\, 250 N Union Ave\, Pueblo\, CO\, 81003\, United States
CATEGORIES:Wellness
ATTACH;FMTTYPE=image/jpeg:https://srda-rec.org/wp-content/uploads/2026/04/service1-1-1.jpg
END:VEVENT
BEGIN:VEVENT
DTSTART;TZID=America/Denver:20310311T033000
DTEND;TZID=America/Denver:20310311T040000
DTSTAMP:20260424T074049
CREATED:20260420T232444Z
LAST-MODIFIED:20260420T232706Z
UID:10001076-1930966200-1930968000@srda-rec.org
SUMMARY:Mahjong
DESCRIPTION:Mahjong is a strategic\, four-player tile game often compared to Rummy\, where players race to build a winning hand of 14 tiles consisting of four melds (sets of three or four matching tiles) and one pair. Originating in 19th-century China\, it blends luck with deep probability and defensive strategy\, as players must balance forming their own high-scoring combinations while discarding tiles that won’t help opponents win. The game involves drawing and discarding tiles from a “wall” until one player successfully calls “Mahjong!”\, ending the round.
URL:https://srda-rec.org/event/mahjong/2031-03-11/
LOCATION:SRDA Second Floor\, 250 N Union Ave\, Pueblo\, CO\, 81003\, United States
CATEGORIES:Recreation & Support
ATTACH;FMTTYPE=image/webp:https://srda-rec.org/wp-content/uploads/2026/04/mahjong.webp
END:VEVENT
BEGIN:VEVENT
DTSTART;TZID=America/Denver:20310318T000000
DTEND;TZID=America/Denver:20310318T000100
DTSTAMP:20260424T074049
CREATED:20260420T225749Z
LAST-MODIFIED:20260420T225751Z
UID:10000816-1931558400-1931558460@srda-rec.org
SUMMARY:Meditation
DESCRIPTION:Your weekly meditation… Wish I knew more
URL:https://srda-rec.org/event/meditation/2031-03-18/
LOCATION:SRDA Second Floor\, 250 N Union Ave\, Pueblo\, CO\, 81003\, United States
CATEGORIES:Wellness
ATTACH;FMTTYPE=image/jpeg:https://srda-rec.org/wp-content/uploads/2026/04/service1-1-1.jpg
END:VEVENT
BEGIN:VEVENT
DTSTART;TZID=America/Denver:20310318T033000
DTEND;TZID=America/Denver:20310318T040000
DTSTAMP:20260424T074049
CREATED:20260420T232444Z
LAST-MODIFIED:20260420T232706Z
UID:10001077-1931571000-1931572800@srda-rec.org
SUMMARY:Mahjong
DESCRIPTION:Mahjong is a strategic\, four-player tile game often compared to Rummy\, where players race to build a winning hand of 14 tiles consisting of four melds (sets of three or four matching tiles) and one pair. Originating in 19th-century China\, it blends luck with deep probability and defensive strategy\, as players must balance forming their own high-scoring combinations while discarding tiles that won’t help opponents win. The game involves drawing and discarding tiles from a “wall” until one player successfully calls “Mahjong!”\, ending the round.
URL:https://srda-rec.org/event/mahjong/2031-03-18/
LOCATION:SRDA Second Floor\, 250 N Union Ave\, Pueblo\, CO\, 81003\, United States
CATEGORIES:Recreation & Support
ATTACH;FMTTYPE=image/webp:https://srda-rec.org/wp-content/uploads/2026/04/mahjong.webp
END:VEVENT
BEGIN:VEVENT
DTSTART;TZID=America/Denver:20310325T000000
DTEND;TZID=America/Denver:20310325T000100
DTSTAMP:20260424T074049
CREATED:20260420T225749Z
LAST-MODIFIED:20260420T225751Z
UID:10000817-1932163200-1932163260@srda-rec.org
SUMMARY:Meditation
DESCRIPTION:Your weekly meditation… Wish I knew more
URL:https://srda-rec.org/event/meditation/2031-03-25/
LOCATION:SRDA Second Floor\, 250 N Union Ave\, Pueblo\, CO\, 81003\, United States
CATEGORIES:Wellness
ATTACH;FMTTYPE=image/jpeg:https://srda-rec.org/wp-content/uploads/2026/04/service1-1-1.jpg
END:VEVENT
BEGIN:VEVENT
DTSTART;TZID=America/Denver:20310325T033000
DTEND;TZID=America/Denver:20310325T040000
DTSTAMP:20260424T074049
CREATED:20260420T232444Z
LAST-MODIFIED:20260420T232706Z
UID:10001078-1932175800-1932177600@srda-rec.org
SUMMARY:Mahjong
DESCRIPTION:Mahjong is a strategic\, four-player tile game often compared to Rummy\, where players race to build a winning hand of 14 tiles consisting of four melds (sets of three or four matching tiles) and one pair. Originating in 19th-century China\, it blends luck with deep probability and defensive strategy\, as players must balance forming their own high-scoring combinations while discarding tiles that won’t help opponents win. The game involves drawing and discarding tiles from a “wall” until one player successfully calls “Mahjong!”\, ending the round.
URL:https://srda-rec.org/event/mahjong/2031-03-25/
LOCATION:SRDA Second Floor\, 250 N Union Ave\, Pueblo\, CO\, 81003\, United States
CATEGORIES:Recreation & Support
ATTACH;FMTTYPE=image/webp:https://srda-rec.org/wp-content/uploads/2026/04/mahjong.webp
END:VEVENT
BEGIN:VEVENT
DTSTART;TZID=America/Denver:20310401T000000
DTEND;TZID=America/Denver:20310401T000100
DTSTAMP:20260424T074049
CREATED:20260420T225749Z
LAST-MODIFIED:20260420T225751Z
UID:10000818-1932768000-1932768060@srda-rec.org
SUMMARY:Meditation
DESCRIPTION:Your weekly meditation… Wish I knew more
URL:https://srda-rec.org/event/meditation/2031-04-01/
LOCATION:SRDA Second Floor\, 250 N Union Ave\, Pueblo\, CO\, 81003\, United States
CATEGORIES:Wellness
ATTACH;FMTTYPE=image/jpeg:https://srda-rec.org/wp-content/uploads/2026/04/service1-1-1.jpg
END:VEVENT
BEGIN:VEVENT
DTSTART;TZID=America/Denver:20310401T033000
DTEND;TZID=America/Denver:20310401T040000
DTSTAMP:20260424T074049
CREATED:20260420T232444Z
LAST-MODIFIED:20260420T232706Z
UID:10001079-1932780600-1932782400@srda-rec.org
SUMMARY:Mahjong
DESCRIPTION:Mahjong is a strategic\, four-player tile game often compared to Rummy\, where players race to build a winning hand of 14 tiles consisting of four melds (sets of three or four matching tiles) and one pair. Originating in 19th-century China\, it blends luck with deep probability and defensive strategy\, as players must balance forming their own high-scoring combinations while discarding tiles that won’t help opponents win. The game involves drawing and discarding tiles from a “wall” until one player successfully calls “Mahjong!”\, ending the round.
URL:https://srda-rec.org/event/mahjong/2031-04-01/
LOCATION:SRDA Second Floor\, 250 N Union Ave\, Pueblo\, CO\, 81003\, United States
CATEGORIES:Recreation & Support
ATTACH;FMTTYPE=image/webp:https://srda-rec.org/wp-content/uploads/2026/04/mahjong.webp
END:VEVENT
BEGIN:VEVENT
DTSTART;TZID=America/Denver:20310408T000000
DTEND;TZID=America/Denver:20310408T000100
DTSTAMP:20260424T074049
CREATED:20260420T225749Z
LAST-MODIFIED:20260420T225751Z
UID:10000819-1933372800-1933372860@srda-rec.org
SUMMARY:Meditation
DESCRIPTION:Your weekly meditation… Wish I knew more
URL:https://srda-rec.org/event/meditation/2031-04-08/
LOCATION:SRDA Second Floor\, 250 N Union Ave\, Pueblo\, CO\, 81003\, United States
CATEGORIES:Wellness
ATTACH;FMTTYPE=image/jpeg:https://srda-rec.org/wp-content/uploads/2026/04/service1-1-1.jpg
END:VEVENT
BEGIN:VEVENT
DTSTART;TZID=America/Denver:20310408T033000
DTEND;TZID=America/Denver:20310408T040000
DTSTAMP:20260424T074049
CREATED:20260420T232444Z
LAST-MODIFIED:20260420T232706Z
UID:10001080-1933385400-1933387200@srda-rec.org
SUMMARY:Mahjong
DESCRIPTION:Mahjong is a strategic\, four-player tile game often compared to Rummy\, where players race to build a winning hand of 14 tiles consisting of four melds (sets of three or four matching tiles) and one pair. Originating in 19th-century China\, it blends luck with deep probability and defensive strategy\, as players must balance forming their own high-scoring combinations while discarding tiles that won’t help opponents win. The game involves drawing and discarding tiles from a “wall” until one player successfully calls “Mahjong!”\, ending the round.
URL:https://srda-rec.org/event/mahjong/2031-04-08/
LOCATION:SRDA Second Floor\, 250 N Union Ave\, Pueblo\, CO\, 81003\, United States
CATEGORIES:Recreation & Support
ATTACH;FMTTYPE=image/webp:https://srda-rec.org/wp-content/uploads/2026/04/mahjong.webp
END:VEVENT
BEGIN:VEVENT
DTSTART;TZID=America/Denver:20310415T000000
DTEND;TZID=America/Denver:20310415T000100
DTSTAMP:20260424T074049
CREATED:20260420T225749Z
LAST-MODIFIED:20260420T225751Z
UID:10000820-1933977600-1933977660@srda-rec.org
SUMMARY:Meditation
DESCRIPTION:Your weekly meditation… Wish I knew more
URL:https://srda-rec.org/event/meditation/2031-04-15/
LOCATION:SRDA Second Floor\, 250 N Union Ave\, Pueblo\, CO\, 81003\, United States
CATEGORIES:Wellness
ATTACH;FMTTYPE=image/jpeg:https://srda-rec.org/wp-content/uploads/2026/04/service1-1-1.jpg
END:VEVENT
BEGIN:VEVENT
DTSTART;TZID=America/Denver:20310415T033000
DTEND;TZID=America/Denver:20310415T040000
DTSTAMP:20260424T074049
CREATED:20260420T232444Z
LAST-MODIFIED:20260420T232706Z
UID:10001081-1933990200-1933992000@srda-rec.org
SUMMARY:Mahjong
DESCRIPTION:Mahjong is a strategic\, four-player tile game often compared to Rummy\, where players race to build a winning hand of 14 tiles consisting of four melds (sets of three or four matching tiles) and one pair. Originating in 19th-century China\, it blends luck with deep probability and defensive strategy\, as players must balance forming their own high-scoring combinations while discarding tiles that won’t help opponents win. The game involves drawing and discarding tiles from a “wall” until one player successfully calls “Mahjong!”\, ending the round.
URL:https://srda-rec.org/event/mahjong/2031-04-15/
LOCATION:SRDA Second Floor\, 250 N Union Ave\, Pueblo\, CO\, 81003\, United States
CATEGORIES:Recreation & Support
ATTACH;FMTTYPE=image/webp:https://srda-rec.org/wp-content/uploads/2026/04/mahjong.webp
END:VEVENT
END:VCALENDAR