BEGIN:VCALENDAR
VERSION:2.0
PRODID:-//SRDA-Rec2 - ECPv6.15.20//NONSGML v1.0//EN
CALSCALE:GREGORIAN
METHOD:PUBLISH
X-WR-CALNAME:SRDA-Rec2
X-ORIGINAL-URL:https://srda-rec.org
X-WR-CALDESC:Events for SRDA-Rec2
REFRESH-INTERVAL;VALUE=DURATION:PT1H
X-Robots-Tag:noindex
X-PUBLISHED-TTL:PT1H
BEGIN:VTIMEZONE
TZID:America/Denver
BEGIN:DAYLIGHT
TZOFFSETFROM:-0700
TZOFFSETTO:-0600
TZNAME:MDT
DTSTART:20250309T090000
END:DAYLIGHT
BEGIN:STANDARD
TZOFFSETFROM:-0600
TZOFFSETTO:-0700
TZNAME:MST
DTSTART:20251102T080000
END:STANDARD
BEGIN:DAYLIGHT
TZOFFSETFROM:-0700
TZOFFSETTO:-0600
TZNAME:MDT
DTSTART:20260308T090000
END:DAYLIGHT
BEGIN:STANDARD
TZOFFSETFROM:-0600
TZOFFSETTO:-0700
TZNAME:MST
DTSTART:20261101T080000
END:STANDARD
BEGIN:DAYLIGHT
TZOFFSETFROM:-0700
TZOFFSETTO:-0600
TZNAME:MDT
DTSTART:20270314T090000
END:DAYLIGHT
BEGIN:STANDARD
TZOFFSETFROM:-0600
TZOFFSETTO:-0700
TZNAME:MST
DTSTART:20271107T080000
END:STANDARD
END:VTIMEZONE
BEGIN:VEVENT
DTSTART;TZID=America/Denver:20260407T080000
DTEND;TZID=America/Denver:20260407T170000
DTSTAMP:20260421T041419
CREATED:20260407T223035Z
LAST-MODIFIED:20260421T001255Z
UID:10000006-1775548800-1775581200@srda-rec.org
SUMMARY:Line Dancing
DESCRIPTION:Learn all the fancy moves 😎 \n\n\n\nFor everything you want to know about this class\, click here. \n\n\n\nSign up for the class here….
URL:https://srda-rec.org/event/line-dancing/2026-04-07/
LOCATION:SRDA Second Floor\, 250 N Union Ave\, Pueblo\, CO\, 81003\, United States
CATEGORIES:Wellness
ATTACH;FMTTYPE=image/webp:https://srda-rec.org/wp-content/uploads/2026/04/Line-Dancing-1.webp
END:VEVENT
END:VCALENDAR