BEGIN:VCALENDAR
VERSION:2.0
PRODID:-//SRDA-Rec2 - ECPv6.15.20//NONSGML v1.0//EN
CALSCALE:GREGORIAN
METHOD:PUBLISH
X-WR-CALNAME:SRDA-Rec2
X-ORIGINAL-URL:https://srda-rec.org
X-WR-CALDESC:Events for SRDA-Rec2
REFRESH-INTERVAL;VALUE=DURATION:PT1H
X-Robots-Tag:noindex
X-PUBLISHED-TTL:PT1H
BEGIN:VTIMEZONE
TZID:America/Denver
BEGIN:DAYLIGHT
TZOFFSETFROM:-0700
TZOFFSETTO:-0600
TZNAME:MDT
DTSTART:20250309T090000
END:DAYLIGHT
BEGIN:STANDARD
TZOFFSETFROM:-0600
TZOFFSETTO:-0700
TZNAME:MST
DTSTART:20251102T080000
END:STANDARD
BEGIN:DAYLIGHT
TZOFFSETFROM:-0700
TZOFFSETTO:-0600
TZNAME:MDT
DTSTART:20260308T090000
END:DAYLIGHT
BEGIN:STANDARD
TZOFFSETFROM:-0600
TZOFFSETTO:-0700
TZNAME:MST
DTSTART:20261101T080000
END:STANDARD
BEGIN:DAYLIGHT
TZOFFSETFROM:-0700
TZOFFSETTO:-0600
TZNAME:MDT
DTSTART:20270314T090000
END:DAYLIGHT
BEGIN:STANDARD
TZOFFSETFROM:-0600
TZOFFSETTO:-0700
TZNAME:MST
DTSTART:20271107T080000
END:STANDARD
BEGIN:DAYLIGHT
TZOFFSETFROM:-0700
TZOFFSETTO:-0600
TZNAME:MDT
DTSTART:20280312T090000
END:DAYLIGHT
BEGIN:STANDARD
TZOFFSETFROM:-0600
TZOFFSETTO:-0700
TZNAME:MST
DTSTART:20281105T080000
END:STANDARD
END:VTIMEZONE
BEGIN:VEVENT
DTSTART;TZID=America/Denver:20260901T000000
DTEND;TZID=America/Denver:20260901T000100
DTSTAMP:20260423T125958
CREATED:20260420T225749Z
LAST-MODIFIED:20260420T225751Z
UID:10000579-1788220800-1788220860@srda-rec.org
SUMMARY:Meditation
DESCRIPTION:Your weekly meditation… Wish I knew more
URL:https://srda-rec.org/event/meditation/2026-09-01/
LOCATION:SRDA Second Floor\, 250 N Union Ave\, Pueblo\, CO\, 81003\, United States
CATEGORIES:Wellness
ATTACH;FMTTYPE=image/jpeg:https://srda-rec.org/wp-content/uploads/2026/04/service1-1-1.jpg
END:VEVENT
BEGIN:VEVENT
DTSTART;TZID=America/Denver:20260907T111500
DTEND;TZID=America/Denver:20260907T121500
DTSTAMP:20260423T125958
CREATED:20260420T234816Z
LAST-MODIFIED:20260421T000608Z
UID:10001102-1788779700-1788783300@srda-rec.org
SUMMARY:Chair Yoga
DESCRIPTION:Chair yoga is an accessible\, low-impact practice that adapts traditional yoga poses to be performed while seated or using a chair for support. By eliminating the need to get up and down from the floor\, it makes flexibility\, strength\, and balance training safe and enjoyable for seniors\, beginners\, and anyone seeking a gentle workout without the risk of falling.
URL:https://srda-rec.org/event/chair-yoga-2/2026-09-07/
LOCATION:SRDA Second Floor\, 250 N Union Ave\, Pueblo\, CO\, 81003\, United States
CATEGORIES:Wellness
ATTACH;FMTTYPE=image/webp:https://srda-rec.org/wp-content/uploads/2026/04/ChairYoga-e1776720418185.webp
END:VEVENT
BEGIN:VEVENT
DTSTART;TZID=America/Denver:20260908T000000
DTEND;TZID=America/Denver:20260908T000100
DTSTAMP:20260423T125958
CREATED:20260420T225749Z
LAST-MODIFIED:20260420T225751Z
UID:10000580-1788825600-1788825660@srda-rec.org
SUMMARY:Meditation
DESCRIPTION:Your weekly meditation… Wish I knew more
URL:https://srda-rec.org/event/meditation/2026-09-08/
LOCATION:SRDA Second Floor\, 250 N Union Ave\, Pueblo\, CO\, 81003\, United States
CATEGORIES:Wellness
ATTACH;FMTTYPE=image/jpeg:https://srda-rec.org/wp-content/uploads/2026/04/service1-1-1.jpg
END:VEVENT
BEGIN:VEVENT
DTSTART;TZID=America/Denver:20260914T111500
DTEND;TZID=America/Denver:20260914T121500
DTSTAMP:20260423T125958
CREATED:20260420T234816Z
LAST-MODIFIED:20260421T000608Z
UID:10001103-1789384500-1789388100@srda-rec.org
SUMMARY:Chair Yoga
DESCRIPTION:Chair yoga is an accessible\, low-impact practice that adapts traditional yoga poses to be performed while seated or using a chair for support. By eliminating the need to get up and down from the floor\, it makes flexibility\, strength\, and balance training safe and enjoyable for seniors\, beginners\, and anyone seeking a gentle workout without the risk of falling.
URL:https://srda-rec.org/event/chair-yoga-2/2026-09-14/
LOCATION:SRDA Second Floor\, 250 N Union Ave\, Pueblo\, CO\, 81003\, United States
CATEGORIES:Wellness
ATTACH;FMTTYPE=image/webp:https://srda-rec.org/wp-content/uploads/2026/04/ChairYoga-e1776720418185.webp
END:VEVENT
BEGIN:VEVENT
DTSTART;TZID=America/Denver:20260915T000000
DTEND;TZID=America/Denver:20260915T000100
DTSTAMP:20260423T125958
CREATED:20260420T225749Z
LAST-MODIFIED:20260420T225751Z
UID:10000581-1789430400-1789430460@srda-rec.org
SUMMARY:Meditation
DESCRIPTION:Your weekly meditation… Wish I knew more
URL:https://srda-rec.org/event/meditation/2026-09-15/
LOCATION:SRDA Second Floor\, 250 N Union Ave\, Pueblo\, CO\, 81003\, United States
CATEGORIES:Wellness
ATTACH;FMTTYPE=image/jpeg:https://srda-rec.org/wp-content/uploads/2026/04/service1-1-1.jpg
END:VEVENT
BEGIN:VEVENT
DTSTART;TZID=America/Denver:20260921T111500
DTEND;TZID=America/Denver:20260921T121500
DTSTAMP:20260423T125958
CREATED:20260420T234816Z
LAST-MODIFIED:20260421T000608Z
UID:10001104-1789989300-1789992900@srda-rec.org
SUMMARY:Chair Yoga
DESCRIPTION:Chair yoga is an accessible\, low-impact practice that adapts traditional yoga poses to be performed while seated or using a chair for support. By eliminating the need to get up and down from the floor\, it makes flexibility\, strength\, and balance training safe and enjoyable for seniors\, beginners\, and anyone seeking a gentle workout without the risk of falling.
URL:https://srda-rec.org/event/chair-yoga-2/2026-09-21/
LOCATION:SRDA Second Floor\, 250 N Union Ave\, Pueblo\, CO\, 81003\, United States
CATEGORIES:Wellness
ATTACH;FMTTYPE=image/webp:https://srda-rec.org/wp-content/uploads/2026/04/ChairYoga-e1776720418185.webp
END:VEVENT
BEGIN:VEVENT
DTSTART;TZID=America/Denver:20260922T000000
DTEND;TZID=America/Denver:20260922T000100
DTSTAMP:20260423T125958
CREATED:20260420T225749Z
LAST-MODIFIED:20260420T225751Z
UID:10000582-1790035200-1790035260@srda-rec.org
SUMMARY:Meditation
DESCRIPTION:Your weekly meditation… Wish I knew more
URL:https://srda-rec.org/event/meditation/2026-09-22/
LOCATION:SRDA Second Floor\, 250 N Union Ave\, Pueblo\, CO\, 81003\, United States
CATEGORIES:Wellness
ATTACH;FMTTYPE=image/jpeg:https://srda-rec.org/wp-content/uploads/2026/04/service1-1-1.jpg
END:VEVENT
BEGIN:VEVENT
DTSTART;TZID=America/Denver:20260928T111500
DTEND;TZID=America/Denver:20260928T121500
DTSTAMP:20260423T125958
CREATED:20260420T234816Z
LAST-MODIFIED:20260421T000608Z
UID:10001105-1790594100-1790597700@srda-rec.org
SUMMARY:Chair Yoga
DESCRIPTION:Chair yoga is an accessible\, low-impact practice that adapts traditional yoga poses to be performed while seated or using a chair for support. By eliminating the need to get up and down from the floor\, it makes flexibility\, strength\, and balance training safe and enjoyable for seniors\, beginners\, and anyone seeking a gentle workout without the risk of falling.
URL:https://srda-rec.org/event/chair-yoga-2/2026-09-28/
LOCATION:SRDA Second Floor\, 250 N Union Ave\, Pueblo\, CO\, 81003\, United States
CATEGORIES:Wellness
ATTACH;FMTTYPE=image/webp:https://srda-rec.org/wp-content/uploads/2026/04/ChairYoga-e1776720418185.webp
END:VEVENT
BEGIN:VEVENT
DTSTART;TZID=America/Denver:20260929T000000
DTEND;TZID=America/Denver:20260929T000100
DTSTAMP:20260423T125958
CREATED:20260420T225749Z
LAST-MODIFIED:20260420T225751Z
UID:10000583-1790640000-1790640060@srda-rec.org
SUMMARY:Meditation
DESCRIPTION:Your weekly meditation… Wish I knew more
URL:https://srda-rec.org/event/meditation/2026-09-29/
LOCATION:SRDA Second Floor\, 250 N Union Ave\, Pueblo\, CO\, 81003\, United States
CATEGORIES:Wellness
ATTACH;FMTTYPE=image/jpeg:https://srda-rec.org/wp-content/uploads/2026/04/service1-1-1.jpg
END:VEVENT
BEGIN:VEVENT
DTSTART;TZID=America/Denver:20261006T000000
DTEND;TZID=America/Denver:20261006T000100
DTSTAMP:20260423T125958
CREATED:20260420T225749Z
LAST-MODIFIED:20260420T225751Z
UID:10000584-1791244800-1791244860@srda-rec.org
SUMMARY:Meditation
DESCRIPTION:Your weekly meditation… Wish I knew more
URL:https://srda-rec.org/event/meditation/2026-10-06/
LOCATION:SRDA Second Floor\, 250 N Union Ave\, Pueblo\, CO\, 81003\, United States
CATEGORIES:Wellness
ATTACH;FMTTYPE=image/jpeg:https://srda-rec.org/wp-content/uploads/2026/04/service1-1-1.jpg
END:VEVENT
BEGIN:VEVENT
DTSTART;TZID=America/Denver:20261013T000000
DTEND;TZID=America/Denver:20261013T000100
DTSTAMP:20260423T125958
CREATED:20260420T225749Z
LAST-MODIFIED:20260420T225751Z
UID:10000585-1791849600-1791849660@srda-rec.org
SUMMARY:Meditation
DESCRIPTION:Your weekly meditation… Wish I knew more
URL:https://srda-rec.org/event/meditation/2026-10-13/
LOCATION:SRDA Second Floor\, 250 N Union Ave\, Pueblo\, CO\, 81003\, United States
CATEGORIES:Wellness
ATTACH;FMTTYPE=image/jpeg:https://srda-rec.org/wp-content/uploads/2026/04/service1-1-1.jpg
END:VEVENT
BEGIN:VEVENT
DTSTART;TZID=America/Denver:20261020T000000
DTEND;TZID=America/Denver:20261020T000100
DTSTAMP:20260423T125958
CREATED:20260420T225749Z
LAST-MODIFIED:20260420T225751Z
UID:10000586-1792454400-1792454460@srda-rec.org
SUMMARY:Meditation
DESCRIPTION:Your weekly meditation… Wish I knew more
URL:https://srda-rec.org/event/meditation/2026-10-20/
LOCATION:SRDA Second Floor\, 250 N Union Ave\, Pueblo\, CO\, 81003\, United States
CATEGORIES:Wellness
ATTACH;FMTTYPE=image/jpeg:https://srda-rec.org/wp-content/uploads/2026/04/service1-1-1.jpg
END:VEVENT
BEGIN:VEVENT
DTSTART;TZID=America/Denver:20261027T000000
DTEND;TZID=America/Denver:20261027T000100
DTSTAMP:20260423T125958
CREATED:20260420T225749Z
LAST-MODIFIED:20260420T225751Z
UID:10000587-1793059200-1793059260@srda-rec.org
SUMMARY:Meditation
DESCRIPTION:Your weekly meditation… Wish I knew more
URL:https://srda-rec.org/event/meditation/2026-10-27/
LOCATION:SRDA Second Floor\, 250 N Union Ave\, Pueblo\, CO\, 81003\, United States
CATEGORIES:Wellness
ATTACH;FMTTYPE=image/jpeg:https://srda-rec.org/wp-content/uploads/2026/04/service1-1-1.jpg
END:VEVENT
BEGIN:VEVENT
DTSTART;TZID=America/Denver:20261103T000000
DTEND;TZID=America/Denver:20261103T000100
DTSTAMP:20260423T125958
CREATED:20260420T225749Z
LAST-MODIFIED:20260420T225751Z
UID:10000588-1793664000-1793664060@srda-rec.org
SUMMARY:Meditation
DESCRIPTION:Your weekly meditation… Wish I knew more
URL:https://srda-rec.org/event/meditation/2026-11-03/
LOCATION:SRDA Second Floor\, 250 N Union Ave\, Pueblo\, CO\, 81003\, United States
CATEGORIES:Wellness
ATTACH;FMTTYPE=image/jpeg:https://srda-rec.org/wp-content/uploads/2026/04/service1-1-1.jpg
END:VEVENT
BEGIN:VEVENT
DTSTART;TZID=America/Denver:20261110T000000
DTEND;TZID=America/Denver:20261110T000100
DTSTAMP:20260423T125958
CREATED:20260420T225749Z
LAST-MODIFIED:20260420T225751Z
UID:10000589-1794268800-1794268860@srda-rec.org
SUMMARY:Meditation
DESCRIPTION:Your weekly meditation… Wish I knew more
URL:https://srda-rec.org/event/meditation/2026-11-10/
LOCATION:SRDA Second Floor\, 250 N Union Ave\, Pueblo\, CO\, 81003\, United States
CATEGORIES:Wellness
ATTACH;FMTTYPE=image/jpeg:https://srda-rec.org/wp-content/uploads/2026/04/service1-1-1.jpg
END:VEVENT
BEGIN:VEVENT
DTSTART;TZID=America/Denver:20261117T000000
DTEND;TZID=America/Denver:20261117T000100
DTSTAMP:20260423T125958
CREATED:20260420T225749Z
LAST-MODIFIED:20260420T225751Z
UID:10000590-1794873600-1794873660@srda-rec.org
SUMMARY:Meditation
DESCRIPTION:Your weekly meditation… Wish I knew more
URL:https://srda-rec.org/event/meditation/2026-11-17/
LOCATION:SRDA Second Floor\, 250 N Union Ave\, Pueblo\, CO\, 81003\, United States
CATEGORIES:Wellness
ATTACH;FMTTYPE=image/jpeg:https://srda-rec.org/wp-content/uploads/2026/04/service1-1-1.jpg
END:VEVENT
BEGIN:VEVENT
DTSTART;TZID=America/Denver:20261124T000000
DTEND;TZID=America/Denver:20261124T000100
DTSTAMP:20260423T125958
CREATED:20260420T225749Z
LAST-MODIFIED:20260420T225751Z
UID:10000591-1795478400-1795478460@srda-rec.org
SUMMARY:Meditation
DESCRIPTION:Your weekly meditation… Wish I knew more
URL:https://srda-rec.org/event/meditation/2026-11-24/
LOCATION:SRDA Second Floor\, 250 N Union Ave\, Pueblo\, CO\, 81003\, United States
CATEGORIES:Wellness
ATTACH;FMTTYPE=image/jpeg:https://srda-rec.org/wp-content/uploads/2026/04/service1-1-1.jpg
END:VEVENT
BEGIN:VEVENT
DTSTART;TZID=America/Denver:20261201T000000
DTEND;TZID=America/Denver:20261201T000100
DTSTAMP:20260423T125958
CREATED:20260420T225749Z
LAST-MODIFIED:20260420T225751Z
UID:10000592-1796083200-1796083260@srda-rec.org
SUMMARY:Meditation
DESCRIPTION:Your weekly meditation… Wish I knew more
URL:https://srda-rec.org/event/meditation/2026-12-01/
LOCATION:SRDA Second Floor\, 250 N Union Ave\, Pueblo\, CO\, 81003\, United States
CATEGORIES:Wellness
ATTACH;FMTTYPE=image/jpeg:https://srda-rec.org/wp-content/uploads/2026/04/service1-1-1.jpg
END:VEVENT
BEGIN:VEVENT
DTSTART;TZID=America/Denver:20261208T000000
DTEND;TZID=America/Denver:20261208T000100
DTSTAMP:20260423T125958
CREATED:20260420T225749Z
LAST-MODIFIED:20260420T225751Z
UID:10000593-1796688000-1796688060@srda-rec.org
SUMMARY:Meditation
DESCRIPTION:Your weekly meditation… Wish I knew more
URL:https://srda-rec.org/event/meditation/2026-12-08/
LOCATION:SRDA Second Floor\, 250 N Union Ave\, Pueblo\, CO\, 81003\, United States
CATEGORIES:Wellness
ATTACH;FMTTYPE=image/jpeg:https://srda-rec.org/wp-content/uploads/2026/04/service1-1-1.jpg
END:VEVENT
BEGIN:VEVENT
DTSTART;TZID=America/Denver:20261215T000000
DTEND;TZID=America/Denver:20261215T000100
DTSTAMP:20260423T125958
CREATED:20260420T225749Z
LAST-MODIFIED:20260420T225751Z
UID:10000594-1797292800-1797292860@srda-rec.org
SUMMARY:Meditation
DESCRIPTION:Your weekly meditation… Wish I knew more
URL:https://srda-rec.org/event/meditation/2026-12-15/
LOCATION:SRDA Second Floor\, 250 N Union Ave\, Pueblo\, CO\, 81003\, United States
CATEGORIES:Wellness
ATTACH;FMTTYPE=image/jpeg:https://srda-rec.org/wp-content/uploads/2026/04/service1-1-1.jpg
END:VEVENT
BEGIN:VEVENT
DTSTART;TZID=America/Denver:20261222T000000
DTEND;TZID=America/Denver:20261222T000100
DTSTAMP:20260423T125958
CREATED:20260420T225749Z
LAST-MODIFIED:20260420T225751Z
UID:10000595-1797897600-1797897660@srda-rec.org
SUMMARY:Meditation
DESCRIPTION:Your weekly meditation… Wish I knew more
URL:https://srda-rec.org/event/meditation/2026-12-22/
LOCATION:SRDA Second Floor\, 250 N Union Ave\, Pueblo\, CO\, 81003\, United States
CATEGORIES:Wellness
ATTACH;FMTTYPE=image/jpeg:https://srda-rec.org/wp-content/uploads/2026/04/service1-1-1.jpg
END:VEVENT
BEGIN:VEVENT
DTSTART;TZID=America/Denver:20261229T000000
DTEND;TZID=America/Denver:20261229T000100
DTSTAMP:20260423T125958
CREATED:20260420T225749Z
LAST-MODIFIED:20260420T225751Z
UID:10000596-1798502400-1798502460@srda-rec.org
SUMMARY:Meditation
DESCRIPTION:Your weekly meditation… Wish I knew more
URL:https://srda-rec.org/event/meditation/2026-12-29/
LOCATION:SRDA Second Floor\, 250 N Union Ave\, Pueblo\, CO\, 81003\, United States
CATEGORIES:Wellness
ATTACH;FMTTYPE=image/jpeg:https://srda-rec.org/wp-content/uploads/2026/04/service1-1-1.jpg
END:VEVENT
BEGIN:VEVENT
DTSTART;TZID=America/Denver:20270105T000000
DTEND;TZID=America/Denver:20270105T000100
DTSTAMP:20260423T125958
CREATED:20260420T225749Z
LAST-MODIFIED:20260420T225751Z
UID:10000597-1799107200-1799107260@srda-rec.org
SUMMARY:Meditation
DESCRIPTION:Your weekly meditation… Wish I knew more
URL:https://srda-rec.org/event/meditation/2027-01-05/
LOCATION:SRDA Second Floor\, 250 N Union Ave\, Pueblo\, CO\, 81003\, United States
CATEGORIES:Wellness
ATTACH;FMTTYPE=image/jpeg:https://srda-rec.org/wp-content/uploads/2026/04/service1-1-1.jpg
END:VEVENT
BEGIN:VEVENT
DTSTART;TZID=America/Denver:20270112T000000
DTEND;TZID=America/Denver:20270112T000100
DTSTAMP:20260423T125958
CREATED:20260420T225749Z
LAST-MODIFIED:20260420T225751Z
UID:10000598-1799712000-1799712060@srda-rec.org
SUMMARY:Meditation
DESCRIPTION:Your weekly meditation… Wish I knew more
URL:https://srda-rec.org/event/meditation/2027-01-12/
LOCATION:SRDA Second Floor\, 250 N Union Ave\, Pueblo\, CO\, 81003\, United States
CATEGORIES:Wellness
ATTACH;FMTTYPE=image/jpeg:https://srda-rec.org/wp-content/uploads/2026/04/service1-1-1.jpg
END:VEVENT
BEGIN:VEVENT
DTSTART;TZID=America/Denver:20270119T000000
DTEND;TZID=America/Denver:20270119T000100
DTSTAMP:20260423T125958
CREATED:20260420T225749Z
LAST-MODIFIED:20260420T225751Z
UID:10000599-1800316800-1800316860@srda-rec.org
SUMMARY:Meditation
DESCRIPTION:Your weekly meditation… Wish I knew more
URL:https://srda-rec.org/event/meditation/2027-01-19/
LOCATION:SRDA Second Floor\, 250 N Union Ave\, Pueblo\, CO\, 81003\, United States
CATEGORIES:Wellness
ATTACH;FMTTYPE=image/jpeg:https://srda-rec.org/wp-content/uploads/2026/04/service1-1-1.jpg
END:VEVENT
BEGIN:VEVENT
DTSTART;TZID=America/Denver:20270126T000000
DTEND;TZID=America/Denver:20270126T000100
DTSTAMP:20260423T125958
CREATED:20260420T225749Z
LAST-MODIFIED:20260420T225751Z
UID:10000600-1800921600-1800921660@srda-rec.org
SUMMARY:Meditation
DESCRIPTION:Your weekly meditation… Wish I knew more
URL:https://srda-rec.org/event/meditation/2027-01-26/
LOCATION:SRDA Second Floor\, 250 N Union Ave\, Pueblo\, CO\, 81003\, United States
CATEGORIES:Wellness
ATTACH;FMTTYPE=image/jpeg:https://srda-rec.org/wp-content/uploads/2026/04/service1-1-1.jpg
END:VEVENT
BEGIN:VEVENT
DTSTART;TZID=America/Denver:20270202T000000
DTEND;TZID=America/Denver:20270202T000100
DTSTAMP:20260423T125958
CREATED:20260420T225749Z
LAST-MODIFIED:20260420T225751Z
UID:10000601-1801526400-1801526460@srda-rec.org
SUMMARY:Meditation
DESCRIPTION:Your weekly meditation… Wish I knew more
URL:https://srda-rec.org/event/meditation/2027-02-02/
LOCATION:SRDA Second Floor\, 250 N Union Ave\, Pueblo\, CO\, 81003\, United States
CATEGORIES:Wellness
ATTACH;FMTTYPE=image/jpeg:https://srda-rec.org/wp-content/uploads/2026/04/service1-1-1.jpg
END:VEVENT
BEGIN:VEVENT
DTSTART;TZID=America/Denver:20270209T000000
DTEND;TZID=America/Denver:20270209T000100
DTSTAMP:20260423T125958
CREATED:20260420T225749Z
LAST-MODIFIED:20260420T225751Z
UID:10000602-1802131200-1802131260@srda-rec.org
SUMMARY:Meditation
DESCRIPTION:Your weekly meditation… Wish I knew more
URL:https://srda-rec.org/event/meditation/2027-02-09/
LOCATION:SRDA Second Floor\, 250 N Union Ave\, Pueblo\, CO\, 81003\, United States
CATEGORIES:Wellness
ATTACH;FMTTYPE=image/jpeg:https://srda-rec.org/wp-content/uploads/2026/04/service1-1-1.jpg
END:VEVENT
BEGIN:VEVENT
DTSTART;TZID=America/Denver:20270216T000000
DTEND;TZID=America/Denver:20270216T000100
DTSTAMP:20260423T125958
CREATED:20260420T225749Z
LAST-MODIFIED:20260420T225751Z
UID:10000603-1802736000-1802736060@srda-rec.org
SUMMARY:Meditation
DESCRIPTION:Your weekly meditation… Wish I knew more
URL:https://srda-rec.org/event/meditation/2027-02-16/
LOCATION:SRDA Second Floor\, 250 N Union Ave\, Pueblo\, CO\, 81003\, United States
CATEGORIES:Wellness
ATTACH;FMTTYPE=image/jpeg:https://srda-rec.org/wp-content/uploads/2026/04/service1-1-1.jpg
END:VEVENT
BEGIN:VEVENT
DTSTART;TZID=America/Denver:20270223T000000
DTEND;TZID=America/Denver:20270223T000100
DTSTAMP:20260423T125958
CREATED:20260420T225749Z
LAST-MODIFIED:20260420T225751Z
UID:10000604-1803340800-1803340860@srda-rec.org
SUMMARY:Meditation
DESCRIPTION:Your weekly meditation… Wish I knew more
URL:https://srda-rec.org/event/meditation/2027-02-23/
LOCATION:SRDA Second Floor\, 250 N Union Ave\, Pueblo\, CO\, 81003\, United States
CATEGORIES:Wellness
ATTACH;FMTTYPE=image/jpeg:https://srda-rec.org/wp-content/uploads/2026/04/service1-1-1.jpg
END:VEVENT
END:VCALENDAR