BEGIN:VCALENDAR
VERSION:2.0
PRODID:-//SRDA-Rec2 - ECPv6.15.20//NONSGML v1.0//EN
CALSCALE:GREGORIAN
METHOD:PUBLISH
X-WR-CALNAME:SRDA-Rec2
X-ORIGINAL-URL:https://srda-rec.org
X-WR-CALDESC:Events for SRDA-Rec2
REFRESH-INTERVAL;VALUE=DURATION:PT1H
X-Robots-Tag:noindex
X-PUBLISHED-TTL:PT1H
BEGIN:VTIMEZONE
TZID:UTC
BEGIN:STANDARD
TZOFFSETFROM:+0000
TZOFFSETTO:+0000
TZNAME:UTC
DTSTART:20250101T000000
END:STANDARD
END:VTIMEZONE
BEGIN:VTIMEZONE
TZID:America/Denver
BEGIN:DAYLIGHT
TZOFFSETFROM:-0700
TZOFFSETTO:-0600
TZNAME:MDT
DTSTART:20250309T090000
END:DAYLIGHT
BEGIN:STANDARD
TZOFFSETFROM:-0600
TZOFFSETTO:-0700
TZNAME:MST
DTSTART:20251102T080000
END:STANDARD
BEGIN:DAYLIGHT
TZOFFSETFROM:-0700
TZOFFSETTO:-0600
TZNAME:MDT
DTSTART:20260308T090000
END:DAYLIGHT
BEGIN:STANDARD
TZOFFSETFROM:-0600
TZOFFSETTO:-0700
TZNAME:MST
DTSTART:20261101T080000
END:STANDARD
BEGIN:DAYLIGHT
TZOFFSETFROM:-0700
TZOFFSETTO:-0600
TZNAME:MDT
DTSTART:20270314T090000
END:DAYLIGHT
BEGIN:STANDARD
TZOFFSETFROM:-0600
TZOFFSETTO:-0700
TZNAME:MST
DTSTART:20271107T080000
END:STANDARD
END:VTIMEZONE
BEGIN:VEVENT
DTSTART;TZID=UTC:20260421T090000
DTEND;TZID=UTC:20260421T100000
DTSTAMP:20260421T065936
CREATED:20260407T232221Z
LAST-MODIFIED:20260420T183933Z
UID:10000009-1776762000-1776765600@srda-rec.org
SUMMARY:Walk With Ease
DESCRIPTION:This is a complete program to help arthritis sufferers to manage their symptoms.
URL:https://srda-rec.org/event/walk-with-ease/2026-04-21/
LOCATION:SRDA Second Floor\, 250 N Union Ave\, Pueblo\, CO\, 81003\, United States
CATEGORIES:Groups,Wellness
ATTACH;FMTTYPE=image/webp:https://srda-rec.org/wp-content/uploads/2026/04/Walkers-Stock-1.webp
ORGANIZER;CN="SRDA-Recreation Dept.":MAILTO:recadmin@srda-rec.com
END:VEVENT
BEGIN:VEVENT
DTSTART;TZID=UTC:20260423T100000
DTEND;TZID=UTC:20260423T110000
DTSTAMP:20260421T065936
CREATED:20260407T233833Z
LAST-MODIFIED:20260407T234013Z
UID:10000026-1776938400-1776942000@srda-rec.org
SUMMARY:Qi Gong
DESCRIPTION:Qigong is an ancient Chinese system of coordinated body posture\, movement\, breathing\, and meditation used to cultivate and balance the vital life force known as qi. The practice combines active (dynamic) movements with passive (meditative) stillness to harmonize the body\, mind\, and spirit. While rooted in traditional Chinese medicine and martial arts\, it is widely practiced today for health\, relaxation\, and self-healing. 
URL:https://srda-rec.org/event/qi-gong/2026-04-23/
LOCATION:SRDA Second Floor\, 250 N Union Ave\, Pueblo\, CO\, 81003\, United States
CATEGORIES:Groups,Wellness
ATTACH;FMTTYPE=image/jpeg:https://srda-rec.org/wp-content/uploads/2026/04/QiGong-1.jpg
ORGANIZER;CN="SRDA-Recreation Dept.":MAILTO:recadmin@srda-rec.com
END:VEVENT
BEGIN:VEVENT
DTSTART;TZID=America/Denver:20260427T111500
DTEND;TZID=America/Denver:20260427T121500
DTSTAMP:20260421T065936
CREATED:20260420T234816Z
LAST-MODIFIED:20260421T000608Z
UID:10001343-1777288500-1777292100@srda-rec.org
SUMMARY:Chair Yoga
DESCRIPTION:Chair yoga is an accessible\, low-impact practice that adapts traditional yoga poses to be performed while seated or using a chair for support. By eliminating the need to get up and down from the floor\, it makes flexibility\, strength\, and balance training safe and enjoyable for seniors\, beginners\, and anyone seeking a gentle workout without the risk of falling.
URL:https://srda-rec.org/event/chair-yoga-2/2026-04-27/
LOCATION:SRDA Second Floor\, 250 N Union Ave\, Pueblo\, CO\, 81003\, United States
CATEGORIES:Wellness
ATTACH;FMTTYPE=image/webp:https://srda-rec.org/wp-content/uploads/2026/04/ChairYoga-e1776720418185.webp
END:VEVENT
BEGIN:VEVENT
DTSTART;TZID=America/Denver:20260428T000000
DTEND;TZID=America/Denver:20260428T000100
DTSTAMP:20260421T065936
CREATED:20260420T225749Z
LAST-MODIFIED:20260420T225751Z
UID:10000561-1777334400-1777334460@srda-rec.org
SUMMARY:Meditation
DESCRIPTION:Your weekly meditation… Wish I knew more
URL:https://srda-rec.org/event/meditation/2026-04-28/
LOCATION:SRDA Second Floor\, 250 N Union Ave\, Pueblo\, CO\, 81003\, United States
CATEGORIES:Wellness
ATTACH;FMTTYPE=image/jpeg:https://srda-rec.org/wp-content/uploads/2026/04/service1-1-1.jpg
END:VEVENT
BEGIN:VEVENT
DTSTART;TZID=UTC:20260428T090000
DTEND;TZID=UTC:20260428T100000
DTSTAMP:20260421T065936
CREATED:20260407T232221Z
LAST-MODIFIED:20260420T183933Z
UID:10000010-1777366800-1777370400@srda-rec.org
SUMMARY:Walk With Ease
DESCRIPTION:This is a complete program to help arthritis sufferers to manage their symptoms.
URL:https://srda-rec.org/event/walk-with-ease/2026-04-28/
LOCATION:SRDA Second Floor\, 250 N Union Ave\, Pueblo\, CO\, 81003\, United States
CATEGORIES:Groups,Wellness
ATTACH;FMTTYPE=image/webp:https://srda-rec.org/wp-content/uploads/2026/04/Walkers-Stock-1.webp
ORGANIZER;CN="SRDA-Recreation Dept.":MAILTO:recadmin@srda-rec.com
END:VEVENT
BEGIN:VEVENT
DTSTART;TZID=UTC:20260430T100000
DTEND;TZID=UTC:20260430T110000
DTSTAMP:20260421T065936
CREATED:20260407T233833Z
LAST-MODIFIED:20260407T234013Z
UID:10000027-1777543200-1777546800@srda-rec.org
SUMMARY:Qi Gong
DESCRIPTION:Qigong is an ancient Chinese system of coordinated body posture\, movement\, breathing\, and meditation used to cultivate and balance the vital life force known as qi. The practice combines active (dynamic) movements with passive (meditative) stillness to harmonize the body\, mind\, and spirit. While rooted in traditional Chinese medicine and martial arts\, it is widely practiced today for health\, relaxation\, and self-healing. 
URL:https://srda-rec.org/event/qi-gong/2026-04-30/
LOCATION:SRDA Second Floor\, 250 N Union Ave\, Pueblo\, CO\, 81003\, United States
CATEGORIES:Groups,Wellness
ATTACH;FMTTYPE=image/jpeg:https://srda-rec.org/wp-content/uploads/2026/04/QiGong-1.jpg
ORGANIZER;CN="SRDA-Recreation Dept.":MAILTO:recadmin@srda-rec.com
END:VEVENT
BEGIN:VEVENT
DTSTART;TZID=America/Denver:20260504T111500
DTEND;TZID=America/Denver:20260504T121500
DTSTAMP:20260421T065936
CREATED:20260420T234816Z
LAST-MODIFIED:20260421T000608Z
UID:10001084-1777893300-1777896900@srda-rec.org
SUMMARY:Chair Yoga
DESCRIPTION:Chair yoga is an accessible\, low-impact practice that adapts traditional yoga poses to be performed while seated or using a chair for support. By eliminating the need to get up and down from the floor\, it makes flexibility\, strength\, and balance training safe and enjoyable for seniors\, beginners\, and anyone seeking a gentle workout without the risk of falling.
URL:https://srda-rec.org/event/chair-yoga-2/2026-05-04/
LOCATION:SRDA Second Floor\, 250 N Union Ave\, Pueblo\, CO\, 81003\, United States
CATEGORIES:Wellness
ATTACH;FMTTYPE=image/webp:https://srda-rec.org/wp-content/uploads/2026/04/ChairYoga-e1776720418185.webp
END:VEVENT
BEGIN:VEVENT
DTSTART;TZID=America/Denver:20260505T000000
DTEND;TZID=America/Denver:20260505T000100
DTSTAMP:20260421T065936
CREATED:20260420T225749Z
LAST-MODIFIED:20260420T225751Z
UID:10000562-1777939200-1777939260@srda-rec.org
SUMMARY:Meditation
DESCRIPTION:Your weekly meditation… Wish I knew more
URL:https://srda-rec.org/event/meditation/2026-05-05/
LOCATION:SRDA Second Floor\, 250 N Union Ave\, Pueblo\, CO\, 81003\, United States
CATEGORIES:Wellness
ATTACH;FMTTYPE=image/jpeg:https://srda-rec.org/wp-content/uploads/2026/04/service1-1-1.jpg
END:VEVENT
BEGIN:VEVENT
DTSTART;TZID=UTC:20260505T090000
DTEND;TZID=UTC:20260505T100000
DTSTAMP:20260421T065936
CREATED:20260407T232221Z
LAST-MODIFIED:20260420T183933Z
UID:10000011-1777971600-1777975200@srda-rec.org
SUMMARY:Walk With Ease
DESCRIPTION:This is a complete program to help arthritis sufferers to manage their symptoms.
URL:https://srda-rec.org/event/walk-with-ease/2026-05-05/
LOCATION:SRDA Second Floor\, 250 N Union Ave\, Pueblo\, CO\, 81003\, United States
CATEGORIES:Groups,Wellness
ATTACH;FMTTYPE=image/webp:https://srda-rec.org/wp-content/uploads/2026/04/Walkers-Stock-1.webp
ORGANIZER;CN="SRDA-Recreation Dept.":MAILTO:recadmin@srda-rec.com
END:VEVENT
BEGIN:VEVENT
DTSTART;TZID=UTC:20260507T100000
DTEND;TZID=UTC:20260507T110000
DTSTAMP:20260421T065936
CREATED:20260407T233833Z
LAST-MODIFIED:20260407T234013Z
UID:10000028-1778148000-1778151600@srda-rec.org
SUMMARY:Qi Gong
DESCRIPTION:Qigong is an ancient Chinese system of coordinated body posture\, movement\, breathing\, and meditation used to cultivate and balance the vital life force known as qi. The practice combines active (dynamic) movements with passive (meditative) stillness to harmonize the body\, mind\, and spirit. While rooted in traditional Chinese medicine and martial arts\, it is widely practiced today for health\, relaxation\, and self-healing. 
URL:https://srda-rec.org/event/qi-gong/2026-05-07/
LOCATION:SRDA Second Floor\, 250 N Union Ave\, Pueblo\, CO\, 81003\, United States
CATEGORIES:Groups,Wellness
ATTACH;FMTTYPE=image/jpeg:https://srda-rec.org/wp-content/uploads/2026/04/QiGong-1.jpg
ORGANIZER;CN="SRDA-Recreation Dept.":MAILTO:recadmin@srda-rec.com
END:VEVENT
BEGIN:VEVENT
DTSTART;TZID=America/Denver:20260511T111500
DTEND;TZID=America/Denver:20260511T121500
DTSTAMP:20260421T065936
CREATED:20260420T234816Z
LAST-MODIFIED:20260421T000608Z
UID:10001085-1778498100-1778501700@srda-rec.org
SUMMARY:Chair Yoga
DESCRIPTION:Chair yoga is an accessible\, low-impact practice that adapts traditional yoga poses to be performed while seated or using a chair for support. By eliminating the need to get up and down from the floor\, it makes flexibility\, strength\, and balance training safe and enjoyable for seniors\, beginners\, and anyone seeking a gentle workout without the risk of falling.
URL:https://srda-rec.org/event/chair-yoga-2/2026-05-11/
LOCATION:SRDA Second Floor\, 250 N Union Ave\, Pueblo\, CO\, 81003\, United States
CATEGORIES:Wellness
ATTACH;FMTTYPE=image/webp:https://srda-rec.org/wp-content/uploads/2026/04/ChairYoga-e1776720418185.webp
END:VEVENT
BEGIN:VEVENT
DTSTART;TZID=America/Denver:20260512T000000
DTEND;TZID=America/Denver:20260512T000100
DTSTAMP:20260421T065936
CREATED:20260420T225749Z
LAST-MODIFIED:20260420T225751Z
UID:10000563-1778544000-1778544060@srda-rec.org
SUMMARY:Meditation
DESCRIPTION:Your weekly meditation… Wish I knew more
URL:https://srda-rec.org/event/meditation/2026-05-12/
LOCATION:SRDA Second Floor\, 250 N Union Ave\, Pueblo\, CO\, 81003\, United States
CATEGORIES:Wellness
ATTACH;FMTTYPE=image/jpeg:https://srda-rec.org/wp-content/uploads/2026/04/service1-1-1.jpg
END:VEVENT
BEGIN:VEVENT
DTSTART;TZID=UTC:20260512T090000
DTEND;TZID=UTC:20260512T100000
DTSTAMP:20260421T065937
CREATED:20260407T232221Z
LAST-MODIFIED:20260420T183933Z
UID:10000012-1778576400-1778580000@srda-rec.org
SUMMARY:Walk With Ease
DESCRIPTION:This is a complete program to help arthritis sufferers to manage their symptoms.
URL:https://srda-rec.org/event/walk-with-ease/2026-05-12/
LOCATION:SRDA Second Floor\, 250 N Union Ave\, Pueblo\, CO\, 81003\, United States
CATEGORIES:Groups,Wellness
ATTACH;FMTTYPE=image/webp:https://srda-rec.org/wp-content/uploads/2026/04/Walkers-Stock-1.webp
ORGANIZER;CN="SRDA-Recreation Dept.":MAILTO:recadmin@srda-rec.com
END:VEVENT
BEGIN:VEVENT
DTSTART;TZID=UTC:20260514T100000
DTEND;TZID=UTC:20260514T110000
DTSTAMP:20260421T065937
CREATED:20260407T233833Z
LAST-MODIFIED:20260407T234013Z
UID:10000029-1778752800-1778756400@srda-rec.org
SUMMARY:Qi Gong
DESCRIPTION:Qigong is an ancient Chinese system of coordinated body posture\, movement\, breathing\, and meditation used to cultivate and balance the vital life force known as qi. The practice combines active (dynamic) movements with passive (meditative) stillness to harmonize the body\, mind\, and spirit. While rooted in traditional Chinese medicine and martial arts\, it is widely practiced today for health\, relaxation\, and self-healing. 
URL:https://srda-rec.org/event/qi-gong/2026-05-14/
LOCATION:SRDA Second Floor\, 250 N Union Ave\, Pueblo\, CO\, 81003\, United States
CATEGORIES:Groups,Wellness
ATTACH;FMTTYPE=image/jpeg:https://srda-rec.org/wp-content/uploads/2026/04/QiGong-1.jpg
ORGANIZER;CN="SRDA-Recreation Dept.":MAILTO:recadmin@srda-rec.com
END:VEVENT
BEGIN:VEVENT
DTSTART;TZID=America/Denver:20260518T111500
DTEND;TZID=America/Denver:20260518T121500
DTSTAMP:20260421T065937
CREATED:20260420T234816Z
LAST-MODIFIED:20260421T000608Z
UID:10001086-1779102900-1779106500@srda-rec.org
SUMMARY:Chair Yoga
DESCRIPTION:Chair yoga is an accessible\, low-impact practice that adapts traditional yoga poses to be performed while seated or using a chair for support. By eliminating the need to get up and down from the floor\, it makes flexibility\, strength\, and balance training safe and enjoyable for seniors\, beginners\, and anyone seeking a gentle workout without the risk of falling.
URL:https://srda-rec.org/event/chair-yoga-2/2026-05-18/
LOCATION:SRDA Second Floor\, 250 N Union Ave\, Pueblo\, CO\, 81003\, United States
CATEGORIES:Wellness
ATTACH;FMTTYPE=image/webp:https://srda-rec.org/wp-content/uploads/2026/04/ChairYoga-e1776720418185.webp
END:VEVENT
BEGIN:VEVENT
DTSTART;TZID=America/Denver:20260519T000000
DTEND;TZID=America/Denver:20260519T000100
DTSTAMP:20260421T065937
CREATED:20260420T225749Z
LAST-MODIFIED:20260420T225751Z
UID:10000564-1779148800-1779148860@srda-rec.org
SUMMARY:Meditation
DESCRIPTION:Your weekly meditation… Wish I knew more
URL:https://srda-rec.org/event/meditation/2026-05-19/
LOCATION:SRDA Second Floor\, 250 N Union Ave\, Pueblo\, CO\, 81003\, United States
CATEGORIES:Wellness
ATTACH;FMTTYPE=image/jpeg:https://srda-rec.org/wp-content/uploads/2026/04/service1-1-1.jpg
END:VEVENT
BEGIN:VEVENT
DTSTART;TZID=UTC:20260519T090000
DTEND;TZID=UTC:20260519T100000
DTSTAMP:20260421T065937
CREATED:20260407T232221Z
LAST-MODIFIED:20260420T183933Z
UID:10000013-1779181200-1779184800@srda-rec.org
SUMMARY:Walk With Ease
DESCRIPTION:This is a complete program to help arthritis sufferers to manage their symptoms.
URL:https://srda-rec.org/event/walk-with-ease/2026-05-19/
LOCATION:SRDA Second Floor\, 250 N Union Ave\, Pueblo\, CO\, 81003\, United States
CATEGORIES:Groups,Wellness
ATTACH;FMTTYPE=image/webp:https://srda-rec.org/wp-content/uploads/2026/04/Walkers-Stock-1.webp
ORGANIZER;CN="SRDA-Recreation Dept.":MAILTO:recadmin@srda-rec.com
END:VEVENT
BEGIN:VEVENT
DTSTART;TZID=UTC:20260521T100000
DTEND;TZID=UTC:20260521T110000
DTSTAMP:20260421T065937
CREATED:20260407T233833Z
LAST-MODIFIED:20260407T234013Z
UID:10000030-1779357600-1779361200@srda-rec.org
SUMMARY:Qi Gong
DESCRIPTION:Qigong is an ancient Chinese system of coordinated body posture\, movement\, breathing\, and meditation used to cultivate and balance the vital life force known as qi. The practice combines active (dynamic) movements with passive (meditative) stillness to harmonize the body\, mind\, and spirit. While rooted in traditional Chinese medicine and martial arts\, it is widely practiced today for health\, relaxation\, and self-healing. 
URL:https://srda-rec.org/event/qi-gong/2026-05-21/
LOCATION:SRDA Second Floor\, 250 N Union Ave\, Pueblo\, CO\, 81003\, United States
CATEGORIES:Groups,Wellness
ATTACH;FMTTYPE=image/jpeg:https://srda-rec.org/wp-content/uploads/2026/04/QiGong-1.jpg
ORGANIZER;CN="SRDA-Recreation Dept.":MAILTO:recadmin@srda-rec.com
END:VEVENT
BEGIN:VEVENT
DTSTART;TZID=America/Denver:20260525T111500
DTEND;TZID=America/Denver:20260525T121500
DTSTAMP:20260421T065937
CREATED:20260420T234816Z
LAST-MODIFIED:20260421T000608Z
UID:10001087-1779707700-1779711300@srda-rec.org
SUMMARY:Chair Yoga
DESCRIPTION:Chair yoga is an accessible\, low-impact practice that adapts traditional yoga poses to be performed while seated or using a chair for support. By eliminating the need to get up and down from the floor\, it makes flexibility\, strength\, and balance training safe and enjoyable for seniors\, beginners\, and anyone seeking a gentle workout without the risk of falling.
URL:https://srda-rec.org/event/chair-yoga-2/2026-05-25/
LOCATION:SRDA Second Floor\, 250 N Union Ave\, Pueblo\, CO\, 81003\, United States
CATEGORIES:Wellness
ATTACH;FMTTYPE=image/webp:https://srda-rec.org/wp-content/uploads/2026/04/ChairYoga-e1776720418185.webp
END:VEVENT
BEGIN:VEVENT
DTSTART;TZID=America/Denver:20260526T000000
DTEND;TZID=America/Denver:20260526T000100
DTSTAMP:20260421T065937
CREATED:20260420T225749Z
LAST-MODIFIED:20260420T225751Z
UID:10000565-1779753600-1779753660@srda-rec.org
SUMMARY:Meditation
DESCRIPTION:Your weekly meditation… Wish I knew more
URL:https://srda-rec.org/event/meditation/2026-05-26/
LOCATION:SRDA Second Floor\, 250 N Union Ave\, Pueblo\, CO\, 81003\, United States
CATEGORIES:Wellness
ATTACH;FMTTYPE=image/jpeg:https://srda-rec.org/wp-content/uploads/2026/04/service1-1-1.jpg
END:VEVENT
BEGIN:VEVENT
DTSTART;TZID=UTC:20260526T090000
DTEND;TZID=UTC:20260526T100000
DTSTAMP:20260421T065937
CREATED:20260407T232221Z
LAST-MODIFIED:20260420T183933Z
UID:10000014-1779786000-1779789600@srda-rec.org
SUMMARY:Walk With Ease
DESCRIPTION:This is a complete program to help arthritis sufferers to manage their symptoms.
URL:https://srda-rec.org/event/walk-with-ease/2026-05-26/
LOCATION:SRDA Second Floor\, 250 N Union Ave\, Pueblo\, CO\, 81003\, United States
CATEGORIES:Groups,Wellness
ATTACH;FMTTYPE=image/webp:https://srda-rec.org/wp-content/uploads/2026/04/Walkers-Stock-1.webp
ORGANIZER;CN="SRDA-Recreation Dept.":MAILTO:recadmin@srda-rec.com
END:VEVENT
BEGIN:VEVENT
DTSTART;TZID=UTC:20260528T100000
DTEND;TZID=UTC:20260528T110000
DTSTAMP:20260421T065937
CREATED:20260407T233833Z
LAST-MODIFIED:20260407T234013Z
UID:10000031-1779962400-1779966000@srda-rec.org
SUMMARY:Qi Gong
DESCRIPTION:Qigong is an ancient Chinese system of coordinated body posture\, movement\, breathing\, and meditation used to cultivate and balance the vital life force known as qi. The practice combines active (dynamic) movements with passive (meditative) stillness to harmonize the body\, mind\, and spirit. While rooted in traditional Chinese medicine and martial arts\, it is widely practiced today for health\, relaxation\, and self-healing. 
URL:https://srda-rec.org/event/qi-gong/2026-05-28/
LOCATION:SRDA Second Floor\, 250 N Union Ave\, Pueblo\, CO\, 81003\, United States
CATEGORIES:Groups,Wellness
ATTACH;FMTTYPE=image/jpeg:https://srda-rec.org/wp-content/uploads/2026/04/QiGong-1.jpg
ORGANIZER;CN="SRDA-Recreation Dept.":MAILTO:recadmin@srda-rec.com
END:VEVENT
BEGIN:VEVENT
DTSTART;TZID=America/Denver:20260601T111500
DTEND;TZID=America/Denver:20260601T121500
DTSTAMP:20260421T065937
CREATED:20260420T234816Z
LAST-MODIFIED:20260421T000608Z
UID:10001088-1780312500-1780316100@srda-rec.org
SUMMARY:Chair Yoga
DESCRIPTION:Chair yoga is an accessible\, low-impact practice that adapts traditional yoga poses to be performed while seated or using a chair for support. By eliminating the need to get up and down from the floor\, it makes flexibility\, strength\, and balance training safe and enjoyable for seniors\, beginners\, and anyone seeking a gentle workout without the risk of falling.
URL:https://srda-rec.org/event/chair-yoga-2/2026-06-01/
LOCATION:SRDA Second Floor\, 250 N Union Ave\, Pueblo\, CO\, 81003\, United States
CATEGORIES:Wellness
ATTACH;FMTTYPE=image/webp:https://srda-rec.org/wp-content/uploads/2026/04/ChairYoga-e1776720418185.webp
END:VEVENT
BEGIN:VEVENT
DTSTART;TZID=America/Denver:20260602T000000
DTEND;TZID=America/Denver:20260602T000100
DTSTAMP:20260421T065937
CREATED:20260420T225749Z
LAST-MODIFIED:20260420T225751Z
UID:10000566-1780358400-1780358460@srda-rec.org
SUMMARY:Meditation
DESCRIPTION:Your weekly meditation… Wish I knew more
URL:https://srda-rec.org/event/meditation/2026-06-02/
LOCATION:SRDA Second Floor\, 250 N Union Ave\, Pueblo\, CO\, 81003\, United States
CATEGORIES:Wellness
ATTACH;FMTTYPE=image/jpeg:https://srda-rec.org/wp-content/uploads/2026/04/service1-1-1.jpg
END:VEVENT
BEGIN:VEVENT
DTSTART;TZID=UTC:20260602T090000
DTEND;TZID=UTC:20260602T100000
DTSTAMP:20260421T065937
CREATED:20260407T232221Z
LAST-MODIFIED:20260420T183933Z
UID:10000015-1780390800-1780394400@srda-rec.org
SUMMARY:Walk With Ease
DESCRIPTION:This is a complete program to help arthritis sufferers to manage their symptoms.
URL:https://srda-rec.org/event/walk-with-ease/2026-06-02/
LOCATION:SRDA Second Floor\, 250 N Union Ave\, Pueblo\, CO\, 81003\, United States
CATEGORIES:Groups,Wellness
ATTACH;FMTTYPE=image/webp:https://srda-rec.org/wp-content/uploads/2026/04/Walkers-Stock-1.webp
ORGANIZER;CN="SRDA-Recreation Dept.":MAILTO:recadmin@srda-rec.com
END:VEVENT
BEGIN:VEVENT
DTSTART;TZID=America/Denver:20260608T111500
DTEND;TZID=America/Denver:20260608T121500
DTSTAMP:20260421T065937
CREATED:20260420T234816Z
LAST-MODIFIED:20260421T000608Z
UID:10001089-1780917300-1780920900@srda-rec.org
SUMMARY:Chair Yoga
DESCRIPTION:Chair yoga is an accessible\, low-impact practice that adapts traditional yoga poses to be performed while seated or using a chair for support. By eliminating the need to get up and down from the floor\, it makes flexibility\, strength\, and balance training safe and enjoyable for seniors\, beginners\, and anyone seeking a gentle workout without the risk of falling.
URL:https://srda-rec.org/event/chair-yoga-2/2026-06-08/
LOCATION:SRDA Second Floor\, 250 N Union Ave\, Pueblo\, CO\, 81003\, United States
CATEGORIES:Wellness
ATTACH;FMTTYPE=image/webp:https://srda-rec.org/wp-content/uploads/2026/04/ChairYoga-e1776720418185.webp
END:VEVENT
BEGIN:VEVENT
DTSTART;TZID=America/Denver:20260609T000000
DTEND;TZID=America/Denver:20260609T000100
DTSTAMP:20260421T065937
CREATED:20260420T225749Z
LAST-MODIFIED:20260420T225751Z
UID:10000567-1780963200-1780963260@srda-rec.org
SUMMARY:Meditation
DESCRIPTION:Your weekly meditation… Wish I knew more
URL:https://srda-rec.org/event/meditation/2026-06-09/
LOCATION:SRDA Second Floor\, 250 N Union Ave\, Pueblo\, CO\, 81003\, United States
CATEGORIES:Wellness
ATTACH;FMTTYPE=image/jpeg:https://srda-rec.org/wp-content/uploads/2026/04/service1-1-1.jpg
END:VEVENT
BEGIN:VEVENT
DTSTART;TZID=America/Denver:20260615T111500
DTEND;TZID=America/Denver:20260615T121500
DTSTAMP:20260421T065937
CREATED:20260420T234816Z
LAST-MODIFIED:20260421T000608Z
UID:10001090-1781522100-1781525700@srda-rec.org
SUMMARY:Chair Yoga
DESCRIPTION:Chair yoga is an accessible\, low-impact practice that adapts traditional yoga poses to be performed while seated or using a chair for support. By eliminating the need to get up and down from the floor\, it makes flexibility\, strength\, and balance training safe and enjoyable for seniors\, beginners\, and anyone seeking a gentle workout without the risk of falling.
URL:https://srda-rec.org/event/chair-yoga-2/2026-06-15/
LOCATION:SRDA Second Floor\, 250 N Union Ave\, Pueblo\, CO\, 81003\, United States
CATEGORIES:Wellness
ATTACH;FMTTYPE=image/webp:https://srda-rec.org/wp-content/uploads/2026/04/ChairYoga-e1776720418185.webp
END:VEVENT
BEGIN:VEVENT
DTSTART;TZID=America/Denver:20260616T000000
DTEND;TZID=America/Denver:20260616T000100
DTSTAMP:20260421T065937
CREATED:20260420T225749Z
LAST-MODIFIED:20260420T225751Z
UID:10000568-1781568000-1781568060@srda-rec.org
SUMMARY:Meditation
DESCRIPTION:Your weekly meditation… Wish I knew more
URL:https://srda-rec.org/event/meditation/2026-06-16/
LOCATION:SRDA Second Floor\, 250 N Union Ave\, Pueblo\, CO\, 81003\, United States
CATEGORIES:Wellness
ATTACH;FMTTYPE=image/jpeg:https://srda-rec.org/wp-content/uploads/2026/04/service1-1-1.jpg
END:VEVENT
BEGIN:VEVENT
DTSTART;TZID=America/Denver:20260622T111500
DTEND;TZID=America/Denver:20260622T121500
DTSTAMP:20260421T065937
CREATED:20260420T234816Z
LAST-MODIFIED:20260421T000608Z
UID:10001091-1782126900-1782130500@srda-rec.org
SUMMARY:Chair Yoga
DESCRIPTION:Chair yoga is an accessible\, low-impact practice that adapts traditional yoga poses to be performed while seated or using a chair for support. By eliminating the need to get up and down from the floor\, it makes flexibility\, strength\, and balance training safe and enjoyable for seniors\, beginners\, and anyone seeking a gentle workout without the risk of falling.
URL:https://srda-rec.org/event/chair-yoga-2/2026-06-22/
LOCATION:SRDA Second Floor\, 250 N Union Ave\, Pueblo\, CO\, 81003\, United States
CATEGORIES:Wellness
ATTACH;FMTTYPE=image/webp:https://srda-rec.org/wp-content/uploads/2026/04/ChairYoga-e1776720418185.webp
END:VEVENT
END:VCALENDAR