BEGIN:VCALENDAR
VERSION:2.0
PRODID:-//SRDA-Rec2 - ECPv6.15.20//NONSGML v1.0//EN
CALSCALE:GREGORIAN
METHOD:PUBLISH
X-ORIGINAL-URL:https://srda-rec.org
X-WR-CALDESC:Events for SRDA-Rec2
REFRESH-INTERVAL;VALUE=DURATION:PT1H
X-Robots-Tag:noindex
X-PUBLISHED-TTL:PT1H
BEGIN:VTIMEZONE
TZID:America/Denver
BEGIN:DAYLIGHT
TZOFFSETFROM:-0700
TZOFFSETTO:-0600
TZNAME:MDT
DTSTART:20250309T090000
END:DAYLIGHT
BEGIN:STANDARD
TZOFFSETFROM:-0600
TZOFFSETTO:-0700
TZNAME:MST
DTSTART:20251102T080000
END:STANDARD
BEGIN:DAYLIGHT
TZOFFSETFROM:-0700
TZOFFSETTO:-0600
TZNAME:MDT
DTSTART:20260308T090000
END:DAYLIGHT
BEGIN:STANDARD
TZOFFSETFROM:-0600
TZOFFSETTO:-0700
TZNAME:MST
DTSTART:20261101T080000
END:STANDARD
BEGIN:DAYLIGHT
TZOFFSETFROM:-0700
TZOFFSETTO:-0600
TZNAME:MDT
DTSTART:20270314T090000
END:DAYLIGHT
BEGIN:STANDARD
TZOFFSETFROM:-0600
TZOFFSETTO:-0700
TZNAME:MST
DTSTART:20271107T080000
END:STANDARD
END:VTIMEZONE
BEGIN:VEVENT
DTSTART;TZID=America/Denver:20260420T013000
DTEND;TZID=America/Denver:20260420T020000
DTSTAMP:20260423T115135
CREATED:20260420T221626Z
LAST-MODIFIED:20260420T224641Z
UID:10000558-1776648600-1776650400@srda-rec.org
SUMMARY:Earthsong Group
DESCRIPTION:A series of multi-sensory workshops that explore the intersection of what is healing for the self and healing for the planet.Earthsong tells compelling stories through metaphor\, sounds and scents from the natural world. \n\n\n\nWeaving themes of ecology\, regeneration and nature-based solutions with contemplative practices\, this project is a meditation on the symbiosis between person and planet. \n\n\n\nEarthsong tells the story of how our own wellbeing is deeply intertwined with the health of the planet and seeks to address fractured connections to the natural world.
URL:https://srda-rec.org/event/earthsong-group/
LOCATION:SRDA Second Floor\, 250 N Union Ave\, Pueblo\, CO\, 81003\, United States
CATEGORIES:Groups,Wellness
ATTACH;FMTTYPE=image/webp:https://srda-rec.org/wp-content/uploads/2026/04/Earthsong.webp
END:VEVENT
END:VCALENDAR