BEGIN:VCALENDAR
VERSION:2.0
PRODID:-//SRDA-Rec2 - ECPv6.15.20//NONSGML v1.0//EN
CALSCALE:GREGORIAN
METHOD:PUBLISH
X-ORIGINAL-URL:https://srda-rec.org
X-WR-CALDESC:Events for SRDA-Rec2
REFRESH-INTERVAL;VALUE=DURATION:PT1H
X-Robots-Tag:noindex
X-PUBLISHED-TTL:PT1H
BEGIN:VTIMEZONE
TZID:America/Denver
BEGIN:DAYLIGHT
TZOFFSETFROM:-0700
TZOFFSETTO:-0600
TZNAME:MDT
DTSTART:20250309T090000
END:DAYLIGHT
BEGIN:STANDARD
TZOFFSETFROM:-0600
TZOFFSETTO:-0700
TZNAME:MST
DTSTART:20251102T080000
END:STANDARD
BEGIN:DAYLIGHT
TZOFFSETFROM:-0700
TZOFFSETTO:-0600
TZNAME:MDT
DTSTART:20260308T090000
END:DAYLIGHT
BEGIN:STANDARD
TZOFFSETFROM:-0600
TZOFFSETTO:-0700
TZNAME:MST
DTSTART:20261101T080000
END:STANDARD
BEGIN:DAYLIGHT
TZOFFSETFROM:-0700
TZOFFSETTO:-0600
TZNAME:MDT
DTSTART:20270314T090000
END:DAYLIGHT
BEGIN:STANDARD
TZOFFSETFROM:-0600
TZOFFSETTO:-0700
TZNAME:MST
DTSTART:20271107T080000
END:STANDARD
END:VTIMEZONE
BEGIN:VTIMEZONE
TZID:UTC
BEGIN:STANDARD
TZOFFSETFROM:+0000
TZOFFSETTO:+0000
TZNAME:UTC
DTSTART:20250101T000000
END:STANDARD
END:VTIMEZONE
BEGIN:VEVENT
DTSTART;TZID=America/Denver:20260425T080000
DTEND;TZID=America/Denver:20260425T160000
DTSTAMP:20260421T104512
CREATED:20260417T022619Z
LAST-MODIFIED:20260417T182855Z
UID:10000032-1777104000-1777132800@srda-rec.org
SUMMARY:Rocky Mtn. Dinosaur Resource Center - Woodland Park
DESCRIPTION:Tour the #1 dinosaur museum in the country with an experienced visitor guide\, enjoy a short video in the theater and hands-on activities. \nThen we will have lunch at Mother Muff’s in Old Colorado City.
URL:https://srda-rec.org/event/rocky-mtn-dinosaur-resource-center-woodland-park/
LOCATION:SRDA Parking Lot\, 250 N Union Ave\, Pueblo\, CO\, 81003\, United States
CATEGORIES:Adventure
ATTACH;FMTTYPE=image/jpeg:https://srda-rec.org/wp-content/uploads/2026/04/DinoCenter.jpg
ORGANIZER;CN="SRDA-Recreation Dept.":MAILTO:recadmin@srda-rec.com
END:VEVENT
BEGIN:VEVENT
DTSTART;TZID=UTC:20260501T180000
DTEND;TZID=UTC:20260501T203000
DTSTAMP:20260421T104512
CREATED:20260408T041732Z
LAST-MODIFIED:20260420T223821Z
UID:10000005-1777658400-1777667400@srda-rec.org
SUMMARY:Full Moon Hike
DESCRIPTION:We aren’t making this up – “FLOWER MOON”… Don’t miss this walk on the south rim of the Pueblo Reservoir to see the sun set and the moonrise.
URL:https://srda-rec.org/event/full-moon-hike-2/
LOCATION:CO
CATEGORIES:Adventure
ATTACH;FMTTYPE=image/webp:https://srda-rec.org/wp-content/uploads/2026/04/FullMoonWebP-1.webp
END:VEVENT
BEGIN:VEVENT
DTSTART;TZID=UTC:20260502T100000
DTEND;TZID=UTC:20260502T150000
DTSTAMP:20260421T104512
CREATED:20260408T041029Z
LAST-MODIFIED:20260420T223604Z
UID:10000004-1777716000-1777734000@srda-rec.org
SUMMARY:Apple Blossom Parade
DESCRIPTION:Join us for a short ride to see the parade in Canon City
URL:https://srda-rec.org/event/apple-blossom-parade/
LOCATION:CO
CATEGORIES:Adventure
ATTACH;FMTTYPE=image/webp:https://srda-rec.org/wp-content/uploads/2026/04/AppleBlossomStock-1.webp
ORGANIZER;CN="SRDA-Recreation Dept.":MAILTO:recadmin@srda-rec.com
END:VEVENT
BEGIN:VEVENT
DTSTART;TZID=UTC:20260503T080000
DTEND;TZID=UTC:20260503T170000
DTSTAMP:20260421T104512
CREATED:20260408T035311Z
LAST-MODIFIED:20260420T223539Z
UID:10000003-1777795200-1777827600@srda-rec.org
SUMMARY:Cripple Creek
DESCRIPTION:Fun filled trip to the Casinos in Cripple Creek – Meet us in the SRDA Parking Lot
URL:https://srda-rec.org/event/cripple-creek/
LOCATION:CO
CATEGORIES:Adventure
ATTACH;FMTTYPE=image/webp:https://srda-rec.org/wp-content/uploads/2026/04/CrippleCreek-1.webp
ORGANIZER;CN="SRDA-Recreation Dept.":MAILTO:recadmin@srda-rec.com
END:VEVENT
BEGIN:VEVENT
DTSTART;TZID=America/Denver:20260516T080000
DTEND;TZID=America/Denver:20260516T160000
DTSTAMP:20260421T104512
CREATED:20260417T183812Z
LAST-MODIFIED:20260420T223459Z
UID:10000034-1778918400-1778947200@srda-rec.org
SUMMARY:Sand Dunes Hooper Hot Springs
DESCRIPTION:Come with us to soak our bones at the fabulous hot springs in Hooper Colorado… This one-of-a-kind tropical escape will blow you away! Enjoy 10\,000 square feet of beautiful plants\, 4 pools ranging from 98-111 degrees\, indoor and outdoor patio space\, and a dry sauna. The Steel Box bar featuring a large variety of beer & wine and our upscale Small Plates menu\, all in adults-only area.
URL:https://srda-rec.org/event/sand-dunes-hooper-hot-springs/
LOCATION:SRDA Parking Lot\, 250 N Union Ave\, Pueblo\, CO\, 81003\, United States
CATEGORIES:Adventure
ATTACH;FMTTYPE=image/webp:https://srda-rec.org/wp-content/uploads/2026/04/HooperHotSprings.webp
ORGANIZER;CN="SRDA-Recreation Dept.":MAILTO:recadmin@srda-rec.com
END:VEVENT
BEGIN:VEVENT
DTSTART;TZID=America/Denver:20260620T083000
DTEND;TZID=America/Denver:20260620T150000
DTSTAMP:20260421T104512
CREATED:20260417T185303Z
LAST-MODIFIED:20260420T223312Z
UID:10000035-1781944200-1781967600@srda-rec.org
SUMMARY:The Painted Mines
DESCRIPTION:The Paint Mines Interpretive Park is a unique blending of geological\, archaeological\, historical and ecological resources.\n\n\n\nWhether you’re looking for a new adventure\, Paint Mines Interpretive Park offers outdoor fun for all ages with an easy hike\, geological splendor\, and a richly woven past. Located in Calhan\, this park is filled with rocky wonders that are covered in rich pigments\, which communities of Native Americans utilized to create paint. Don’t miss trekking through this awe-inspiring journey\n\n\n\nThe park consists of 4 miles of trails that rise over 500 feet in elevation. It covers 750 acres\, containing grassland and geological formations of hoodoos\, colored clay and sandstone-capped spires. The site is protected by law because of the fragile environment\, as well as the geological and archaeological significance of the artifacts\, rocks\, animals and plants.
URL:https://srda-rec.org/event/the-painted-mines/
LOCATION:SRDA Parking Lot\, 250 N Union Ave\, Pueblo\, CO\, 81003\, United States
CATEGORIES:Adventure
ATTACH;FMTTYPE=image/webp:https://srda-rec.org/wp-content/uploads/2026/04/PaintedMines.webp
ORGANIZER;CN="SRDA-Recreation Dept.":MAILTO:recadmin@srda-rec.com
END:VEVENT
BEGIN:VEVENT
DTSTART;TZID=America/Denver:20260718T123000
DTEND;TZID=America/Denver:20260718T220000
DTSTAMP:20260421T104512
CREATED:20260417T191531Z
LAST-MODIFIED:20260420T222155Z
UID:10000036-1784377800-1784412000@srda-rec.org
SUMMARY:Bent's Fort and Koshare Indian Museum & Performance
DESCRIPTION:Bent’s Old Fort National Historic Site preserves the resources associated with the Bent–St. Vrain trading empire\, which radiated from Bent’s Old Fort into what is now Texas\, New Mexico\, Kansas\, Nebraska\, Arizona\, Utah\, Wyoming\, and Missouri. The fort solidified one of the most important and last established trading cartels in the Rocky Mountain West. \n\n\n\nThe Koshare Indian museum is home to the world’s largest self-supported log ceiling\, but there is more to museum than just its architecture.  This renown art collection of Native American and Western art has been featured in countless news articles\, magazines\, and broadcasts. \n\n\n\nWe will have an early dinner (your cost) at a local restaurant\, then take a self-guided tour of the museum and then enjoy a performance by the Koshare Dancers.
URL:https://srda-rec.org/event/bents-fort-and-koshare-indian-museum-performance/
LOCATION:SRDA Parking Lot\, 250 N Union Ave\, Pueblo\, CO\, 81003\, United States
CATEGORIES:Adventure
ATTACH;FMTTYPE=image/webp:https://srda-rec.org/wp-content/uploads/2026/04/Koshare.webp
ORGANIZER;CN="SRDA-Recreation Dept.":MAILTO:recadmin@srda-rec.com
END:VEVENT
END:VCALENDAR